Workbook
Name Accessories_BS_Total: Accessories!$BO$14:$BO$16
Name Accessories_CH_Total: Accessories!$BN$25:$BO$37
Name Accessories_Crux_Total: Accessories!$BO$23
Name Accessories_Lapis_Total: Accessories!$BO$6:$BO$12
Name Accessories_Squadra_Total: Accessories!$BO$18:$BO$21
Name Countries: Currency!$B$2:$B$12
Name Currencies: Currency!$B$2:$E$12
Name Currency: Currency!$H$2
Name CurrencySelected: Currency!$K$1
Name ExchangeRoundUpTo: Currency!$H$3
Name ExchRate: Currency!$H$1
Name ExchRateRoundUpTo: Currency!$H$3
Name OrderFormType: Currency!$M$2
Name rr: '[1]Summary '!$M$8
Name Total_cost_per_kg: 'Summary '!$M$8

Sheet Summary 
I1: Version
I2: 40
E7: Discount % | F7: Discount | G7: Total | H7: Sets | I7: Holds
A8: Axis Holds | C8: =SUMIF(Axis!D6:D80,"Holds*",Axis!BO6:BO80) -> 0 | E8: 0 | F8: =C8*E8/100 -> 0 | G8: =C8-F8 -> 0 | H8: =SUMIF(Axis!D6:D80,"Holds*",Axis!BP6:BP80) -> 0 | I8: =SUMIF(Axis!D6:D80,"Holds*",Axis!BQ6:BQ80) -> 0
A9: Axis Macros | C9: =SUMIF(Axis!D6:D80,"Macros*",Axis!BO6:BO79) -> 0 | E9: 0 | F9: =C9*E9/100 -> 0 | G9: =C9-F9 -> 0 | H9: =SUMIF(Axis!D6:D80,"Macros*",Axis!BP6:BP80) -> 0 | I9: =SUMIF(Axis!D6:D80,"Macros*",Axis!BQ6:BQ80) -> 0
A10: Axis Volumes | C10: =SUMIF(Axis!D6:D80,"Volumes*",Axis!BO6:BO80) -> 0 | E10: 0 | F10: =C10*E10/100 -> 0 | G10: =C10-F10 -> 0 | H10: =SUMIF(Axis!D6:D80,"Volumes*",Axis!BP6:BP80) -> 0 | I10: =SUMIF(Axis!D6:D80,"Volumes*",Axis!BQ6:BQ80) -> 0
A11: Bleaustone Holds | C11: =SUM(SUMIF(Bleaustone!D6:D184,"Holds*",Bleaustone!BO6:BO184),Accessories_BS_Total) -> 0 | E11: 0 | F11: =C11*E11/100 -> 0 | G11: =C11-F11 -> 0 | H11: =SUMIF(Bleaustone!D6:D184,"Holds*",Bleaustone!BP6:BP184) -> 0 | I11: =SUMIF(Bleaustone!D6:D184,"Holds*",Bleaustone!BQ6:BQ184) -> 0
A12: Bleaustone Macros | C12: =SUMIF(Bleaustone!D6:D184,"Macros*",Bleaustone!BO6:BO184) -> 0 | E12: 0 | F12: =C12*E12/100 -> 0 | G12: =C12-F12 -> 0 | H12: =SUMIF(Bleaustone!D6:D184,"Macros*",Bleaustone!BP6:BP184) -> 0 | I12: =SUMIF(Bleaustone!D6:D184,"Macros*",Bleaustone!BQ6:BQ184) -> 0
A13: Lapis Holds | C13: =SUM(SUMIF(Lapis!D6:D283,"Holds*",Lapis!BO6:BO283),Accessories_Lapis_Total) -> 0 | E13: 0 | F13: =C13*E13/100 -> 0 | G13: =C13-F13 -> 0 | H13: =SUMIF(Lapis!D6:D283,"Holds*",Lapis!BP6:BP283) -> 0 | I13: =SUMIF(Lapis!D6:D283,"Holds*",Lapis!BQ6:BQ283) -> 0
A14: Lapis Macros | C14: =SUMIF(Lapis!D6:D283,"Macros*",Lapis!BO6:BO283) -> 0 | E14: 0 | F14: =C14*E14/100 -> 0 | G14: =C14-F14 -> 0 | H14: =SUMIF(Lapis!D6:D283,"Macros*",Lapis!BP6:BP283) -> 0 | I14: =SUMIF(Lapis!D6:D283,"Macros*",Lapis!BQ6:BQ283) -> 0
A15: Lapis Volumes | C15: =SUMIF(Lapis!D6:D283,"Volumes*",Lapis!BO6:BO283) -> 0 | E15: 0 | F15: =C15*E15/100 -> 0 | G15: =C15-F15 -> 0 | H15: =SUMIF(Lapis!D6:D283,"Volumes*",Lapis!BP6:BP283) -> 0 | I15: =SUMIF(Lapis!D6:D283,"Volumes*",Lapis!BQ6:BQ283) -> 0
A16: 23Holds Holds | C16: =SUMIF('23Holds'!D5:D70,"Holds*",'23Holds'!BO5:BO70) -> 0 | E16: 0 | F16: =C16*E16/100 -> 0 | G16: =C16-F16 -> 0 | H16: =SUMIF('23Holds'!D5:D70,"Holds*",'23Holds'!BP5:BP70) -> 0 | I16: =SUMIF('23Holds'!D5:D70,"Holds*",'23Holds'!BQ5:BQ70) -> 0
A17: 23Holds Macros | C17: =SUMIF('23Holds'!D6:D82,"Macros*",'23Holds'!BO6:BO82) -> 0 | E17: 0 | F17: =C17*E17/100 -> 0 | G17: =C17-F17 -> 0 | H17: =SUMIF('23Holds'!D6:D82,"Macros*",'23Holds'!BP6:BP82) -> 0 | I17: =SUMIF('23Holds'!D6:D82,"Macros*",'23Holds'!BQ6:BQ82) -> 0
A18: Crux Holds | C18: =SUM(SUMIF(Crux!D5:D36,"Holds*",Crux!BO5:BO36),Accessories_Crux_Total) -> 0 | E18: 0 | F18: =C18*E18/100 -> 0 | G18: =C18-F18 -> 0 | H18: =SUMIF(Crux!D5:D36,"Holds*",Crux!BP5:BP36) -> 0 | I18: =SUMIF(Crux!D5:D36,"Holds*",Crux!BQ5:BQ36) -> 0
A19: Crux Macros | C19: =SUM(SUMIF(Crux!D6:D36,"Macros*",Crux!BO6:BO36),) -> 0 | E19: 0 | F19: =C19*E19/100 -> 0 | G19: =C19-F19 -> 0 | H19: =SUMIF(Crux!D6:D36,"Macros*",Crux!BP6:BP36) -> 0 | I19: =SUMIF(Crux!D6:D36,"Macros*",Crux!BQ6:BQ36) -> 0
A20: Squadra Holds | C20: =SUM(SUMIF(Squadra!D6:D150,"Holds*",Squadra!BO6:BO150),Accessories_Squadra_Total) -> 0 | E20: 0 | F20: =C20*E20/100 -> 0 | G20: =C20-F20 -> 0 | H20: =SUMIF(Squadra!D6:D150,"Holds*",Squadra!BP6:BP150) -> 0 | I20: =SUMIF(Squadra!D6:D150,"Holds*",Squadra!BQ6:BQ150) -> 0
A21: Squadra Macros | C21: =SUMIF(Squadra!D6:D150,"Macros*",Squadra!BO6:BO150) -> 0 | E21: 0 | F21: =C21*E21/100 -> 0 | G21: =C21-F21 -> 0 | H21: =SUMIF(Squadra!D6:D150,"Macros*",Squadra!BP6:BP150) -> 0 | I21: =SUMIF(Squadra!D6:D150,"Macros*",Squadra!BQ6:BQ150) -> 0
A22: Squadra Volumes | C22: =SUMIF(Squadra!D6:D150,"Volumes*",Squadra!BO6:BO150) -> 0 | E22: 0 | F22: =C22*E22/100 -> 0 | G22: =C22-F22 -> 0 | H22: =SUMIF(Squadra!D6:D150,"Volumes*",Squadra!BP6:BP150) -> 0 | I22: =SUMIF(Squadra!D6:D150,"Volumes*",Squadra!BQ6:BQ150) -> 0
A23: Playstone Holds | C23: =SUMIF(Playstone!D6:D51,"Holds*",Playstone!BO6:BO51) -> 0 | E23: 0 | F23: =C23*E23/100 -> 0 | G23: =C23-F23 -> 0 | H23: =SUMIF(Playstone!D6:D51,"Holds*",Playstone!BP6:BP51) -> 0 | I23: =SUMIF(Playstone!D6:D36,"Holds*",Playstone!BQ6:BQ36) -> 0
A24: Playstone Volumes | C24: =SUMIF(Playstone!D6:D51,"Volumes*",Playstone!BO6:BO51) -> 0 | E24: 0 | F24: =C24*E24/100 -> 0 | G24: =C24-F24 -> 0 | H24: =SUMIF(Playstone!D6:D51,"Volumes*",Playstone!BP6:BP51) -> 0 | I24: =SUMIF(Playstone!D6:D51,"Volumes*",Playstone!BQ6:BQ51) -> 0
A25: Reset Holds | C25: =SUMIF(Reset!D6:D20,"Holds*",Reset!BO6:BO20) -> 0 | E25: 0 | F25: =C25*E25/100 -> 0 | G25: =C25-F25 -> 0 | H25: =SUMIF(Reset!D6:D20,"Holds*",Reset!BP6:BP20) -> 0 | I25: =SUMIF(Reset!D6:D20,"Holds*",Reset!BQ6:BQ20) -> 0
A26: Reset Macros | C26: =SUMIF(Reset!D6:D20,"Macros*",Reset!BO6:BO20) -> 0 | E26: 0 | F26: =C26*E26/100 -> 0 | G26: =C26-F26 -> 0 | H26: =SUMIF(Reset!D6:D20,"Macros*",Reset!BP6:BP20) -> 0 | I26: =SUMIF(Reset!D6:D20,"Macros*",Reset!BQ6:BQ20) -> 0
A27: Reset Volumes | C27: =SUMIF(Reset!D6:D20,"Volumes*",Reset!BO6:BO20) -> 0 | E27: 0 | F27: =C27*E27/100 -> 0 | G27: =C27-F27 -> 0 | H27: =SUMIF(Reset!D6:D20,"Volumes*",Reset!BP6:BP20) -> 0 | I27: =SUMIF(Reset!D6:D20,"Volumes*",Reset!BQ6:BQ20) -> 0
A28: Climb Hold Accessories | C28: =SUM(Accessories_CH_Total) -> 0 | E28: 0 | F28: =C28*E28/100 -> 0 | G28: =C28-F28 -> 0 | H28: 0 | I28: 0
A29: Total exc. VAT | G29: =SUM(G8:G28) -> 0
A31: VAT % | B31: 19 | G31: =G29*B31/100 -> 0
A33: Total | G33: =SUM(G29:G32) -> 0
A34: Order date:
A35: Delivery date:
A36: Purchase order nr.:
A37: Delivery address:

Sheet Axis
A1: SKU | B1: Category | D1: Hold Type | E1: NEW | F1: Grip Type | G1: Size | H1: Positivity | I1: Style | J1: Climbing ability | K1: Climbing style | L1: Haptics | M1: Weight kg | N1: Holds Set | O1: Texture | P1: Plain | Q1: Standard Colour | AD1: Sets | AE1: Holds | AN1: RRP | AR1: WP in EUR | AV1: Price without Percent | AW1: Price | AX1: Fluoresz. Colour | BC1: Sets | BD1: Holds | BE1: Price | BF1: Custom RAL | BG1: Holds | BH1: Price | BI1: Dual Colour | BJ1: Holds | BK1: Price | BL1: Trans-lucent Colour | BM1: Holds | BN1: Price | BO1: Total | BP1: Sets | BQ1: Holds | BR1: ID
N2: Colour | Q2: red | R2: blue | S2: yellow | T2: green | U2: black | V2: white | W2: grey | X2: mint | Y2: purple | Z2: orange | AA2: brown | AX2: pink | AY2: green | AZ2: yellow | BA2: violett | BB2: orange
N3: RAL | Q3: 3000 | R3: 5015 | S3: 1023 | T3: 6029 | U3: 9005 | V3: 9003 | W3: 7004 | X3: 6027 | Y3: 4005 | Z3: 2011 | AA3: 8003 | AB3: 2004 | AC3: 4008
N4: Aragon | Q4: 11-12 | R4: 13-14 | S4: 15-12 | T4: 16-24 | U4: 18-01 | V4: 12-01 | X4: 13-27 | Y4: 17-18 | Z4: 14-06 | AC4: 17-21 | AX4: 11-25 | AY4: 16-29 | BB4: 14-11
Q5: =SUMPRODUCT(Q6:Q80,$N6:$N80) -> 0 | R5: =SUMPRODUCT(R6:R80,$N6:$N80) -> 0 | S5: =SUMPRODUCT(S6:S80,$N6:$N80) -> 0 | T5: =SUMPRODUCT(T6:T80,$N6:$N80) -> 0 | U5: =SUMPRODUCT(U6:U80,$N6:$N80) -> 0 | V5: =SUMPRODUCT(V6:V80,$N6:$N80) -> 0 | W5: =SUMPRODUCT(W6:W80,$N6:$N80) -> 0 | X5: =SUMPRODUCT(X6:X80,$N6:$N80) -> 0 | ... AC5: =SUMPRODUCT(AC6:AC80,$N6:$N80) -> 0 | AD5: =SUM(AD6:AD80) -> 0 | AE5: =SUM(AE6:AE80) -> 0 | AX5: =SUMPRODUCT(AX6:AX80,$N6:$N80) -> 0 | AY5: =SUMPRODUCT(AY6:AY80,$N6:$N80) -> 0 | AZ5: =SUMPRODUCT(AZ6:AZ80,$N6:$N80) -> 0 | BA5: =SUMPRODUCT(BA6:BA80,$N6:$N80) -> 0 | BB5: =SUMPRODUCT(BB6:BB80,$N6:$N80) -> 0 | BC5: =SUM(BC6:BC80) -> 0 | BD5: =SUM(BD6:BD80) -> 0 | BF5: =SUMPRODUCT(BF6:BF80,$N6:$N80) -> 0 | BG5: =SUM(BG6:BG80) -> 0 | BI5: =SUMPRODUCT(BI6:BI80,$N6:$N80) -> 0 | BJ5: =SUM(BJ6:BJ80) -> 0 | BL5: =SUMPRODUCT(BL6:BL80,$N6:$N80) -> 0 | BM5: =SUM(BM6:BM80) -> 0 | BO5: =SUM(BO6:BO80) -> 0 | BP5: =SUM(BP6:BP80) -> 0 | BQ5: =SUM(BQ6:BQ80) -> 0 | BR5: =ROWS(BR6:BR80) -> 75
C7: Easy Riders PU
A8: ="AX1"&REPT(0,4-LEN(BR8))&BR8 -> AX12198 | B8: Easy Riders PU | C8: Easy Rider PU 01 | D8: Holds,PU | F8: Footholds,Screw-ons | G8: Footholds | H8: Negative | I8: Classic | J8: Advanced Beginner,Intermediate,Expert | K8: Bouldering,Lead | L8: Medium | M8: 0.4536 | N8: 15 | AD8: =SUM(Q8:AC8) -> 0 | AE8: =N8*AD8 -> 0 | AN8: 159 | AR8: 129 | AV8: =IF(OrderFormType="Wholesale",CEILING(AR8*ExchRate,ExchRateRoundUpTo),CEILING(AN8*ExchRate,ExchRateRoundUpTo)/1.22) -> 129 | AW8: =AV8*(1+AO8+AP8) -> 129 | BC8: =SUM(AX8:BB8) -> 0 | BD8: =N8*BC8 -> 0 | BE8: =AV8*(1+AO8+AP8) -> 129 | BG8: =$N8*BF8 -> 0 | BH8: =$AV8*(1.1+$AO8+$AP8) -> 141.9 | BJ8: =N8*BI8 -> 0 | BK8: =AV8*(1.15+AO8+AP8) -> 148.35 | BM8: =N8*BL8 -> 0 | BN8: =AV8*(1.2+AO8+AP8) -> 154.8 | BO8: =(AD8*AW8)+(BC8*BE8)+(BF8*BH8)+(BI8*BK8)+(BL8*BN8) -> 0 | BP8: =AD8+BC8+BF8+BI8+BL8 -> 0 | BQ8: =N8*BP8 -> 0 | BR8: 2198
A9: ="AX1"&REPT(0,4-LEN(BR9))&BR9 -> AX12199 | B9: Easy Riders PU | C9: Easy Rider PU 02 | D9: Holds,PU | F9: Footholds,Screw-ons | G9: Footholds | H9: Flat,Positive | I9: Classic | J9: Advanced Beginner,Intermediate,Expert | K9: Bouldering,Lead | L9: Medium | M9: 0.72576 | N9: 15 | AD9: =SUM(Q9:AC9) -> 0 | AE9: =N9*AD9 -> 0 | AN9: 179 | AR9: 144 | AV9: =IF(OrderFormType="Wholesale",CEILING(AR9*ExchRate,ExchRateRoundUpTo),CEILING(AN9*ExchRate,ExchRateRoundUpTo)/1.22) -> 144 | AW9: =AV9*(1+AO9+AP9) -> 144 | BC9: =SUM(AX9:BB9) -> 0 | BD9: =N9*BC9 -> 0 | BE9: =AV9*(1+AO9+AP9) -> 144 | BG9: =$N9*BF9 -> 0 | BH9: =$AV9*(1.1+$AO9+$AP9) -> 158.4 | BJ9: =N9*BI9 -> 0 | BK9: =AV9*(1.15+AO9+AP9) -> 165.6 | BM9: =N9*BL9 -> 0 | BN9: =AV9*(1.2+AO9+AP9) -> 172.8 | BO9: =(AD9*AW9)+(BC9*BE9)+(BF9*BH9)+(BI9*BK9)+(BL9*BN9) -> 0 | BP9: =AD9+BC9+BF9+BI9+BL9 -> 0 | BQ9: =N9*BP9 -> 0 | BR9: 2199
A10: ="AX1"&REPT(0,4-LEN(BR10))&BR10 -> AX12200 | B10: Easy Riders PU | C10: Easy Rider PU 03 | D10: Holds,PU | F10: Footholds,Crimps,Screw-ons | G10: Mini | H10: Flat | I10: Classic | J10: Advanced Beginner,Intermediate,Expert | K10: Bouldering,Lead | L10: Medium | M10: 1.38348 | N10: 15 | AD10: =SUM(Q10:AC10) -> 0 | AE10: =N10*AD10 -> 0 | AN10: 224 | AR10: 184 | AV10: =IF(OrderFormType="Wholesale",CEILING(AR10*ExchRate,ExchRateRoundUpTo),CEILING(AN10*ExchRate,ExchRateRoundUpTo)/1.22) -> 184 | AW10: =AV10*(1+AO10+AP10) -> 184 | BC10: =SUM(AX10:BB10) -> 0 | BD10: =N10*BC10 -> 0 | BE10: =AV10*(1+AO10+AP10) -> 184 | BG10: =$N10*BF10 -> 0 | BH10: =$AV10*(1.1+$AO10+$AP10) -> 202.4 | BJ10: =N10*BI10 -> 0 | BK10: =AV10*(1.15+AO10+AP10) -> 211.6 | BM10: =N10*BL10 -> 0 | BN10: =AV10*(1.2+AO10+AP10) -> 220.8 | BO10: =(AD10*AW10)+(BC10*BE10)+(BF10*BH10)+(BI10*BK10)+(BL10*BN10) -> 0 | BP10: =AD10+BC10+BF10+BI10+BL10 -> 0 | BQ10: =N10*BP10 -> 0 | BR10: 2200
A11: ="AX1"&REPT(0,4-LEN(BR11))&BR11 -> AX12249 | B11: Easy Riders PU | C11: Easy Rider PU 04 | D11: Holds,PU | F11: Crimps,Screw-ons,Open-Handed | G11: Standard | H11: Flat | I11: Classic | J11: Advanced Beginner,Intermediate,Expert | K11: Bouldering,Lead | L11: Medium | M11: 2.5855 | N11: 5 | AD11: =SUM(Q11:AC11) -> 0 | AE11: =N11*AD11 -> 0 | AN11: 269 | AR11: 219 | AV11: =IF(OrderFormType="Wholesale",CEILING(AR11*ExchRate,ExchRateRoundUpTo),CEILING(AN11*ExchRate,ExchRateRoundUpTo)/1.22) -> 219 | AW11: =AV11*(1+AO11+AP11) -> 219 | BC11: =SUM(AX11:BB11) -> 0 | BD11: =N11*BC11 -> 0 | BE11: =AV11*(1+AO11+AP11) -> 219 | BG11: =$N11*BF11 -> 0 | BH11: =$AV11*(1.1+$AO11+$AP11) -> 240.9 | BJ11: =N11*BI11 -> 0 | BK11: =AV11*(1.15+AO11+AP11) -> 251.85 | BM11: =N11*BL11 -> 0 | BN11: =AV11*(1.2+AO11+AP11) -> 262.8 | BO11: =(AD11*AW11)+(BC11*BE11)+(BF11*BH11)+(BI11*BK11)+(BL11*BN11) -> 0 | BP11: =AD11+BC11+BF11+BI11+BL11 -> 0 | BQ11: =N11*BP11 -> 0 | BR11: 2249
A12: ="AX1"&REPT(0,4-LEN(BR12))&BR12 -> AX12185 | B12: Easy Riders PU | C12: Easy Rider PU 05 | D12: Holds,PU | F12: Footholds | G12: Footholds | H12: Positive | I12: Classic | J12: Advanced Beginner,Intermediate,Expert | K12: Bouldering,Lead | L12: Medium | M12: 1.1793392 | N12: 15 | AD12: =SUM(Q12:AC12) -> 0 | AE12: =N12*AD12 -> 0 | AN12: 219 | AR12: 179 | AV12: =IF(OrderFormType="Wholesale",CEILING(AR12*ExchRate,ExchRateRoundUpTo),CEILING(AN12*ExchRate,ExchRateRoundUpTo)/1.22) -> 179 | AW12: =AV12*(1+AO12+AP12) -> 179 | BC12: =SUM(AX12:BB12) -> 0 | BD12: =N12*BC12 -> 0 | BE12: =AV12*(1+AO12+AP12) -> 179 | BG12: =$N12*BF12 -> 0 | BH12: =$AV12*(1.1+$AO12+$AP12) -> 196.9 | BJ12: =N12*BI12 -> 0 | BK12: =AV12*(1.15+AO12+AP12) -> 205.85 | BM12: =N12*BL12 -> 0 | BN12: =AV12*(1.2+AO12+AP12) -> 214.8 | BO12: =(AD12*AW12)+(BC12*BE12)+(BF12*BH12)+(BI12*BK12)+(BL12*BN12) -> 0 | BP12: =AD12+BC12+BF12+BI12+BL12 -> 0 | BQ12: =N12*BP12 -> 0 | BR12: 2185
A13: ="AX1"&REPT(0,4-LEN(BR13))&BR13 -> AX12201 | B13: Easy Riders PU | C13: Easy Rider PU 06 | D13: Holds,PU | F13: Crimps,Open-Handed | G13: Footholds | H13: Negative | I13: Classic | J13: Advanced Beginner,Intermediate,Expert | K13: Bouldering,Lead | L13: Medium | M13: 1.51956 | N13: 15 | AD13: =SUM(Q13:AC13) -> 0 | AE13: =N13*AD13 -> 0 | AN13: 239 | AR13: 194 | AV13: =IF(OrderFormType="Wholesale",CEILING(AR13*ExchRate,ExchRateRoundUpTo),CEILING(AN13*ExchRate,ExchRateRoundUpTo)/1.22) -> 194 | AW13: =AV13*(1+AO13+AP13) -> 194 | BC13: =SUM(AX13:BB13) -> 0 | BD13: =N13*BC13 -> 0 | BE13: =AV13*(1+AO13+AP13) -> 194 | BG13: =$N13*BF13 -> 0 | BH13: =$AV13*(1.1+$AO13+$AP13) -> 213.4 | BJ13: =N13*BI13 -> 0 | BK13: =AV13*(1.15+AO13+AP13) -> 223.1 | BM13: =N13*BL13 -> 0 | BN13: =AV13*(1.2+AO13+AP13) -> 232.8 | BO13: =(AD13*AW13)+(BC13*BE13)+(BF13*BH13)+(BI13*BK13)+(BL13*BN13) -> 0 | BP13: =AD13+BC13+BF13+BI13+BL13 -> 0 | BQ13: =N13*BP13 -> 0 | BR13: 2201
A14: ="AX1"&REPT(0,4-LEN(BR14))&BR14 -> AX12207 | B14: Easy Riders PU | C14: Easy Rider PU 07 | D14: Holds,PU | F14: Jugs | G14: Mini | H14: Positive | I14: Classic | J14: Advanced Beginner,Intermediate,Expert | K14: Bouldering,Lead | L14: Medium | M14: 1.72368 | N14: 12 | AD14: =SUM(Q14:AC14) -> 0 | AE14: =N14*AD14 -> 0 | AN14: 239 | AR14: 194 | AV14: =IF(OrderFormType="Wholesale",CEILING(AR14*ExchRate,ExchRateRoundUpTo),CEILING(AN14*ExchRate,ExchRateRoundUpTo)/1.22) -> 194 | AW14: =AV14*(1+AO14+AP14) -> 194 | BC14: =SUM(AX14:BB14) -> 0 | BD14: =N14*BC14 -> 0 | BE14: =AV14*(1+AO14+AP14) -> 194 | BG14: =$N14*BF14 -> 0 | BH14: =$AV14*(1.1+$AO14+$AP14) -> 213.4 | BJ14: =N14*BI14 -> 0 | BK14: =AV14*(1.15+AO14+AP14) -> 223.1 | BM14: =N14*BL14 -> 0 | BN14: =AV14*(1.2+AO14+AP14) -> 232.8 | BO14: =(AD14*AW14)+(BC14*BE14)+(BF14*BH14)+(BI14*BK14)+(BL14*BN14) -> 0 | BP14: =AD14+BC14+BF14+BI14+BL14 -> 0 | BQ14: =N14*BP14 -> 0 | BR14: 2207
A15: ="AX1"&REPT(0,4-LEN(BR15))&BR15 -> AX12186 | B15: Easy Riders PU | C15: Easy Rider PU 08 | D15: Holds,PU | F15: Crimps | G15: Mini | H15: Positive | I15: Classic | J15: Advanced Beginner,Intermediate,Expert | K15: Bouldering,Lead | L15: Medium | M15: 1.6556108 | N15: 10 | AD15: =SUM(Q15:AC15) -> 0 | AE15: =N15*AD15 -> 0 | AN15: 234 | AR15: 189 | AV15: =IF(OrderFormType="Wholesale",CEILING(AR15*ExchRate,ExchRateRoundUpTo),CEILING(AN15*ExchRate,ExchRateRoundUpTo)/1.22) -> 189 | AW15: =AV15*(1+AO15+AP15) -> 189 | BC15: =SUM(AX15:BB15) -> 0 | BD15: =N15*BC15 -> 0 | BE15: =AV15*(1+AO15+AP15) -> 189 | BG15: =$N15*BF15 -> 0 | BH15: =$AV15*(1.1+$AO15+$AP15) -> 207.9 | BJ15: =N15*BI15 -> 0 | BK15: =AV15*(1.15+AO15+AP15) -> 217.35 | BM15: =N15*BL15 -> 0 | BN15: =AV15*(1.2+AO15+AP15) -> 226.8 | BO15: =(AD15*AW15)+(BC15*BE15)+(BF15*BH15)+(BI15*BK15)+(BL15*BN15) -> 0 | BP15: =AD15+BC15+BF15+BI15+BL15 -> 0 | BQ15: =N15*BP15 -> 0 | BR15: 2186
A16: ="AX1"&REPT(0,4-LEN(BR16))&BR16 -> AX12187 | B16: Easy Riders PU | C16: Easy Rider PU 09 | D16: Holds,PU | F16: Crimps,Edges | G16: Mini | H16: Flat,Positive | I16: Classic | J16: Advanced Beginner,Intermediate,Expert | K16: Bouldering,Lead | L16: Medium | M16: 2.494756 | N16: 10 | AD16: =SUM(Q16:AC16) -> 0 | AE16: =N16*AD16 -> 0 | AN16: 299 | AR16: 244 | AV16: =IF(OrderFormType="Wholesale",CEILING(AR16*ExchRate,ExchRateRoundUpTo),CEILING(AN16*ExchRate,ExchRateRoundUpTo)/1.22) -> 244 | AW16: =AV16*(1+AO16+AP16) -> 244 | BC16: =SUM(AX16:BB16) -> 0 | BD16: =N16*BC16 -> 0 | BE16: =AV16*(1+AO16+AP16) -> 244 | BG16: =$N16*BF16 -> 0 | BH16: =$AV16*(1.1+$AO16+$AP16) -> 268.4 | BJ16: =N16*BI16 -> 0 | BK16: =AV16*(1.15+AO16+AP16) -> 280.6 | BM16: =N16*BL16 -> 0 | BN16: =AV16*(1.2+AO16+AP16) -> 292.8 | BO16: =(AD16*AW16)+(BC16*BE16)+(BF16*BH16)+(BI16*BK16)+(BL16*BN16) -> 0 | BP16: =AD16+BC16+BF16+BI16+BL16 -> 0 | BQ16: =N16*BP16 -> 0 | BR16: 2187
A17: ="AX1"&REPT(0,4-LEN(BR17))&BR17 -> AX12240 | B17: Easy Riders PU | C17: Easy Rider PU 10 | D17: Holds,PU | F17: Edges | G17: Standard | H17: Positive | I17: Classic | J17: Advanced Beginner,Intermediate,Expert | K17: Bouldering,Lead | L17: Medium | M17: 2.5628 | N17: 5 | AD17: =SUM(Q17:AC17) -> 0 | AE17: =N17*AD17 -> 0 | AN17: 294 | AR17: 239 | AV17: =IF(OrderFormType="Wholesale",CEILING(AR17*ExchRate,ExchRateRoundUpTo),CEILING(AN17*ExchRate,ExchRateRoundUpTo)/1.22) -> 239 | AW17: =AV17*(1+AO17+AP17) -> 239 | BC17: =SUM(AX17:BB17) -> 0 | BD17: =N17*BC17 -> 0 | BE17: =AV17*(1+AO17+AP17) -> 239 | BG17: =$N17*BF17 -> 0 | BH17: =$AV17*(1.1+$AO17+$AP17) -> 262.9 | BJ17: =N17*BI17 -> 0 | BK17: =AV17*(1.15+AO17+AP17) -> 274.85 | BM17: =N17*BL17 -> 0 | BN17: =AV17*(1.2+AO17+AP17) -> 286.8 | BO17: =(AD17*AW17)+(BC17*BE17)+(BF17*BH17)+(BI17*BK17)+(BL17*BN17) -> 0 | BP17: =AD17+BC17+BF17+BI17+BL17 -> 0 | BQ17: =N17*BP17 -> 0 | BR17: 2240
A18: ="AX1"&REPT(0,4-LEN(BR18))&BR18 -> AX12241 | B18: Easy Riders PU | C18: Easy Rider PU 11 | D18: Holds,PU | F18: Edges,Open-Handed | G18: Standard | H18: Flat | I18: Classic | J18: Advanced Beginner,Intermediate,Expert | K18: Bouldering,Lead | L18: Medium | M18: 1.7917 | N18: 4 | AD18: =SUM(Q18:AC18) -> 0 | AE18: =N18*AD18 -> 0 | AN18: 234 | AR18: 189 | AV18: =IF(OrderFormType="Wholesale",CEILING(AR18*ExchRate,ExchRateRoundUpTo),CEILING(AN18*ExchRate,ExchRateRoundUpTo)/1.22) -> 189 | AW18: =AV18*(1+AO18+AP18) -> 189 | BC18: =SUM(AX18:BB18) -> 0 | BD18: =N18*BC18 -> 0 | BE18: =AV18*(1+AO18+AP18) -> 189 | BG18: =$N18*BF18 -> 0 | BH18: =$AV18*(1.1+$AO18+$AP18) -> 207.9 | BJ18: =N18*BI18 -> 0 | BK18: =AV18*(1.15+AO18+AP18) -> 217.35 | BM18: =N18*BL18 -> 0 | BN18: =AV18*(1.2+AO18+AP18) -> 226.8 | BO18: =(AD18*AW18)+(BC18*BE18)+(BF18*BH18)+(BI18*BK18)+(BL18*BN18) -> 0 | BP18: =AD18+BC18+BF18+BI18+BL18 -> 0 | BQ18: =N18*BP18 -> 0 | BR18: 2241
A19: ="AX1"&REPT(0,4-LEN(BR19))&BR19 -> AX12242 | B19: Easy Riders PU | C19: Easy Rider PU 12 | D19: Holds,PU | F19: Edges | G19: Standard | H19: Positive | I19: Classic | J19: Advanced Beginner,Intermediate,Expert | K19: Bouldering,Lead | L19: Medium | M19: 3.039 | N19: 5 | AD19: =SUM(Q19:AC19) -> 0 | AE19: =N19*AD19 -> 0 | AN19: 334 | AR19: 274 | AV19: =IF(OrderFormType="Wholesale",CEILING(AR19*ExchRate,ExchRateRoundUpTo),CEILING(AN19*ExchRate,ExchRateRoundUpTo)/1.22) -> 274 | AW19: =AV19*(1+AO19+AP19) -> 274 | BC19: =SUM(AX19:BB19) -> 0 | BD19: =N19*BC19 -> 0 | BE19: =AV19*(1+AO19+AP19) -> 274 | BG19: =$N19*BF19 -> 0 | BH19: =$AV19*(1.1+$AO19+$AP19) -> 301.4 | BJ19: =N19*BI19 -> 0 | BK19: =AV19*(1.15+AO19+AP19) -> 315.1 | BM19: =N19*BL19 -> 0 | BN19: =AV19*(1.2+AO19+AP19) -> 328.8 | BO19: =(AD19*AW19)+(BC19*BE19)+(BF19*BH19)+(BI19*BK19)+(BL19*BN19) -> 0 | BP19: =AD19+BC19+BF19+BI19+BL19 -> 0 | BQ19: =N19*BP19 -> 0 | BR19: 2242
... A57: ="AX1"&REPT(0,4-LEN(BR57))&BR57 -> AX12192 | B57: Easy Riders PU | C57: Easy Rider PU 50 | D57: Holds,PU | F57: Edges,Open-Handed | G57: Giga | H57: Positive | I57: Classic | J57: Advanced Beginner,Intermediate,Expert | K57: Bouldering,Lead | L57: Medium | M57: 1.6782904 | N57: 1 | AD57: =SUM(Q57:AC57) -> 0 | AE57: =N57*AD57 -> 0 | AN57: 194 | AR57: 159 | AV57: =IF(OrderFormType="Wholesale",CEILING(AR57*ExchRate,ExchRateRoundUpTo),CEILING(AN57*ExchRate,ExchRateRoundUpTo)/1.22) -> 159 | AW57: =AV57*(1+AO57+AP57) -> 159 | BC57: =SUM(AX57:BB57) -> 0 | BD57: =N57*BC57 -> 0 | BE57: =AV57*(1+AO57+AP57) -> 159 | BG57: =$N57*BF57 -> 0 | BH57: =$AV57*(1.1+$AO57+$AP57) -> 174.9 | BJ57: =N57*BI57 -> 0 | BK57: =AV57*(1.15+AO57+AP57) -> 182.85 | BM57: =N57*BL57 -> 0 | BN57: =AV57*(1.2+AO57+AP57) -> 190.8 | BO57: =(AD57*AW57)+(BC57*BE57)+(BF57*BH57)+(BI57*BK57)+(BL57*BN57) -> 0 | BP57: =AD57+BC57+BF57+BI57+BL57 -> 0 | BQ57: =N57*BP57 -> 0 | BR57: 2192
C58: Fins PU
A59: ="AX1"&REPT(0,4-LEN(BR59))&BR59 -> AX12557 | B59: Fins PU | C59: Fins PU 01 | D59: Holds,PU | F59: Footholds | G59: Footholds | H59: Flat | I59: Classic | J59: Advanced Beginner,Intermediate,Expert | K59: Bouldering,Lead | L59: Medium | M59: 1.13398 | N59: 15 | AD59: =SUM(Q59:AC59) -> 0 | AE59: =N59*AD59 -> 0 | AN59: 234 | AR59: 189 | AV59: =IF(OrderFormType="Wholesale",CEILING(AR59*ExchRate,ExchRateRoundUpTo),CEILING(AN59*ExchRate,ExchRateRoundUpTo)/1.22) -> 189 | AW59: =AV59*(1+AO59+AP59) -> 189 | BC59: =SUM(AX59:BB59) -> 0 | BD59: =N59*BC59 -> 0 | BE59: =AV59*(1+AO59+AP59) -> 189 | BG59: =$N59*BF59 -> 0 | BH59: =$AV59*(1.1+$AO59+$AP59) -> 207.9 | BJ59: =N59*BI59 -> 0 | BK59: =AV59*(1.15+AO59+AP59) -> 217.35 | BM59: =N59*BL59 -> 0 | BN59: =AV59*(1.2+AO59+AP59) -> 226.8 | BO59: =(AD59*AW59)+(BC59*BE59)+(BF59*BH59)+(BI59*BK59)+(BL59*BN59) -> 0 | BP59: =AD59+BC59+BF59+BI59+BL59 -> 0 | BQ59: =N59*BP59 -> 0 | BR59: 2557
A60: ="AX1"&REPT(0,4-LEN(BR60))&BR60 -> AX12558 | B60: Fins PU | C60: Fins PU 02 | D60: Holds,PU | F60: Screw-ons,Crimps | G60: Mini | H60: Flat | I60: Classic | J60: Advanced Beginner,Intermediate,Expert | K60: Bouldering,Lead | L60: Medium | M60: 0.7484 | N60: 10 | AD60: =SUM(Q60:AC60) -> 0 | AE60: =N60*AD60 -> 0 | AN60: 179 | AR60: 144 | AV60: =IF(OrderFormType="Wholesale",CEILING(AR60*ExchRate,ExchRateRoundUpTo),CEILING(AN60*ExchRate,ExchRateRoundUpTo)/1.22) -> 144 | AW60: =AV60*(1+AO60+AP60) -> 144 | BC60: =SUM(AX60:BB60) -> 0 | BD60: =N60*BC60 -> 0 | BE60: =AV60*(1+AO60+AP60) -> 144 | BG60: =$N60*BF60 -> 0 | BH60: =$AV60*(1.1+$AO60+$AP60) -> 158.4 | BJ60: =N60*BI60 -> 0 | BK60: =AV60*(1.15+AO60+AP60) -> 165.6 | BM60: =N60*BL60 -> 0 | BN60: =AV60*(1.2+AO60+AP60) -> 172.8 | BO60: =(AD60*AW60)+(BC60*BE60)+(BF60*BH60)+(BI60*BK60)+(BL60*BN60) -> 0 | BP60: =AD60+BC60+BF60+BI60+BL60 -> 0 | BQ60: =N60*BP60 -> 0 | BR60: 2558
A61: ="AX1"&REPT(0,4-LEN(BR61))&BR61 -> AX12559 | B61: Fins PU | C61: Fins PU 03 | D61: Holds,PU | F61: Screw-ons,Crimps | G61: Standard | H61: Positive | I61: Classic | J61: Advanced Beginner,Intermediate,Expert | K61: Bouldering,Lead | L61: Medium | M61: 1.0433 | N61: 5 | AD61: =SUM(Q61:AC61) -> 0 | AE61: =N61*AD61 -> 0 | AN61: 169 | AR61: 139 | AV61: =IF(OrderFormType="Wholesale",CEILING(AR61*ExchRate,ExchRateRoundUpTo),CEILING(AN61*ExchRate,ExchRateRoundUpTo)/1.22) -> 139 | AW61: =AV61*(1+AO61+AP61) -> 139 | BC61: =SUM(AX61:BB61) -> 0 | BD61: =N61*BC61 -> 0 | BE61: =AV61*(1+AO61+AP61) -> 139 | BG61: =$N61*BF61 -> 0 | BH61: =$AV61*(1.1+$AO61+$AP61) -> 152.9 | BJ61: =N61*BI61 -> 0 | BK61: =AV61*(1.15+AO61+AP61) -> 159.85 | BM61: =N61*BL61 -> 0 | BN61: =AV61*(1.2+AO61+AP61) -> 166.8 | BO61: =(AD61*AW61)+(BC61*BE61)+(BF61*BH61)+(BI61*BK61)+(BL61*BN61) -> 0 | BP61: =AD61+BC61+BF61+BI61+BL61 -> 0 | BQ61: =N61*BP61 -> 0 | BR61: 2559
A62: ="AX1"&REPT(0,4-LEN(BR62))&BR62 -> AX12560 | B62: Fins PU | C62: Fins PU 04 | D62: Holds,PU | F62: Incut,Crimps | G62: Standard | H62: Positive | I62: Classic | J62: Advanced Beginner,Intermediate,Expert | K62: Bouldering,Lead | L62: Medium | M62: 1.6329 | N62: 5 | AD62: =SUM(Q62:AC62) -> 0 | AE62: =N62*AD62 -> 0 | AN62: 219 | AR62: 179 | AV62: =IF(OrderFormType="Wholesale",CEILING(AR62*ExchRate,ExchRateRoundUpTo),CEILING(AN62*ExchRate,ExchRateRoundUpTo)/1.22) -> 179 | AW62: =AV62*(1+AO62+AP62) -> 179 | BC62: =SUM(AX62:BB62) -> 0 | BD62: =N62*BC62 -> 0 | BE62: =AV62*(1+AO62+AP62) -> 179 | BG62: =$N62*BF62 -> 0 | BH62: =$AV62*(1.1+$AO62+$AP62) -> 196.9 | BJ62: =N62*BI62 -> 0 | BK62: =AV62*(1.15+AO62+AP62) -> 205.85 | BM62: =N62*BL62 -> 0 | BN62: =AV62*(1.2+AO62+AP62) -> 214.8 | BO62: =(AD62*AW62)+(BC62*BE62)+(BF62*BH62)+(BI62*BK62)+(BL62*BN62) -> 0 | BP62: =AD62+BC62+BF62+BI62+BL62 -> 0 | BQ62: =N62*BP62 -> 0 | BR62: 2560
A63: ="AX1"&REPT(0,4-LEN(BR63))&BR63 -> AX12561 | B63: Fins PU | C63: Fins PU 05 | D63: Holds,PU | F63: Incut,Edges | G63: Standard | H63: Positive | I63: Classic | J63: Advanced Beginner,Intermediate,Expert | K63: Bouldering,Lead | L63: Medium | M63: 2.1092 | N63: 5 | AD63: =SUM(Q63:AC63) -> 0 | AE63: =N63*AD63 -> 0 | AN63: 254 | AR63: 209 | AV63: =IF(OrderFormType="Wholesale",CEILING(AR63*ExchRate,ExchRateRoundUpTo),CEILING(AN63*ExchRate,ExchRateRoundUpTo)/1.22) -> 209 | AW63: =AV63*(1+AO63+AP63) -> 209 | BC63: =SUM(AX63:BB63) -> 0 | BD63: =N63*BC63 -> 0 | BE63: =AV63*(1+AO63+AP63) -> 209 | BG63: =$N63*BF63 -> 0 | BH63: =$AV63*(1.1+$AO63+$AP63) -> 229.9 | BJ63: =N63*BI63 -> 0 | BK63: =AV63*(1.15+AO63+AP63) -> 240.35 | BM63: =N63*BL63 -> 0 | BN63: =AV63*(1.2+AO63+AP63) -> 250.8 | BO63: =(AD63*AW63)+(BC63*BE63)+(BF63*BH63)+(BI63*BK63)+(BL63*BN63) -> 0 | BP63: =AD63+BC63+BF63+BI63+BL63 -> 0 | BQ63: =N63*BP63 -> 0 | BR63: 2561
A64: ="AX1"&REPT(0,4-LEN(BR64))&BR64 -> AX12562 | B64: Fins PU | C64: Fins PU 06 | D64: Holds,PU | F64: Edges | G64: Mondo | H64: Positive | I64: Classic | J64: Advanced Beginner,Intermediate,Expert | K64: Bouldering,Lead | L64: Medium | M64: 1.8597 | N64: 3 | AD64: =SUM(Q64:AC64) -> 0 | AE64: =N64*AD64 -> 0 | AN64: 249 | AR64: 204 | AV64: =IF(OrderFormType="Wholesale",CEILING(AR64*ExchRate,ExchRateRoundUpTo),CEILING(AN64*ExchRate,ExchRateRoundUpTo)/1.22) -> 204 | AW64: =AV64*(1+AO64+AP64) -> 204 | BC64: =SUM(AX64:BB64) -> 0 | BD64: =N64*BC64 -> 0 | BE64: =AV64*(1+AO64+AP64) -> 204 | BG64: =$N64*BF64 -> 0 | BH64: =$AV64*(1.1+$AO64+$AP64) -> 224.4 | BJ64: =N64*BI64 -> 0 | BK64: =AV64*(1.15+AO64+AP64) -> 234.6 | BM64: =N64*BL64 -> 0 | BN64: =AV64*(1.2+AO64+AP64) -> 244.8 | BO64: =(AD64*AW64)+(BC64*BE64)+(BF64*BH64)+(BI64*BK64)+(BL64*BN64) -> 0 | BP64: =AD64+BC64+BF64+BI64+BL64 -> 0 | BQ64: =N64*BP64 -> 0 | BR64: 2562
A65: ="AX1"&REPT(0,4-LEN(BR65))&BR65 -> AX12563 | B65: Fins PU | C65: Fins PU 07 | D65: Holds,PU | F65: Screw-ons,Slopers | G65: Mondo | H65: Flat | I65: Classic | J65: Advanced Beginner,Intermediate,Expert | K65: Bouldering,Lead | L65: Medium | M65: 1.2927 | N65: 2 | AD65: =SUM(Q65:AC65) -> 0 | AE65: =N65*AD65 -> 0 | AN65: 189 | AR65: 154 | AV65: =IF(OrderFormType="Wholesale",CEILING(AR65*ExchRate,ExchRateRoundUpTo),CEILING(AN65*ExchRate,ExchRateRoundUpTo)/1.22) -> 154 | AW65: =AV65*(1+AO65+AP65) -> 154 | BC65: =SUM(AX65:BB65) -> 0 | BD65: =N65*BC65 -> 0 | BE65: =AV65*(1+AO65+AP65) -> 154 | BG65: =$N65*BF65 -> 0 | BH65: =$AV65*(1.1+$AO65+$AP65) -> 169.4 | BJ65: =N65*BI65 -> 0 | BK65: =AV65*(1.15+AO65+AP65) -> 177.1 | BM65: =N65*BL65 -> 0 | BN65: =AV65*(1.2+AO65+AP65) -> 184.8 | BO65: =(AD65*AW65)+(BC65*BE65)+(BF65*BH65)+(BI65*BK65)+(BL65*BN65) -> 0 | BP65: =AD65+BC65+BF65+BI65+BL65 -> 0 | BQ65: =N65*BP65 -> 0 | BR65: 2563
A66: ="AX1"&REPT(0,4-LEN(BR66))&BR66 -> AX12564 | B66: Fins PU | C66: Fins PU 08 | D66: Holds,PU | F66: Incut,Edges,Open-Handed | G66: Mondo | H66: Positive | I66: Classic | J66: Advanced Beginner,Intermediate,Expert | K66: Bouldering,Lead | L66: Medium | M66: 2.4721 | N66: 2 | AD66: =SUM(Q66:AC66) -> 0 | AE66: =N66*AD66 -> 0 | AN66: 299 | AR66: 244 | AV66: =IF(OrderFormType="Wholesale",CEILING(AR66*ExchRate,ExchRateRoundUpTo),CEILING(AN66*ExchRate,ExchRateRoundUpTo)/1.22) -> 244 | AW66: =AV66*(1+AO66+AP66) -> 244 | BC66: =SUM(AX66:BB66) -> 0 | BD66: =N66*BC66 -> 0 | BE66: =AV66*(1+AO66+AP66) -> 244 | BG66: =$N66*BF66 -> 0 | BH66: =$AV66*(1.1+$AO66+$AP66) -> 268.4 | BJ66: =N66*BI66 -> 0 | BK66: =AV66*(1.15+AO66+AP66) -> 280.6 | BM66: =N66*BL66 -> 0 | BN66: =AV66*(1.2+AO66+AP66) -> 292.8 | BO66: =(AD66*AW66)+(BC66*BE66)+(BF66*BH66)+(BI66*BK66)+(BL66*BN66) -> 0 | BP66: =AD66+BC66+BF66+BI66+BL66 -> 0 | BQ66: =N66*BP66 -> 0 | BR66: 2564
A67: ="AX1"&REPT(0,4-LEN(BR67))&BR67 -> AX12565 | B67: Fins PU | C67: Fins PU 09 | D67: Holds,PU | F67: Slopers,Open-Handed | G67: Mondo | H67: Flat | I67: Classic | J67: Advanced Beginner,Intermediate,Expert | K67: Bouldering,Lead | L67: Medium | M67: 1.673 | N67: 2 | AD67: =SUM(Q67:AC67) -> 0 | AE67: =N67*AD67 -> 0 | AN67: 219 | AR67: 179 | AV67: =IF(OrderFormType="Wholesale",CEILING(AR67*ExchRate,ExchRateRoundUpTo),CEILING(AN67*ExchRate,ExchRateRoundUpTo)/1.22) -> 179 | AW67: =AV67*(1+AO67+AP67) -> 179 | BC67: =SUM(AX67:BB67) -> 0 | BD67: =N67*BC67 -> 0 | BE67: =AV67*(1+AO67+AP67) -> 179 | BG67: =$N67*BF67 -> 0 | BH67: =$AV67*(1.1+$AO67+$AP67) -> 196.9 | BJ67: =N67*BI67 -> 0 | BK67: =AV67*(1.15+AO67+AP67) -> 205.85 | BM67: =N67*BL67 -> 0 | BN67: =AV67*(1.2+AO67+AP67) -> 214.8 | BO67: =(AD67*AW67)+(BC67*BE67)+(BF67*BH67)+(BI67*BK67)+(BL67*BN67) -> 0 | BP67: =AD67+BC67+BF67+BI67+BL67 -> 0 | BQ67: =N67*BP67 -> 0 | BR67: 2565
A68: ="AX1"&REPT(0,4-LEN(BR68))&BR68 -> AX12566 | B68: Fins PU | C68: Fins PU 10 | D68: Holds,PU | F68: Edges,Slopers,Open-Handed | G68: Mondo | H68: Flat | I68: Classic | J68: Advanced Beginner,Intermediate,Expert | K68: Bouldering,Lead | L68: Medium | M68: 2.3096 | N68: 2 | AD68: =SUM(Q68:AC68) -> 0 | AE68: =N68*AD68 -> 0 | AN68: 264 | AR68: 214 | AV68: =IF(OrderFormType="Wholesale",CEILING(AR68*ExchRate,ExchRateRoundUpTo),CEILING(AN68*ExchRate,ExchRateRoundUpTo)/1.22) -> 214 | AW68: =AV68*(1+AO68+AP68) -> 214 | BC68: =SUM(AX68:BB68) -> 0 | BD68: =N68*BC68 -> 0 | BE68: =AV68*(1+AO68+AP68) -> 214 | BG68: =$N68*BF68 -> 0 | BH68: =$AV68*(1.1+$AO68+$AP68) -> 235.4 | BJ68: =N68*BI68 -> 0 | BK68: =AV68*(1.15+AO68+AP68) -> 246.1 | BM68: =N68*BL68 -> 0 | BN68: =AV68*(1.2+AO68+AP68) -> 256.8 | BO68: =(AD68*AW68)+(BC68*BE68)+(BF68*BH68)+(BI68*BK68)+(BL68*BN68) -> 0 | BP68: =AD68+BC68+BF68+BI68+BL68 -> 0 | BQ68: =N68*BP68 -> 0 | BR68: 2566
A69: ="AX1"&REPT(0,4-LEN(BR69))&BR69 -> AX12567 | B69: Fins PU | C69: Fins PU 11 | D69: Holds,PU | F69: Edges,Open-Handed | G69: Mondo | H69: Positive | I69: Classic | J69: Advanced Beginner,Intermediate,Expert | K69: Bouldering,Lead | L69: Medium | M69: 2.1092 | N69: 2 | AD69: =SUM(Q69:AC69) -> 0 | AE69: =N69*AD69 -> 0 | AN69: 264 | AR69: 214 | AV69: =IF(OrderFormType="Wholesale",CEILING(AR69*ExchRate,ExchRateRoundUpTo),CEILING(AN69*ExchRate,ExchRateRoundUpTo)/1.22) -> 214 | AW69: =AV69*(1+AO69+AP69) -> 214 | BC69: =SUM(AX69:BB69) -> 0 | BD69: =N69*BC69 -> 0 | BE69: =AV69*(1+AO69+AP69) -> 214 | BG69: =$N69*BF69 -> 0 | BH69: =$AV69*(1.1+$AO69+$AP69) -> 235.4 | BJ69: =N69*BI69 -> 0 | BK69: =AV69*(1.15+AO69+AP69) -> 246.1 | BM69: =N69*BL69 -> 0 | BN69: =AV69*(1.2+AO69+AP69) -> 256.8 | BO69: =(AD69*AW69)+(BC69*BE69)+(BF69*BH69)+(BI69*BK69)+(BL69*BN69) -> 0 | BP69: =AD69+BC69+BF69+BI69+BL69 -> 0 | BQ69: =N69*BP69 -> 0 | BR69: 2567
A70: ="AX1"&REPT(0,4-LEN(BR70))&BR70 -> AX12568 | B70: Fins PU | C70: Fins PU 12 | D70: Holds,PU | F70: Jugs,Open-Handed | G70: Mondo | H70: Positive | I70: Classic | J70: Advanced Beginner,Intermediate,Expert | K70: Bouldering,Lead | L70: Medium | M70: 3.6061 | N70: 4 | AD70: =SUM(Q70:AC70) -> 0 | AE70: =N70*AD70 -> 0 | AN70: 389 | AR70: 319 | AV70: =IF(OrderFormType="Wholesale",CEILING(AR70*ExchRate,ExchRateRoundUpTo),CEILING(AN70*ExchRate,ExchRateRoundUpTo)/1.22) -> 319 | AW70: =AV70*(1+AO70+AP70) -> 319 | BC70: =SUM(AX70:BB70) -> 0 | BD70: =N70*BC70 -> 0 | BE70: =AV70*(1+AO70+AP70) -> 319 | BG70: =$N70*BF70 -> 0 | BH70: =$AV70*(1.1+$AO70+$AP70) -> 350.9 | BJ70: =N70*BI70 -> 0 | BK70: =AV70*(1.15+AO70+AP70) -> 366.85 | BM70: =N70*BL70 -> 0 | BN70: =AV70*(1.2+AO70+AP70) -> 382.8 | BO70: =(AD70*AW70)+(BC70*BE70)+(BF70*BH70)+(BI70*BK70)+(BL70*BN70) -> 0 | BP70: =AD70+BC70+BF70+BI70+BL70 -> 0 | BQ70: =N70*BP70 -> 0 | BR70: 2568
... A76: ="AX1"&REPT(0,4-LEN(BR76))&BR76 -> AX12574 | B76: Fins PU | C76: Fins PU 18 | D76: Holds,PU | F76: Jugs,Open-Handed | G76: Mondo | H76: Positive | I76: Classic | J76: Advanced Beginner,Intermediate,Expert | K76: Bouldering,Lead | L76: Medium | M76: 2.6989 | N76: 1 | AD76: =SUM(Q76:AC76) -> 0 | AE76: =N76*AD76 -> 0 | AN76: 299 | AR76: 244 | AV76: =IF(OrderFormType="Wholesale",CEILING(AR76*ExchRate,ExchRateRoundUpTo),CEILING(AN76*ExchRate,ExchRateRoundUpTo)/1.22) -> 244 | AW76: =AV76*(1+AO76+AP76) -> 244 | BC76: =SUM(AX76:BB76) -> 0 | BD76: =N76*BC76 -> 0 | BE76: =AV76*(1+AO76+AP76) -> 244 | BG76: =$N76*BF76 -> 0 | BH76: =$AV76*(1.1+$AO76+$AP76) -> 268.4 | BJ76: =N76*BI76 -> 0 | BK76: =AV76*(1.15+AO76+AP76) -> 280.6 | BM76: =N76*BL76 -> 0 | BN76: =AV76*(1.2+AO76+AP76) -> 292.8 | BO76: =(AD76*AW76)+(BC76*BE76)+(BF76*BH76)+(BI76*BK76)+(BL76*BN76) -> 0 | BP76: =AD76+BC76+BF76+BI76+BL76 -> 0 | BQ76: =N76*BP76 -> 0 | BR76: 2574
C77: Down Climber PU
A78: ="AX1"&REPT(0,4-LEN(BR78))&BR78 -> AX12096 | B78: Down Climber | C78: Down Climb PU | D78: Holds,PU | F78: Jugs | G78: Standard | H78: Super Positive | I78: Classic,Down Climb | J78: Beginner,Advanced Beginner,Intermediate,Expert | K78: Bouldering,Lead,Down Climb | L78: Medium | M78: 2.8576 | N78: 4 | AD78: =SUM(Q78:AC78) -> 0 | AE78: =N78*AD78 -> 0 | AN78: 269 | AR78: 219 | AV78: =IF(OrderFormType="Wholesale",CEILING(AR78*ExchRate,ExchRateRoundUpTo),CEILING(AN78*ExchRate,ExchRateRoundUpTo)/1.22) -> 219 | AW78: =AV78*(1+AO78+AP78) -> 219 | BC78: =SUM(AX78:BB78) -> 0 | BD78: =N78*BC78 -> 0 | BE78: =AV78*(1+AO78+AP78) -> 219 | BG78: =$N78*BF78 -> 0 | BH78: =$AV78*(1.1+$AO78+$AP78) -> 240.9 | BJ78: =N78*BI78 -> 0 | BK78: =AV78*(1.15+AO78+AP78) -> 251.85 | BM78: =N78*BL78 -> 0 | BN78: =AV78*(1.2+AO78+AP78) -> 262.8 | BO78: =(AD78*AW78)+(BC78*BE78)+(BF78*BH78)+(BI78*BK78)+(BL78*BN78) -> 0 | BP78: =AD78+BC78+BF78+BI78+BL78 -> 0 | BQ78: =N78*BP78 -> 0 | BR78: 2096
A79: ="AX1"&REPT(0,4-LEN(BR79))&BR79 -> AX12095 | B79: Down Climber | C79: Down Climb PU with Arrow | D79: Holds,PU | F79: Jugs | G79: Standard | H79: Super Positive | I79: Classic,Down Climb | J79: Advanced Beginner,Intermediate,Expert | K79: Bouldering,Lead,Down Climb | L79: Medium | M79: 3 | N79: 4 | AD79: =SUM(Q79:AC79) -> 0 | AE79: =N79*AD79 -> 0 | AN79: 244 | AR79: 199 | AV79: =IF(OrderFormType="Wholesale",CEILING(AR79*ExchRate,ExchRateRoundUpTo),CEILING(AN79*ExchRate,ExchRateRoundUpTo)/1.22) -> 199 | AW79: =AV79*(1+AO79+AP79) -> 199 | BC79: =SUM(AX79:BB79) -> 0 | BD79: =N79*BC79 -> 0 | BE79: =AV79*(1+AO79+AP79) -> 199 | BG79: =$N79*BF79 -> 0 | BH79: =$AV79*(1.1+$AO79+$AP79) -> 218.9 | BJ79: =N79*BI79 -> 0 | BK79: =AV79*(1.15+AO79+AP79) -> 228.85 | BM79: =N79*BL79 -> 0 | BN79: =AV79*(1.2+AO79+AP79) -> 238.8 | BO79: =(AD79*AW79)+(BC79*BE79)+(BF79*BH79)+(BI79*BK79)+(BL79*BN79) -> 0 | BP79: =AD79+BC79+BF79+BI79+BL79 -> 0 | BQ79: =N79*BP79 -> 0 | BR79: 2095

Sheet Bleaustone
A1: SKU | B1: Category | D1: Hold Type | E1: NEW | F1: Grip Type | G1: Size | H1: Positivity | I1: Style | J1: Climbing ability | K1: Climbing style | L1: Haptics | M1: Weight kg | N1: Holds Set | O1: Texture | P1: Plain | Q1: Standard Colour | AD1: Sets | AE1: Holds | AN1: RRP | AR1: WP in EUR | AV1: Price | AW1: Price | AX1: Fluoresz. Colour | BC1: Sets | BD1: Holds | BE1: Price | BF1: Custom RAL | BG1: Holds | BH1: Price | BI1: Dual Colour | BJ1: Holds | BK1: Price | BL1: Trans-lucent Colour | BM1: Holds | BN1: Price | BO1: Total | BP1: Sets | BQ1: Holds | BR1: ID
N2: Colour | Q2: red | R2: blue | S2: yellow | T2: green | U2: black | V2: white | W2: grey | X2: mint | Y2: purple | Z2: orange | AA2: brown | AX2: pink | AY2: green | AZ2: yellow | BA2: violett | BB2: orange
N3: RAL | Q3: 3000 | R3: 5015 | S3: 1023 | T3: 6029 | U3: 9005 | V3: 9003 | W3: 7004 | X3: 6027 | Y3: 4005 | Z3: 2011 | AA3: 8003 | AB3: 2004 | AC3: 4008
N4: Aragon | Q4: 11-12 | R4: 13-14 | S4: 15-12 | T4: 16-24 | U4: 18-01 | V4: 12-01 | X4: 13-27 | Y4: 17-18 | Z4: 14-06 | AC4: 17-21 | AX4: 11-25 | AY4: 16-29 | BB4: 14-11
Q5: =SUMPRODUCT(Q6:Q184,$N6:$N184) -> 0 | R5: =SUMPRODUCT(R6:R184,$N6:$N184) -> 0 | S5: =SUMPRODUCT(S6:S184,$N6:$N184) -> 0 | T5: =SUMPRODUCT(T6:T184,$N6:$N184) -> 0 | U5: =SUMPRODUCT(U6:U184,$N6:$N184) -> 0 | V5: =SUMPRODUCT(V6:V184,$N6:$N184) -> 0 | W5: =SUMPRODUCT(W6:W184,$N6:$N184) -> 0 | X5: =SUMPRODUCT(X6:X184,$N6:$N184) -> 0 | ... AC5: =SUMPRODUCT(AC6:AC184,$N6:$N184) -> 0 | AD5: =SUM(AD6:AD184) -> 0 | AE5: =SUM(AE6:AE184) -> 0 | AX5: =SUMPRODUCT(AX6:AX184,$N6:$N184) -> 0 | AY5: =SUMPRODUCT(AY6:AY184,$N6:$N184) -> 0 | AZ5: =SUMPRODUCT(AZ6:AZ184,$N6:$N184) -> 0 | BA5: =SUMPRODUCT(BA6:BA184,$N6:$N184) -> 0 | BB5: =SUMPRODUCT(BB6:BB184,$N6:$N184) -> 0 | BC5: =SUM(BC6:BC184) -> 0 | BD5: =SUM(BD6:BD184) -> 0 | BF5: =SUMPRODUCT(BF6:BF184,$N6:$N184) -> 0 | BG5: =SUM(BG6:BG184) -> 0 | BI5: =SUMPRODUCT(BI6:BI184,$N6:$N184) -> 0 | BJ5: =SUM(BJ6:BJ184) -> 0 | BL5: =SUMPRODUCT(BL6:BL184,$N6:$N184) -> 0 | BM5: =SUM(BM6:BM184) -> 0 | BO5: =SUM(BO6:BO184) -> 0 | BP5: =SUM(BP6:BP184) -> 0 | BQ5: =SUM(BQ6:BQ184) -> 0 | BR5: =ROWS(BR6:BR184) -> 179
C7: Classic range
A8: ="BL2"&REPT(0,4-LEN(BR8))&BR8 -> BL20709 | B8: Classic Basics | C8: Classic Crimps | D8: Holds | F8: Crimps | G8: Mini | H8: Positive | I8: Classic | J8: Beginner,Advanced Beginner,Intermediate,Expert | K8: Bouldering,Lead | L8: Medium | M8: 2.53 | N8: 10 | AD8: =SUM(Q8:AC8) -> 0 | AE8: =N8*AD8 -> 0 | AN8: 104 | AR8: 84 | AV8: =IF(OrderFormType="Wholesale",CEILING(AR8*ExchRate,ExchRateRoundUpTo),CEILING(AN8*ExchRate,ExchRateRoundUpTo)/1.22) -> 84 | AW8: =AV8*(1+AO8+AP8) -> 84 | BC8: =SUM(AX8:BB8) -> 0 | BD8: =N8*BC8 -> 0 | BE8: =AV8*(1.05+AO8+AP8) -> 88.2 | BG8: =$N8*BF8 -> 0 | BH8: =$AV8*(1.1+$AO8+$AP8) -> 92.4 | BJ8: =N8*BI8 -> 0 | BK8: =AV8*(1.15+AO8+AP8) -> 96.6 | BM8: =N8*BL8 -> 0 | BN8: =AV8*(1.2+AO8+AP8) -> 100.8 | BO8: =(AD8*AW8)+(BC8*BE8)+(BF8*BH8)+(BI8*BK8)+(BL8*BN8) -> 0 | BP8: =AD8+BC8+BF8+BI8+BL8 -> 0 | BQ8: =N8*BP8 -> 0 | BR8: 709
A9: ="BL2"&REPT(0,4-LEN(BR9))&BR9 -> BL20354 | B9: Classic Basics | C9: Classic Dual-Handed Threads | D9: Holds | F9: Dual-Handed,Jugs | G9: Standard | H9: Super Positive | I9: Classic | J9: Beginner,Advanced Beginner,Intermediate,Expert | K9: Bouldering,Lead | L9: Medium | M9: 5.7 | N9: 5 | AD9: =SUM(Q9:AC9) -> 0 | AE9: =N9*AD9 -> 0 | AN9: 154 | AR9: 124 | AV9: =IF(OrderFormType="Wholesale",CEILING(AR9*ExchRate,ExchRateRoundUpTo),CEILING(AN9*ExchRate,ExchRateRoundUpTo)/1.22) -> 124 | AW9: =AV9*(1+AO9+AP9) -> 124 | BC9: =SUM(AX9:BB9) -> 0 | BD9: =N9*BC9 -> 0 | BE9: =AV9*(1.05+AO9+AP9) -> 130.2 | BG9: =$N9*BF9 -> 0 | BH9: =$AV9*(1.1+$AO9+$AP9) -> 136.4 | BJ9: =N9*BI9 -> 0 | BK9: =AV9*(1.15+AO9+AP9) -> 142.6 | BM9: =N9*BL9 -> 0 | BN9: =AV9*(1.2+AO9+AP9) -> 148.8 | BO9: =(AD9*AW9)+(BC9*BE9)+(BF9*BH9)+(BI9*BK9)+(BL9*BN9) -> 0 | BP9: =AD9+BC9+BF9+BI9+BL9 -> 0 | BQ9: =N9*BP9 -> 0 | BR9: 354
A10: ="BL2"&REPT(0,4-LEN(BR10))&BR10 -> BL20531 | B10: Classic Basics | C10: Classic Edges | D10: Holds | F10: Edges | G10: Standard | H10: Flat | I10: Classic | J10: Beginner,Advanced Beginner,Intermediate,Expert | K10: Bouldering,Lead | L10: Medium | M10: 17.575 | N10: 10 | AD10: =SUM(Q10:AC10) -> 0 | AE10: =N10*AD10 -> 0 | AN10: 344 | AR10: 279 | AV10: =IF(OrderFormType="Wholesale",CEILING(AR10*ExchRate,ExchRateRoundUpTo),CEILING(AN10*ExchRate,ExchRateRoundUpTo)/1.22) -> 279 | AW10: =AV10*(1+AO10+AP10) -> 279 | BC10: =SUM(AX10:BB10) -> 0 | BD10: =N10*BC10 -> 0 | BE10: =AV10*(1.05+AO10+AP10) -> 292.95 | BG10: =$N10*BF10 -> 0 | BH10: =$AV10*(1.1+$AO10+$AP10) -> 306.9 | BJ10: =N10*BI10 -> 0 | BK10: =AV10*(1.15+AO10+AP10) -> 320.85 | BM10: =N10*BL10 -> 0 | BN10: =AV10*(1.2+AO10+AP10) -> 334.8 | BO10: =(AD10*AW10)+(BC10*BE10)+(BF10*BH10)+(BI10*BK10)+(BL10*BN10) -> 0 | BP10: =AD10+BC10+BF10+BI10+BL10 -> 0 | BQ10: =N10*BP10 -> 0 | BR10: 531
A11: ="BL2"&REPT(0,4-LEN(BR11))&BR11 -> BL20702 | B11: Classic Basics | C11: Classic Incut Crimps | D11: Holds | F11: Incut,Crimps | G11: Mini | H11: Positive | I11: Classic | J11: Beginner,Advanced Beginner,Intermediate,Expert | K11: Bouldering,Lead | L11: Medium | M11: 2.7 | N11: 10 | AD11: =SUM(Q11:AC11) -> 0 | AE11: =N11*AD11 -> 0 | AN11: 104 | AR11: 84 | AV11: =IF(OrderFormType="Wholesale",CEILING(AR11*ExchRate,ExchRateRoundUpTo),CEILING(AN11*ExchRate,ExchRateRoundUpTo)/1.22) -> 84 | AW11: =AV11*(1+AO11+AP11) -> 84 | BC11: =SUM(AX11:BB11) -> 0 | BD11: =N11*BC11 -> 0 | BE11: =AV11*(1.05+AO11+AP11) -> 88.2 | BG11: =$N11*BF11 -> 0 | BH11: =$AV11*(1.1+$AO11+$AP11) -> 92.4 | BJ11: =N11*BI11 -> 0 | BK11: =AV11*(1.15+AO11+AP11) -> 96.6 | BM11: =N11*BL11 -> 0 | BN11: =AV11*(1.2+AO11+AP11) -> 100.8 | BO11: =(AD11*AW11)+(BC11*BE11)+(BF11*BH11)+(BI11*BK11)+(BL11*BN11) -> 0 | BP11: =AD11+BC11+BF11+BI11+BL11 -> 0 | BQ11: =N11*BP11 -> 0 | BR11: 702
A12: ="BL2"&REPT(0,4-LEN(BR12))&BR12 -> BL20701 | B12: Classic Basics | C12: Classic Mini Edges | D12: Holds | F12: Edges | G12: Mini | H12: Flat | I12: Classic | J12: Beginner,Advanced Beginner,Intermediate,Expert | K12: Bouldering,Lead | L12: Medium | M12: 7 | N12: 10 | AD12: =SUM(Q12:AC12) -> 0 | AE12: =N12*AD12 -> 0 | AN12: 204 | AR12: 164 | AV12: =IF(OrderFormType="Wholesale",CEILING(AR12*ExchRate,ExchRateRoundUpTo),CEILING(AN12*ExchRate,ExchRateRoundUpTo)/1.22) -> 164 | AW12: =AV12*(1+AO12+AP12) -> 164 | BC12: =SUM(AX12:BB12) -> 0 | BD12: =N12*BC12 -> 0 | BE12: =AV12*(1.05+AO12+AP12) -> 172.2 | BG12: =$N12*BF12 -> 0 | BH12: =$AV12*(1.1+$AO12+$AP12) -> 180.4 | BJ12: =N12*BI12 -> 0 | BK12: =AV12*(1.15+AO12+AP12) -> 188.6 | BM12: =N12*BL12 -> 0 | BN12: =AV12*(1.2+AO12+AP12) -> 196.8 | BO12: =(AD12*AW12)+(BC12*BE12)+(BF12*BH12)+(BI12*BK12)+(BL12*BN12) -> 0 | BP12: =AD12+BC12+BF12+BI12+BL12 -> 0 | BQ12: =N12*BP12 -> 0 | BR12: 701
A13: ="BL2"&REPT(0,4-LEN(BR13))&BR13 -> BL20746 | B13: Classic Basics | C13: Classic Specials | D13: Holds | F13: Specials | G13: Mini | H13: Negative | I13: Classic | J13: Beginner,Advanced Beginner,Intermediate,Expert | K13: Bouldering,Lead | L13: Medium | M13: 2.66 | N13: 10 | AD13: =SUM(Q13:AC13) -> 0 | AE13: =N13*AD13 -> 0 | AN13: 109 | AR13: 89 | AV13: =IF(OrderFormType="Wholesale",CEILING(AR13*ExchRate,ExchRateRoundUpTo),CEILING(AN13*ExchRate,ExchRateRoundUpTo)/1.22) -> 89 | AW13: =AV13*(1+AO13+AP13) -> 89 | BC13: =SUM(AX13:BB13) -> 0 | BD13: =N13*BC13 -> 0 | BE13: =AV13*(1.05+AO13+AP13) -> 93.45 | BG13: =$N13*BF13 -> 0 | BH13: =$AV13*(1.1+$AO13+$AP13) -> 97.9 | BJ13: =N13*BI13 -> 0 | BK13: =AV13*(1.15+AO13+AP13) -> 102.35 | BM13: =N13*BL13 -> 0 | BN13: =AV13*(1.2+AO13+AP13) -> 106.8 | BO13: =(AD13*AW13)+(BC13*BE13)+(BF13*BH13)+(BI13*BK13)+(BL13*BN13) -> 0 | BP13: =AD13+BC13+BF13+BI13+BL13 -> 0 | BQ13: =N13*BP13 -> 0 | BR13: 746
A14: ="BL2"&REPT(0,4-LEN(BR14))&BR14 -> BL20708 | B14: Classic Basics | C14: Classic Pinches | D14: Holds | F14: Pinches | G14: Standard | H14: Positive | I14: Classic | J14: Beginner,Advanced Beginner,Intermediate,Expert | K14: Bouldering,Lead | L14: Medium | M14: 3.373 | N14: 5 | AD14: =SUM(Q14:AC14) -> 0 | AE14: =N14*AD14 -> 0 | AN14: 134 | AR14: 109 | AV14: =IF(OrderFormType="Wholesale",CEILING(AR14*ExchRate,ExchRateRoundUpTo),CEILING(AN14*ExchRate,ExchRateRoundUpTo)/1.22) -> 109 | AW14: =AV14*(1+AO14+AP14) -> 109 | BC14: =SUM(AX14:BB14) -> 0 | BD14: =N14*BC14 -> 0 | BE14: =AV14*(1.05+AO14+AP14) -> 114.45 | BG14: =$N14*BF14 -> 0 | BH14: =$AV14*(1.1+$AO14+$AP14) -> 119.9 | BJ14: =N14*BI14 -> 0 | BK14: =AV14*(1.15+AO14+AP14) -> 125.35 | BM14: =N14*BL14 -> 0 | BN14: =AV14*(1.2+AO14+AP14) -> 130.8 | BO14: =(AD14*AW14)+(BC14*BE14)+(BF14*BH14)+(BI14*BK14)+(BL14*BN14) -> 0 | BP14: =AD14+BC14+BF14+BI14+BL14 -> 0 | BQ14: =N14*BP14 -> 0 | BR14: 708
A15: ="BL2"&REPT(0,4-LEN(BR15))&BR15 -> BL20711 | B15: Classic Basics | C15: Classic Pockets | D15: Holds | F15: Pockets | G15: Standard | H15: Positive | I15: Classic | J15: Beginner,Advanced Beginner,Intermediate,Expert | K15: Bouldering,Lead | L15: Medium | M15: 6.53 | N15: 10 | AD15: =SUM(Q15:AC15) -> 0 | AE15: =N15*AD15 -> 0 | AN15: 164 | AR15: 134 | AV15: =IF(OrderFormType="Wholesale",CEILING(AR15*ExchRate,ExchRateRoundUpTo),CEILING(AN15*ExchRate,ExchRateRoundUpTo)/1.22) -> 134 | AW15: =AV15*(1+AO15+AP15) -> 134 | BC15: =SUM(AX15:BB15) -> 0 | BD15: =N15*BC15 -> 0 | BE15: =AV15*(1.05+AO15+AP15) -> 140.7 | BG15: =$N15*BF15 -> 0 | BH15: =$AV15*(1.1+$AO15+$AP15) -> 147.4 | BJ15: =N15*BI15 -> 0 | BK15: =AV15*(1.15+AO15+AP15) -> 154.1 | BM15: =N15*BL15 -> 0 | BN15: =AV15*(1.2+AO15+AP15) -> 160.8 | BO15: =(AD15*AW15)+(BC15*BE15)+(BF15*BH15)+(BI15*BK15)+(BL15*BN15) -> 0 | BP15: =AD15+BC15+BF15+BI15+BL15 -> 0 | BQ15: =N15*BP15 -> 0 | BR15: 711
A16: ="BL2"&REPT(0,4-LEN(BR16))&BR16 -> BL20314 | B16: Classic Basics | C16: Classic Screw-ons | D16: Holds | F16: Screw-ons | G16: Footholds | H16: Positive | I16: Classic | J16: Beginner,Advanced Beginner,Intermediate,Expert | K16: Bouldering,Lead | L16: Medium | M16: 1.0306 | N16: 20 | AD16: =SUM(Q16:AC16) -> 0 | AE16: =N16*AD16 -> 0 | AN16: 74 | AR16: 59 | AV16: =IF(OrderFormType="Wholesale",CEILING(AR16*ExchRate,ExchRateRoundUpTo),CEILING(AN16*ExchRate,ExchRateRoundUpTo)/1.22) -> 59 | AW16: =AV16*(1+AO16+AP16) -> 59 | BC16: =SUM(AX16:BB16) -> 0 | BD16: =N16*BC16 -> 0 | BE16: =AV16*(1.05+AO16+AP16) -> 61.95 | BG16: =$N16*BF16 -> 0 | BH16: =$AV16*(1.1+$AO16+$AP16) -> 64.9 | BJ16: =N16*BI16 -> 0 | BK16: =AV16*(1.15+AO16+AP16) -> 67.85 | BM16: =N16*BL16 -> 0 | BN16: =AV16*(1.2+AO16+AP16) -> 70.8 | BO16: =(AD16*AW16)+(BC16*BE16)+(BF16*BH16)+(BI16*BK16)+(BL16*BN16) -> 0 | BP16: =AD16+BC16+BF16+BI16+BL16 -> 0 | BQ16: =N16*BP16 -> 0 | BR16: 314
A17: ="BL2"&REPT(0,4-LEN(BR17))&BR17 -> BL20710 | B17: Classic Basics | C17: Classic Slopers | D17: Holds | F17: Slopers | G17: Standard | H17: Negative | I17: Classic | J17: Beginner,Advanced Beginner,Intermediate,Expert | K17: Bouldering,Lead | L17: Medium | M17: 20.677 | N17: 10 | AD17: =SUM(Q17:AC17) -> 0 | AE17: =N17*AD17 -> 0 | AN17: 389 | AR17: 319 | AV17: =IF(OrderFormType="Wholesale",CEILING(AR17*ExchRate,ExchRateRoundUpTo),CEILING(AN17*ExchRate,ExchRateRoundUpTo)/1.22) -> 319 | AW17: =AV17*(1+AO17+AP17) -> 319 | BC17: =SUM(AX17:BB17) -> 0 | BD17: =N17*BC17 -> 0 | BE17: =AV17*(1.05+AO17+AP17) -> 334.95 | BG17: =$N17*BF17 -> 0 | BH17: =$AV17*(1.1+$AO17+$AP17) -> 350.9 | BJ17: =N17*BI17 -> 0 | BK17: =AV17*(1.15+AO17+AP17) -> 366.85 | BM17: =N17*BL17 -> 0 | BN17: =AV17*(1.2+AO17+AP17) -> 382.8 | BO17: =(AD17*AW17)+(BC17*BE17)+(BF17*BH17)+(BI17*BK17)+(BL17*BN17) -> 0 | BP17: =AD17+BC17+BF17+BI17+BL17 -> 0 | BQ17: =N17*BP17 -> 0 | BR17: 710
A18: ="BL2"&REPT(0,4-LEN(BR18))&BR18 -> BL20740 | B18: Classic Footholds | C18: Classic Footholds | D18: Holds | F18: Footholds | G18: Footholds | H18: Positive | I18: Classic | J18: Beginner,Advanced Beginner,Intermediate,Expert | K18: Bouldering,Lead | L18: Medium | M18: 1.4 | N18: 10 | AD18: =SUM(Q18:AC18) -> 0 | AE18: =N18*AD18 -> 0 | AN18: 79 | AR18: 64 | AV18: =IF(OrderFormType="Wholesale",CEILING(AR18*ExchRate,ExchRateRoundUpTo),CEILING(AN18*ExchRate,ExchRateRoundUpTo)/1.22) -> 64 | AW18: =AV18*(1+AO18+AP18) -> 64 | BC18: =SUM(AX18:BB18) -> 0 | BD18: =N18*BC18 -> 0 | BE18: =AV18*(1.05+AO18+AP18) -> 67.2 | BG18: =$N18*BF18 -> 0 | BH18: =$AV18*(1.1+$AO18+$AP18) -> 70.4 | BJ18: =N18*BI18 -> 0 | BK18: =AV18*(1.15+AO18+AP18) -> 73.6 | BM18: =N18*BL18 -> 0 | BN18: =AV18*(1.2+AO18+AP18) -> 76.8 | BO18: =(AD18*AW18)+(BC18*BE18)+(BF18*BH18)+(BI18*BK18)+(BL18*BN18) -> 0 | BP18: =AD18+BC18+BF18+BI18+BL18 -> 0 | BQ18: =N18*BP18 -> 0 | BR18: 740
A19: ="BL2"&REPT(0,4-LEN(BR19))&BR19 -> BL20739 | B19: Classic Footholds | C19: Classic Mini Footholds | D19: Holds | F19: Footholds | G19: Footholds | H19: Positive | I19: Classic | J19: Beginner,Advanced Beginner,Intermediate,Expert | K19: Bouldering,Lead | L19: Medium | M19: 1.633 | N19: 20 | AD19: =SUM(Q19:AC19) -> 0 | AE19: =N19*AD19 -> 0 | AN19: 109 | AR19: 89 | AV19: =IF(OrderFormType="Wholesale",CEILING(AR19*ExchRate,ExchRateRoundUpTo),CEILING(AN19*ExchRate,ExchRateRoundUpTo)/1.22) -> 89 | AW19: =AV19*(1+AO19+AP19) -> 89 | BC19: =SUM(AX19:BB19) -> 0 | BD19: =N19*BC19 -> 0 | BE19: =AV19*(1.05+AO19+AP19) -> 93.45 | BG19: =$N19*BF19 -> 0 | BH19: =$AV19*(1.1+$AO19+$AP19) -> 97.9 | BJ19: =N19*BI19 -> 0 | BK19: =AV19*(1.15+AO19+AP19) -> 102.35 | BM19: =N19*BL19 -> 0 | BN19: =AV19*(1.2+AO19+AP19) -> 106.8 | BO19: =(AD19*AW19)+(BC19*BE19)+(BF19*BH19)+(BI19*BK19)+(BL19*BN19) -> 0 | BP19: =AD19+BC19+BF19+BI19+BL19 -> 0 | BQ19: =N19*BP19 -> 0 | BR19: 739
... A21: ="BL2"&REPT(0,4-LEN(BR21))&BR21 -> BL21507 | B21: Classic Jugs | C21: Classic Flat Jugs | D21: Holds | F21: Jugs | G21: Standard | H21: Flat | I21: Classic | J21: Beginner,Advanced Beginner,Intermediate,Expert | K21: Bouldering,Lead | L21: Medium | M21: 7.605 | N21: 10 | AD21: =SUM(Q21:AC21) -> 0 | AE21: =N21*AD21 -> 0 | AN21: 194 | AR21: 159 | AV21: =IF(OrderFormType="Wholesale",CEILING(AR21*ExchRate,ExchRateRoundUpTo),CEILING(AN21*ExchRate,ExchRateRoundUpTo)/1.22) -> 159 | AW21: =AV21*(1+AO21+AP21) -> 159 | BC21: =SUM(AX21:BB21) -> 0 | BD21: =N21*BC21 -> 0 | BE21: =AV21*(1.05+AO21+AP21) -> 166.95 | BG21: =$N21*BF21 -> 0 | BH21: =$AV21*(1.1+$AO21+$AP21) -> 174.9 | BJ21: =N21*BI21 -> 0 | BK21: =AV21*(1.15+AO21+AP21) -> 182.85 | BM21: =N21*BL21 -> 0 | BN21: =AV21*(1.2+AO21+AP21) -> 190.8 | BO21: =(AD21*AW21)+(BC21*BE21)+(BF21*BH21)+(BI21*BK21)+(BL21*BN21) -> 0 | BP21: =AD21+BC21+BF21+BI21+BL21 -> 0 | BQ21: =N21*BP21 -> 0 | BR21: 1507
A22: ="BL2"&REPT(0,4-LEN(BR22))&BR22 -> BL22233 | B22: Classic Jugs | C22: Classic Giga Jugs 01 | D22: Holds | F22: Jugs | G22: Giga | I22: Classic | J22: Beginner,Advanced Beginner,Intermediate,Expert | K22: Bouldering,Lead | L22: Medium | M22: 8.48 | N22: 2 | AD22: =SUM(Q22:AC22) -> 0 | AE22: =N22*AD22 -> 0 | AN22: 179 | AR22: 144 | AV22: =IF(OrderFormType="Wholesale",CEILING(AR22*ExchRate,ExchRateRoundUpTo),CEILING(AN22*ExchRate,ExchRateRoundUpTo)/1.22) -> 144 | AW22: =AV22*(1+AO22+AP22) -> 144 | BC22: =SUM(AX22:BB22) -> 0 | BD22: =N22*BC22 -> 0 | BE22: =AV22*(1.05+AO22+AP22) -> 151.2 | BG22: =$N22*BF22 -> 0 | BH22: =$AV22*(1.1+$AO22+$AP22) -> 158.4 | BJ22: =N22*BI22 -> 0 | BK22: =AV22*(1.15+AO22+AP22) -> 165.6 | BM22: =N22*BL22 -> 0 | BN22: =AV22*(1.2+AO22+AP22) -> 172.8 | BO22: =(AD22*AW22)+(BC22*BE22)+(BF22*BH22)+(BI22*BK22)+(BL22*BN22) -> 0 | BP22: =AD22+BC22+BF22+BI22+BL22 -> 0 | BQ22: =N22*BP22 -> 0 | BR22: 2233
A23: ="BL2"&REPT(0,4-LEN(BR23))&BR23 -> BL22342 | B23: Classic Jugs | C23: Classic Giga Jugs 02 | D23: Holds | F23: Jugs | G23: Giga | I23: Classic | J23: Beginner,Advanced Beginner,Intermediate,Expert | K23: Bouldering,Lead | L23: Medium | M23: 6.238 | N23: 2 | AD23: =SUM(Q23:AC23) -> 0 | AE23: =N23*AD23 -> 0 | AN23: 149 | AR23: 119 | AV23: =IF(OrderFormType="Wholesale",CEILING(AR23*ExchRate,ExchRateRoundUpTo),CEILING(AN23*ExchRate,ExchRateRoundUpTo)/1.22) -> 119 | AW23: =AV23*(1+AO23+AP23) -> 119 | BC23: =SUM(AX23:BB23) -> 0 | BD23: =N23*BC23 -> 0 | BE23: =AV23*(1.05+AO23+AP23) -> 124.95 | BG23: =$N23*BF23 -> 0 | BH23: =$AV23*(1.1+$AO23+$AP23) -> 130.9 | BJ23: =N23*BI23 -> 0 | BK23: =AV23*(1.15+AO23+AP23) -> 136.85 | BM23: =N23*BL23 -> 0 | BN23: =AV23*(1.2+AO23+AP23) -> 142.8 | BO23: =(AD23*AW23)+(BC23*BE23)+(BF23*BH23)+(BI23*BK23)+(BL23*BN23) -> 0 | BP23: =AD23+BC23+BF23+BI23+BL23 -> 0 | BQ23: =N23*BP23 -> 0 | BR23: 2342
A24: ="BL2"&REPT(0,4-LEN(BR24))&BR24 -> BL22343 | B24: Classic Jugs | C24: Classic Giga Jugs 03 | D24: Holds | F24: Jugs | G24: Giga | I24: Classic | J24: Beginner,Advanced Beginner,Intermediate,Expert | K24: Bouldering,Lead | L24: Medium | M24: 7.977 | N24: 2 | AD24: =SUM(Q24:AC24) -> 0 | AE24: =N24*AD24 -> 0 | AN24: 169 | AR24: 139 | AV24: =IF(OrderFormType="Wholesale",CEILING(AR24*ExchRate,ExchRateRoundUpTo),CEILING(AN24*ExchRate,ExchRateRoundUpTo)/1.22) -> 139 | AW24: =AV24*(1+AO24+AP24) -> 139 | BC24: =SUM(AX24:BB24) -> 0 | BD24: =N24*BC24 -> 0 | BE24: =AV24*(1.05+AO24+AP24) -> 145.95 | BG24: =$N24*BF24 -> 0 | BH24: =$AV24*(1.1+$AO24+$AP24) -> 152.9 | BJ24: =N24*BI24 -> 0 | BK24: =AV24*(1.15+AO24+AP24) -> 159.85 | BM24: =N24*BL24 -> 0 | BN24: =AV24*(1.2+AO24+AP24) -> 166.8 | BO24: =(AD24*AW24)+(BC24*BE24)+(BF24*BH24)+(BI24*BK24)+(BL24*BN24) -> 0 | BP24: =AD24+BC24+BF24+BI24+BL24 -> 0 | BQ24: =N24*BP24 -> 0 | BR24: 2343
A25: ="BL2"&REPT(0,4-LEN(BR25))&BR25 -> BL22344 | B25: Classic Jugs | C25: Classic Giga Jugs 04 | D25: Holds | F25: Jugs | G25: Giga | I25: Classic | J25: Beginner,Advanced Beginner,Intermediate,Expert | K25: Bouldering,Lead | L25: Medium | M25: 7.523 | N25: 2 | AD25: =SUM(Q25:AC25) -> 0 | AE25: =N25*AD25 -> 0 | AN25: 164 | AR25: 134 | AV25: =IF(OrderFormType="Wholesale",CEILING(AR25*ExchRate,ExchRateRoundUpTo),CEILING(AN25*ExchRate,ExchRateRoundUpTo)/1.22) -> 134 | AW25: =AV25*(1+AO25+AP25) -> 134 | BC25: =SUM(AX25:BB25) -> 0 | BD25: =N25*BC25 -> 0 | BE25: =AV25*(1.05+AO25+AP25) -> 140.7 | BG25: =$N25*BF25 -> 0 | BH25: =$AV25*(1.1+$AO25+$AP25) -> 147.4 | BJ25: =N25*BI25 -> 0 | BK25: =AV25*(1.15+AO25+AP25) -> 154.1 | BM25: =N25*BL25 -> 0 | BN25: =AV25*(1.2+AO25+AP25) -> 160.8 | BO25: =(AD25*AW25)+(BC25*BE25)+(BF25*BH25)+(BI25*BK25)+(BL25*BN25) -> 0 | BP25: =AD25+BC25+BF25+BI25+BL25 -> 0 | BQ25: =N25*BP25 -> 0 | BR25: 2344
A26: ="BL2"&REPT(0,4-LEN(BR26))&BR26 -> BL22345 | B26: Classic Jugs | C26: Classic Giga Jugs 05 | D26: Holds | F26: Jugs | G26: Giga | I26: Classic | J26: Beginner,Advanced Beginner,Intermediate,Expert | K26: Bouldering,Lead | L26: Medium | M26: 8.79 | N26: 2 | AD26: =SUM(Q26:AC26) -> 0 | AE26: =N26*AD26 -> 0 | AN26: 184 | AR26: 149 | AV26: =IF(OrderFormType="Wholesale",CEILING(AR26*ExchRate,ExchRateRoundUpTo),CEILING(AN26*ExchRate,ExchRateRoundUpTo)/1.22) -> 149 | AW26: =AV26*(1+AO26+AP26) -> 149 | BC26: =SUM(AX26:BB26) -> 0 | BD26: =N26*BC26 -> 0 | BE26: =AV26*(1.05+AO26+AP26) -> 156.45 | BG26: =$N26*BF26 -> 0 | BH26: =$AV26*(1.1+$AO26+$AP26) -> 163.9 | BJ26: =N26*BI26 -> 0 | BK26: =AV26*(1.15+AO26+AP26) -> 171.35 | BM26: =N26*BL26 -> 0 | BN26: =AV26*(1.2+AO26+AP26) -> 178.8 | BO26: =(AD26*AW26)+(BC26*BE26)+(BF26*BH26)+(BI26*BK26)+(BL26*BN26) -> 0 | BP26: =AD26+BC26+BF26+BI26+BL26 -> 0 | BQ26: =N26*BP26 -> 0 | BR26: 2345
A27: ="BL2"&REPT(0,4-LEN(BR27))&BR27 -> BL22346 | B27: Classic Jugs | C27: Classic Giga Jugs 06 | D27: Holds | F27: Jugs | G27: Giga | I27: Classic | J27: Beginner,Advanced Beginner,Intermediate,Expert | K27: Bouldering,Lead | L27: Medium | M27: 10.36 | N27: 2 | AD27: =SUM(Q27:AC27) -> 0 | AE27: =N27*AD27 -> 0 | AN27: 204 | AR27: 165 | AV27: =IF(OrderFormType="Wholesale",CEILING(AR27*ExchRate,ExchRateRoundUpTo),CEILING(AN27*ExchRate,ExchRateRoundUpTo)/1.22) -> 165 | AW27: =AV27*(1+AO27+AP27) -> 165 | BC27: =SUM(AX27:BB27) -> 0 | BD27: =N27*BC27 -> 0 | BE27: =AV27*(1.05+AO27+AP27) -> 173.25 | BG27: =$N27*BF27 -> 0 | BH27: =$AV27*(1.1+$AO27+$AP27) -> 181.5 | BJ27: =N27*BI27 -> 0 | BK27: =AV27*(1.15+AO27+AP27) -> 189.75 | BM27: =N27*BL27 -> 0 | BN27: =AV27*(1.2+AO27+AP27) -> 198 | BO27: =(AD27*AW27)+(BC27*BE27)+(BF27*BH27)+(BI27*BK27)+(BL27*BN27) -> 0 | BP27: =AD27+BC27+BF27+BI27+BL27 -> 0 | BQ27: =N27*BP27 -> 0 | BR27: 2346
A28: ="BL2"&REPT(0,4-LEN(BR28))&BR28 -> BL20745 | B28: Classic Jugs | C28: Classic Jugs | D28: Holds | F28: Jugs | G28: Standard | H28: Positive | I28: Classic | J28: Beginner,Advanced Beginner,Intermediate,Expert | K28: Bouldering,Lead | L28: Medium | M28: 12.1 | N28: 20 | AD28: =SUM(Q28:AC28) -> 0 | AE28: =N28*AD28 -> 0 | AN28: 254 | AR28: 209 | AV28: =IF(OrderFormType="Wholesale",CEILING(AR28*ExchRate,ExchRateRoundUpTo),CEILING(AN28*ExchRate,ExchRateRoundUpTo)/1.22) -> 209 | AW28: =AV28*(1+AO28+AP28) -> 209 | BC28: =SUM(AX28:BB28) -> 0 | BD28: =N28*BC28 -> 0 | BE28: =AV28*(1.05+AO28+AP28) -> 219.45 | BG28: =$N28*BF28 -> 0 | BH28: =$AV28*(1.1+$AO28+$AP28) -> 229.9 | BJ28: =N28*BI28 -> 0 | BK28: =AV28*(1.15+AO28+AP28) -> 240.35 | BM28: =N28*BL28 -> 0 | BN28: =AV28*(1.2+AO28+AP28) -> 250.8 | BO28: =(AD28*AW28)+(BC28*BE28)+(BF28*BH28)+(BI28*BK28)+(BL28*BN28) -> 0 | BP28: =AD28+BC28+BF28+BI28+BL28 -> 0 | BQ28: =N28*BP28 -> 0 | BR28: 745
A29: ="BL2"&REPT(0,4-LEN(BR29))&BR29 -> BL20738 | B29: Classic Jugs | C29: Classic Mini Jugs | D29: Holds | F29: Jugs | G29: Mini | H29: Positive | I29: Classic | J29: Beginner,Advanced Beginner,Intermediate,Expert | K29: Bouldering,Lead | L29: Medium | M29: 4.38 | N29: 10 | AD29: =SUM(Q29:AC29) -> 0 | AE29: =N29*AD29 -> 0 | AN29: 109 | AR29: 89 | AV29: =IF(OrderFormType="Wholesale",CEILING(AR29*ExchRate,ExchRateRoundUpTo),CEILING(AN29*ExchRate,ExchRateRoundUpTo)/1.22) -> 89 | AW29: =AV29*(1+AO29+AP29) -> 89 | BC29: =SUM(AX29:BB29) -> 0 | BD29: =N29*BC29 -> 0 | BE29: =AV29*(1.05+AO29+AP29) -> 93.45 | BG29: =$N29*BF29 -> 0 | BH29: =$AV29*(1.1+$AO29+$AP29) -> 97.9 | BJ29: =N29*BI29 -> 0 | BK29: =AV29*(1.15+AO29+AP29) -> 102.35 | BM29: =N29*BL29 -> 0 | BN29: =AV29*(1.2+AO29+AP29) -> 106.8 | BO29: =(AD29*AW29)+(BC29*BE29)+(BF29*BH29)+(BI29*BK29)+(BL29*BN29) -> 0 | BP29: =AD29+BC29+BF29+BI29+BL29 -> 0 | BQ29: =N29*BP29 -> 0 | BR29: 738
A30: ="BL2"&REPT(0,4-LEN(BR30))&BR30 -> BL20399 | B30: Classic Jugs | C30: Classic Mondo Jugs | D30: Holds | F30: Dual-Handed,Jugs | G30: Mondo | H30: Positive | I30: Classic | J30: Beginner,Advanced Beginner,Intermediate,Expert | K30: Bouldering,Lead | L30: Medium | M30: 15.596 | N30: 10 | AD30: =SUM(Q30:AC30) -> 0 | AE30: =N30*AD30 -> 0 | AN30: 294 | AR30: 239 | AV30: =IF(OrderFormType="Wholesale",CEILING(AR30*ExchRate,ExchRateRoundUpTo),CEILING(AN30*ExchRate,ExchRateRoundUpTo)/1.22) -> 239 | AW30: =AV30*(1+AO30+AP30) -> 239 | BC30: =SUM(AX30:BB30) -> 0 | BD30: =N30*BC30 -> 0 | BE30: =AV30*(1.05+AO30+AP30) -> 250.95 | BG30: =$N30*BF30 -> 0 | BH30: =$AV30*(1.1+$AO30+$AP30) -> 262.9 | BJ30: =N30*BI30 -> 0 | BK30: =AV30*(1.15+AO30+AP30) -> 274.85 | BM30: =N30*BL30 -> 0 | BN30: =AV30*(1.2+AO30+AP30) -> 286.8 | BO30: =(AD30*AW30)+(BC30*BE30)+(BF30*BH30)+(BI30*BK30)+(BL30*BN30) -> 0 | BP30: =AD30+BC30+BF30+BI30+BL30 -> 0 | BQ30: =N30*BP30 -> 0 | BR30: 399
A31: ="BL2"&REPT(0,4-LEN(BR31))&BR31 -> BL20401 | B31: Classic Jugs | C31: Classic Nano Jugs | D31: Holds | F31: Jugs | G31: Nano | H31: Positive | I31: Classic | J31: Beginner,Advanced Beginner,Intermediate,Expert | K31: Bouldering,Lead | L31: Medium | M31: 4.601 | N31: 20 | AD31: =SUM(Q31:AC31) -> 0 | AE31: =N31*AD31 -> 0 | AN31: 134 | AR31: 109 | AV31: =IF(OrderFormType="Wholesale",CEILING(AR31*ExchRate,ExchRateRoundUpTo),CEILING(AN31*ExchRate,ExchRateRoundUpTo)/1.22) -> 109 | AW31: =AV31*(1+AO31+AP31) -> 109 | BC31: =SUM(AX31:BB31) -> 0 | BD31: =N31*BC31 -> 0 | BE31: =AV31*(1.05+AO31+AP31) -> 114.45 | BG31: =$N31*BF31 -> 0 | BH31: =$AV31*(1.1+$AO31+$AP31) -> 119.9 | BJ31: =N31*BI31 -> 0 | BK31: =AV31*(1.15+AO31+AP31) -> 125.35 | BM31: =N31*BL31 -> 0 | BN31: =AV31*(1.2+AO31+AP31) -> 130.8 | BO31: =(AD31*AW31)+(BC31*BE31)+(BF31*BH31)+(BI31*BK31)+(BL31*BN31) -> 0 | BP31: =AD31+BC31+BF31+BI31+BL31 -> 0 | BQ31: =N31*BP31 -> 0 | BR31: 401
A32: ="BL2"&REPT(0,4-LEN(BR32))&BR32 -> BL20400 | B32: Classic Jugs | C32: Classic Super Jugs | D32: Holds | F32: Jugs | G32: Standard | H32: Super Positive | I32: Classic | J32: Beginner,Advanced Beginner,Intermediate,Expert | K32: Bouldering,Lead | L32: Medium | M32: 5.699 | N32: 10 | AD32: =SUM(Q32:AC32) -> 0 | AE32: =N32*AD32 -> 0 | AN32: 169 | AR32: 139 | AV32: =IF(OrderFormType="Wholesale",CEILING(AR32*ExchRate,ExchRateRoundUpTo),CEILING(AN32*ExchRate,ExchRateRoundUpTo)/1.22) -> 139 | AW32: =AV32*(1+AO32+AP32) -> 139 | BC32: =SUM(AX32:BB32) -> 0 | BD32: =N32*BC32 -> 0 | BE32: =AV32*(1.05+AO32+AP32) -> 145.95 | BG32: =$N32*BF32 -> 0 | BH32: =$AV32*(1.1+$AO32+$AP32) -> 152.9 | BJ32: =N32*BI32 -> 0 | BK32: =AV32*(1.15+AO32+AP32) -> 159.85 | BM32: =N32*BL32 -> 0 | BN32: =AV32*(1.2+AO32+AP32) -> 166.8 | BO32: =(AD32*AW32)+(BC32*BE32)+(BF32*BH32)+(BI32*BK32)+(BL32*BN32) -> 0 | BP32: =AD32+BC32+BF32+BI32+BL32 -> 0 | BQ32: =N32*BP32 -> 0 | BR32: 400
