Workbook
Name Accessories_BS_Total: Accessories!$BO$14:$BO$16
Name Accessories_CH_Total: Accessories!$BN$25:$BO$37
Name Accessories_Crux_Total: Accessories!$BO$23
Name Accessories_Lapis_Total: Accessories!$BO$6:$BO$12
Name Accessories_Squadra_Total: Accessories!$BO$18:$BO$21
Name Countries: Currency!$B$2:$B$12
Name Currencies: Currency!$B$2:$E$12
Name Currency: Currency!$H$2
Name CurrencySelected: Currency!$K$1
Name ExchangeRoundUpTo: Currency!$H$3
Name ExchRate: Currency!$H$1
Name ExchRateRoundUpTo: Currency!$H$3
Name OrderFormType: Currency!$M$2
Name rr: '[1]Summary '!$M$8
Name Total_cost_per_kg: 'Summary '!$M$8

Sheet Summary 
I1: Version
I2: 40
E7: Discount % | F7: Discount | G7: Total | H7: Sets | I7: Holds
A8: Axis Holds | C8: =SUMIF(Axis!D6:D80,"Holds*",Axis!BO6:BO80) -> 0 | E8: 0 | F8: =C8*E8/100 -> 0 | G8: =C8-F8 -> 0 | H8: =SUMIF(Axis!D6:D80,"Holds*",Axis!BP6:BP80) -> 0 | I8: =SUMIF(Axis!D6:D80,"Holds*",Axis!BQ6:BQ80) -> 0
A9: Axis Macros | C9: =SUMIF(Axis!D6:D80,"Macros*",Axis!BO6:BO79) -> 0 | E9: 0 | F9: =C9*E9/100 -> 0 | G9: =C9-F9 -> 0 | H9: =SUMIF(Axis!D6:D80,"Macros*",Axis!BP6:BP80) -> 0 | I9: =SUMIF(Axis!D6:D80,"Macros*",Axis!BQ6:BQ80) -> 0
A10: Axis Volumes | C10: =SUMIF(Axis!D6:D80,"Volumes*",Axis!BO6:BO80) -> 0 | E10: 0 | F10: =C10*E10/100 -> 0 | G10: =C10-F10 -> 0 | H10: =SUMIF(Axis!D6:D80,"Volumes*",Axis!BP6:BP80) -> 0 | I10: =SUMIF(Axis!D6:D80,"Volumes*",Axis!BQ6:BQ80) -> 0
A11: Bleaustone Holds | C11: =SUM(SUMIF(Bleaustone!D6:D184,"Holds*",Bleaustone!BO6:BO184),Accessories_BS_Total) -> 0 | E11: 0 | F11: =C11*E11/100 -> 0 | G11: =C11-F11 -> 0 | H11: =SUMIF(Bleaustone!D6:D184,"Holds*",Bleaustone!BP6:BP184) -> 0 | I11: =SUMIF(Bleaustone!D6:D184,"Holds*",Bleaustone!BQ6:BQ184) -> 0
A12: Bleaustone Macros | C12: =SUMIF(Bleaustone!D6:D184,"Macros*",Bleaustone!BO6:BO184) -> 0 | E12: 0 | F12: =C12*E12/100 -> 0 | G12: =C12-F12 -> 0 | H12: =SUMIF(Bleaustone!D6:D184,"Macros*",Bleaustone!BP6:BP184) -> 0 | I12: =SUMIF(Bleaustone!D6:D184,"Macros*",Bleaustone!BQ6:BQ184) -> 0
A13: Lapis Holds | C13: =SUM(SUMIF(Lapis!D6:D283,"Holds*",Lapis!BO6:BO283),Accessories_Lapis_Total) -> 0 | E13: 0 | F13: =C13*E13/100 -> 0 | G13: =C13-F13 -> 0 | H13: =SUMIF(Lapis!D6:D283,"Holds*",Lapis!BP6:BP283) -> 0 | I13: =SUMIF(Lapis!D6:D283,"Holds*",Lapis!BQ6:BQ283) -> 0
A14: Lapis Macros | C14: =SUMIF(Lapis!D6:D283,"Macros*",Lapis!BO6:BO283) -> 0 | E14: 0 | F14: =C14*E14/100 -> 0 | G14: =C14-F14 -> 0 | H14: =SUMIF(Lapis!D6:D283,"Macros*",Lapis!BP6:BP283) -> 0 | I14: =SUMIF(Lapis!D6:D283,"Macros*",Lapis!BQ6:BQ283) -> 0
A15: Lapis Volumes | C15: =SUMIF(Lapis!D6:D283,"Volumes*",Lapis!BO6:BO283) -> 0 | E15: 0 | F15: =C15*E15/100 -> 0 | G15: =C15-F15 -> 0 | H15: =SUMIF(Lapis!D6:D283,"Volumes*",Lapis!BP6:BP283) -> 0 | I15: =SUMIF(Lapis!D6:D283,"Volumes*",Lapis!BQ6:BQ283) -> 0
A16: 23Holds Holds | C16: =SUMIF('23Holds'!D5:D70,"Holds*",'23Holds'!BO5:BO70) -> 0 | E16: 0 | F16: =C16*E16/100 -> 0 | G16: =C16-F16 -> 0 | H16: =SUMIF('23Holds'!D5:D70,"Holds*",'23Holds'!BP5:BP70) -> 0 | I16: =SUMIF('23Holds'!D5:D70,"Holds*",'23Holds'!BQ5:BQ70) -> 0
A17: 23Holds Macros | C17: =SUMIF('23Holds'!D6:D82,"Macros*",'23Holds'!BO6:BO82) -> 0 | E17: 0 | F17: =C17*E17/100 -> 0 | G17: =C17-F17 -> 0 | H17: =SUMIF('23Holds'!D6:D82,"Macros*",'23Holds'!BP6:BP82) -> 0 | I17: =SUMIF('23Holds'!D6:D82,"Macros*",'23Holds'!BQ6:BQ82) -> 0
A18: Crux Holds | C18: =SUM(SUMIF(Crux!D5:D36,"Holds*",Crux!BO5:BO36),Accessories_Crux_Total) -> 0 | E18: 0 | F18: =C18*E18/100 -> 0 | G18: =C18-F18 -> 0 | H18: =SUMIF(Crux!D5:D36,"Holds*",Crux!BP5:BP36) -> 0 | I18: =SUMIF(Crux!D5:D36,"Holds*",Crux!BQ5:BQ36) -> 0
A19: Crux Macros | C19: =SUM(SUMIF(Crux!D6:D36,"Macros*",Crux!BO6:BO36),) -> 0 | E19: 0 | F19: =C19*E19/100 -> 0 | G19: =C19-F19 -> 0 | H19: =SUMIF(Crux!D6:D36,"Macros*",Crux!BP6:BP36) -> 0 | I19: =SUMIF(Crux!D6:D36,"Macros*",Crux!BQ6:BQ36) -> 0
A20: Squadra Holds | C20: =SUM(SUMIF(Squadra!D6:D150,"Holds*",Squadra!BO6:BO150),Accessories_Squadra_Total) -> 0 | E20: 0 | F20: =C20*E20/100 -> 0 | G20: =C20-F20 -> 0 | H20: =SUMIF(Squadra!D6:D150,"Holds*",Squadra!BP6:BP150) -> 0 | I20: =SUMIF(Squadra!D6:D150,"Holds*",Squadra!BQ6:BQ150) -> 0
A21: Squadra Macros | C21: =SUMIF(Squadra!D6:D150,"Macros*",Squadra!BO6:BO150) -> 0 | E21: 0 | F21: =C21*E21/100 -> 0 | G21: =C21-F21 -> 0 | H21: =SUMIF(Squadra!D6:D150,"Macros*",Squadra!BP6:BP150) -> 0 | I21: =SUMIF(Squadra!D6:D150,"Macros*",Squadra!BQ6:BQ150) -> 0
A22: Squadra Volumes | C22: =SUMIF(Squadra!D6:D150,"Volumes*",Squadra!BO6:BO150) -> 0 | E22: 0 | F22: =C22*E22/100 -> 0 | G22: =C22-F22 -> 0 | H22: =SUMIF(Squadra!D6:D150,"Volumes*",Squadra!BP6:BP150) -> 0 | I22: =SUMIF(Squadra!D6:D150,"Volumes*",Squadra!BQ6:BQ150) -> 0
A23: Playstone Holds | C23: =SUMIF(Playstone!D6:D51,"Holds*",Playstone!BO6:BO51) -> 0 | E23: 0 | F23: =C23*E23/100 -> 0 | G23: =C23-F23 -> 0 | H23: =SUMIF(Playstone!D6:D51,"Holds*",Playstone!BP6:BP51) -> 0 | I23: =SUMIF(Playstone!D6:D36,"Holds*",Playstone!BQ6:BQ36) -> 0
A24: Playstone Volumes | C24: =SUMIF(Playstone!D6:D51,"Volumes*",Playstone!BO6:BO51) -> 0 | E24: 0 | F24: =C24*E24/100 -> 0 | G24: =C24-F24 -> 0 | H24: =SUMIF(Playstone!D6:D51,"Volumes*",Playstone!BP6:BP51) -> 0 | I24: =SUMIF(Playstone!D6:D51,"Volumes*",Playstone!BQ6:BQ51) -> 0
A25: Reset Holds | C25: =SUMIF(Reset!D6:D20,"Holds*",Reset!BO6:BO20) -> 0 | E25: 0 | F25: =C25*E25/100 -> 0 | G25: =C25-F25 -> 0 | H25: =SUMIF(Reset!D6:D20,"Holds*",Reset!BP6:BP20) -> 0 | I25: =SUMIF(Reset!D6:D20,"Holds*",Reset!BQ6:BQ20) -> 0
A26: Reset Macros | C26: =SUMIF(Reset!D6:D20,"Macros*",Reset!BO6:BO20) -> 0 | E26: 0 | F26: =C26*E26/100 -> 0 | G26: =C26-F26 -> 0 | H26: =SUMIF(Reset!D6:D20,"Macros*",Reset!BP6:BP20) -> 0 | I26: =SUMIF(Reset!D6:D20,"Macros*",Reset!BQ6:BQ20) -> 0
A27: Reset Volumes | C27: =SUMIF(Reset!D6:D20,"Volumes*",Reset!BO6:BO20) -> 0 | E27: 0 | F27: =C27*E27/100 -> 0 | G27: =C27-F27 -> 0 | H27: =SUMIF(Reset!D6:D20,"Volumes*",Reset!BP6:BP20) -> 0 | I27: =SUMIF(Reset!D6:D20,"Volumes*",Reset!BQ6:BQ20) -> 0
A28: Climb Hold Accessories | C28: =SUM(Accessories_CH_Total) -> 0 | E28: 0 | F28: =C28*E28/100 -> 0 | G28: =C28-F28 -> 0 | H28: 0 | I28: 0
A29: Total exc. VAT | G29: =SUM(G8:G28) -> 0
A31: VAT % | B31: 19 | G31: =G29*B31/100 -> 0
A33: Total | G33: =SUM(G29:G32) -> 0
A34: Order date:
A35: Delivery date:
A36: Purchase order nr.:
A37: Delivery address:

Sheet Axis
A1: SKU | B1: Category | D1: Hold Type | E1: NEW | F1: Grip Type | G1: Size | H1: Positivity | I1: Style | J1: Climbing ability | K1: Climbing style | L1: Haptics | M1: Weight kg | N1: Holds Set | O1: Texture | P1: Plain | Q1: Standard Colour | AD1: Sets | AE1: Holds | AN1: RRP | AR1: WP in EUR | AV1: Price without Percent | AW1: Price | AX1: Fluoresz. Colour | BC1: Sets | BD1: Holds | BE1: Price | BF1: Custom RAL | BG1: Holds | BH1: Price | BI1: Dual Colour | BJ1: Holds | BK1: Price | BL1: Trans-lucent Colour | BM1: Holds | BN1: Price | BO1: Total | BP1: Sets | BQ1: Holds | BR1: ID
N2: Colour | Q2: red | R2: blue | S2: yellow | T2: green | U2: black | V2: white | W2: grey | X2: mint | Y2: purple | Z2: orange | AA2: brown | AX2: pink | AY2: green | AZ2: yellow | BA2: violett | BB2: orange
N3: RAL | Q3: 3000 | R3: 5015 | S3: 1023 | T3: 6029 | U3: 9005 | V3: 9003 | W3: 7004 | X3: 6027 | Y3: 4005 | Z3: 2011 | AA3: 8003 | AB3: 2004 | AC3: 4008
N4: Aragon | Q4: 11-12 | R4: 13-14 | S4: 15-12 | T4: 16-24 | U4: 18-01 | V4: 12-01 | X4: 13-27 | Y4: 17-18 | Z4: 14-06 | AC4: 17-21 | AX4: 11-25 | AY4: 16-29 | BB4: 14-11
Q5: =SUMPRODUCT(Q6:Q80,$N6:$N80) -> 0 | R5: =SUMPRODUCT(R6:R80,$N6:$N80) -> 0 | S5: =SUMPRODUCT(S6:S80,$N6:$N80) -> 0 | T5: =SUMPRODUCT(T6:T80,$N6:$N80) -> 0 | U5: =SUMPRODUCT(U6:U80,$N6:$N80) -> 0 | V5: =SUMPRODUCT(V6:V80,$N6:$N80) -> 0 | W5: =SUMPRODUCT(W6:W80,$N6:$N80) -> 0 | X5: =SUMPRODUCT(X6:X80,$N6:$N80) -> 0 | ... AC5: =SUMPRODUCT(AC6:AC80,$N6:$N80) -> 0 | AD5: =SUM(AD6:AD80) -> 0 | AE5: =SUM(AE6:AE80) -> 0 | AX5: =SUMPRODUCT(AX6:AX80,$N6:$N80) -> 0 | AY5: =SUMPRODUCT(AY6:AY80,$N6:$N80) -> 0 | AZ5: =SUMPRODUCT(AZ6:AZ80,$N6:$N80) -> 0 | BA5: =SUMPRODUCT(BA6:BA80,$N6:$N80) -> 0 | BB5: =SUMPRODUCT(BB6:BB80,$N6:$N80) -> 0 | BC5: =SUM(BC6:BC80) -> 0 | BD5: =SUM(BD6:BD80) -> 0 | BF5: =SUMPRODUCT(BF6:BF80,$N6:$N80) -> 0 | BG5: =SUM(BG6:BG80) -> 0 | BI5: =SUMPRODUCT(BI6:BI80,$N6:$N80) -> 0 | BJ5: =SUM(BJ6:BJ80) -> 0 | BL5: =SUMPRODUCT(BL6:BL80,$N6:$N80) -> 0 | BM5: =SUM(BM6:BM80) -> 0 | BO5: =SUM(BO6:BO80) -> 0 | BP5: =SUM(BP6:BP80) -> 0 | BQ5: =SUM(BQ6:BQ80) -> 0 | BR5: =ROWS(BR6:BR80) -> 75
C7: Easy Riders PU
A8: ="AX1"&REPT(0,4-LEN(BR8))&BR8 -> AX12198 | B8: Easy Riders PU | C8: Easy Rider PU 01 | D8: Holds,PU | F8: Footholds,Screw-ons | G8: Footholds | H8: Negative | I8: Classic | J8: Advanced Beginner,Intermediate,Expert | K8: Bouldering,Lead | L8: Medium | M8: 0.4536 | N8: 15 | AD8: =SUM(Q8:AC8) -> 0 | AE8: =N8*AD8 -> 0 | AN8: 159 | AR8: 129 | AV8: =IF(OrderFormType="Wholesale",CEILING(AR8*ExchRate,ExchRateRoundUpTo),CEILING(AN8*ExchRate,ExchRateRoundUpTo)/1.22) -> 129 | AW8: =AV8*(1+AO8+AP8) -> 129 | BC8: =SUM(AX8:BB8) -> 0 | BD8: =N8*BC8 -> 0 | BE8: =AV8*(1+AO8+AP8) -> 129 | BG8: =$N8*BF8 -> 0 | BH8: =$AV8*(1.1+$AO8+$AP8) -> 141.9 | BJ8: =N8*BI8 -> 0 | BK8: =AV8*(1.15+AO8+AP8) -> 148.35 | BM8: =N8*BL8 -> 0 | BN8: =AV8*(1.2+AO8+AP8) -> 154.8 | BO8: =(AD8*AW8)+(BC8*BE8)+(BF8*BH8)+(BI8*BK8)+(BL8*BN8) -> 0 | BP8: =AD8+BC8+BF8+BI8+BL8 -> 0 | BQ8: =N8*BP8 -> 0 | BR8: 2198
A9: ="AX1"&REPT(0,4-LEN(BR9))&BR9 -> AX12199 | B9: Easy Riders PU | C9: Easy Rider PU 02 | D9: Holds,PU | F9: Footholds,Screw-ons | G9: Footholds | H9: Flat,Positive | I9: Classic | J9: Advanced Beginner,Intermediate,Expert | K9: Bouldering,Lead | L9: Medium | M9: 0.72576 | N9: 15 | AD9: =SUM(Q9:AC9) -> 0 | AE9: =N9*AD9 -> 0 | AN9: 179 | AR9: 144 | AV9: =IF(OrderFormType="Wholesale",CEILING(AR9*ExchRate,ExchRateRoundUpTo),CEILING(AN9*ExchRate,ExchRateRoundUpTo)/1.22) -> 144 | AW9: =AV9*(1+AO9+AP9) -> 144 | BC9: =SUM(AX9:BB9) -> 0 | BD9: =N9*BC9 -> 0 | BE9: =AV9*(1+AO9+AP9) -> 144 | BG9: =$N9*BF9 -> 0 | BH9: =$AV9*(1.1+$AO9+$AP9) -> 158.4 | BJ9: =N9*BI9 -> 0 | BK9: =AV9*(1.15+AO9+AP9) -> 165.6 | BM9: =N9*BL9 -> 0 | BN9: =AV9*(1.2+AO9+AP9) -> 172.8 | BO9: =(AD9*AW9)+(BC9*BE9)+(BF9*BH9)+(BI9*BK9)+(BL9*BN9) -> 0 | BP9: =AD9+BC9+BF9+BI9+BL9 -> 0 | BQ9: =N9*BP9 -> 0 | BR9: 2199
A10: ="AX1"&REPT(0,4-LEN(BR10))&BR10 -> AX12200 | B10: Easy Riders PU | C10: Easy Rider PU 03 | D10: Holds,PU | F10: Footholds,Crimps,Screw-ons | G10: Mini | H10: Flat | I10: Classic | J10: Advanced Beginner,Intermediate,Expert | K10: Bouldering,Lead | L10: Medium | M10: 1.38348 | N10: 15 | AD10: =SUM(Q10:AC10) -> 0 | AE10: =N10*AD10 -> 0 | AN10: 224 | AR10: 184 | AV10: =IF(OrderFormType="Wholesale",CEILING(AR10*ExchRate,ExchRateRoundUpTo),CEILING(AN10*ExchRate,ExchRateRoundUpTo)/1.22) -> 184 | AW10: =AV10*(1+AO10+AP10) -> 184 | BC10: =SUM(AX10:BB10) -> 0 | BD10: =N10*BC10 -> 0 | BE10: =AV10*(1+AO10+AP10) -> 184 | BG10: =$N10*BF10 -> 0 | BH10: =$AV10*(1.1+$AO10+$AP10) -> 202.4 | BJ10: =N10*BI10 -> 0 | BK10: =AV10*(1.15+AO10+AP10) -> 211.6 | BM10: =N10*BL10 -> 0 | BN10: =AV10*(1.2+AO10+AP10) -> 220.8 | BO10: =(AD10*AW10)+(BC10*BE10)+(BF10*BH10)+(BI10*BK10)+(BL10*BN10) -> 0 | BP10: =AD10+BC10+BF10+BI10+BL10 -> 0 | BQ10: =N10*BP10 -> 0 | BR10: 2200
A11: ="AX1"&REPT(0,4-LEN(BR11))&BR11 -> AX12249 | B11: Easy Riders PU | C11: Easy Rider PU 04 | D11: Holds,PU | F11: Crimps,Screw-ons,Open-Handed | G11: Standard | H11: Flat | I11: Classic | J11: Advanced Beginner,Intermediate,Expert | K11: Bouldering,Lead | L11: Medium | M11: 2.5855 | N11: 5 | AD11: =SUM(Q11:AC11) -> 0 | AE11: =N11*AD11 -> 0 | AN11: 269 | AR11: 219 | AV11: =IF(OrderFormType="Wholesale",CEILING(AR11*ExchRate,ExchRateRoundUpTo),CEILING(AN11*ExchRate,ExchRateRoundUpTo)/1.22) -> 219 | AW11: =AV11*(1+AO11+AP11) -> 219 | BC11: =SUM(AX11:BB11) -> 0 | BD11: =N11*BC11 -> 0 | BE11: =AV11*(1+AO11+AP11) -> 219 | BG11: =$N11*BF11 -> 0 | BH11: =$AV11*(1.1+$AO11+$AP11) -> 240.9 | BJ11: =N11*BI11 -> 0 | BK11: =AV11*(1.15+AO11+AP11) -> 251.85 | BM11: =N11*BL11 -> 0 | BN11: =AV11*(1.2+AO11+AP11) -> 262.8 | BO11: =(AD11*AW11)+(BC11*BE11)+(BF11*BH11)+(BI11*BK11)+(BL11*BN11) -> 0 | BP11: =AD11+BC11+BF11+BI11+BL11 -> 0 | BQ11: =N11*BP11 -> 0 | BR11: 2249
A12: ="AX1"&REPT(0,4-LEN(BR12))&BR12 -> AX12185 | B12: Easy Riders PU | C12: Easy Rider PU 05 | D12: Holds,PU | F12: Footholds | G12: Footholds | H12: Positive | I12: Classic | J12: Advanced Beginner,Intermediate,Expert | K12: Bouldering,Lead | L12: Medium | M12: 1.1793392 | N12: 15 | AD12: =SUM(Q12:AC12) -> 0 | AE12: =N12*AD12 -> 0 | AN12: 219 | AR12: 179 | AV12: =IF(OrderFormType="Wholesale",CEILING(AR12*ExchRate,ExchRateRoundUpTo),CEILING(AN12*ExchRate,ExchRateRoundUpTo)/1.22) -> 179 | AW12: =AV12*(1+AO12+AP12) -> 179 | BC12: =SUM(AX12:BB12) -> 0 | BD12: =N12*BC12 -> 0 | BE12: =AV12*(1+AO12+AP12) -> 179 | BG12: =$N12*BF12 -> 0 | BH12: =$AV12*(1.1+$AO12+$AP12) -> 196.9 | BJ12: =N12*BI12 -> 0 | BK12: =AV12*(1.15+AO12+AP12) -> 205.85 | BM12: =N12*BL12 -> 0 | BN12: =AV12*(1.2+AO12+AP12) -> 214.8 | BO12: =(AD12*AW12)+(BC12*BE12)+(BF12*BH12)+(BI12*BK12)+(BL12*BN12) -> 0 | BP12: =AD12+BC12+BF12+BI12+BL12 -> 0 | BQ12: =N12*BP12 -> 0 | BR12: 2185
A13: ="AX1"&REPT(0,4-LEN(BR13))&BR13 -> AX12201 | B13: Easy Riders PU | C13: Easy Rider PU 06 | D13: Holds,PU | F13: Crimps,Open-Handed | G13: Footholds | H13: Negative | I13: Classic | J13: Advanced Beginner,Intermediate,Expert | K13: Bouldering,Lead | L13: Medium | M13: 1.51956 | N13: 15 | AD13: =SUM(Q13:AC13) -> 0 | AE13: =N13*AD13 -> 0 | AN13: 239 | AR13: 194 | AV13: =IF(OrderFormType="Wholesale",CEILING(AR13*ExchRate,ExchRateRoundUpTo),CEILING(AN13*ExchRate,ExchRateRoundUpTo)/1.22) -> 194 | AW13: =AV13*(1+AO13+AP13) -> 194 | BC13: =SUM(AX13:BB13) -> 0 | BD13: =N13*BC13 -> 0 | BE13: =AV13*(1+AO13+AP13) -> 194 | BG13: =$N13*BF13 -> 0 | BH13: =$AV13*(1.1+$AO13+$AP13) -> 213.4 | BJ13: =N13*BI13 -> 0 | BK13: =AV13*(1.15+AO13+AP13) -> 223.1 | BM13: =N13*BL13 -> 0 | BN13: =AV13*(1.2+AO13+AP13) -> 232.8 | BO13: =(AD13*AW13)+(BC13*BE13)+(BF13*BH13)+(BI13*BK13)+(BL13*BN13) -> 0 | BP13: =AD13+BC13+BF13+BI13+BL13 -> 0 | BQ13: =N13*BP13 -> 0 | BR13: 2201
A14: ="AX1"&REPT(0,4-LEN(BR14))&BR14 -> AX12207 | B14: Easy Riders PU | C14: Easy Rider PU 07 | D14: Holds,PU | F14: Jugs | G14: Mini | H14: Positive | I14: Classic | J14: Advanced Beginner,Intermediate,Expert | K14: Bouldering,Lead | L14: Medium | M14: 1.72368 | N14: 12 | AD14: =SUM(Q14:AC14) -> 0 | AE14: =N14*AD14 -> 0 | AN14: 239 | AR14: 194 | AV14: =IF(OrderFormType="Wholesale",CEILING(AR14*ExchRate,ExchRateRoundUpTo),CEILING(AN14*ExchRate,ExchRateRoundUpTo)/1.22) -> 194 | AW14: =AV14*(1+AO14+AP14) -> 194 | BC14: =SUM(AX14:BB14) -> 0 | BD14: =N14*BC14 -> 0 | BE14: =AV14*(1+AO14+AP14) -> 194 | BG14: =$N14*BF14 -> 0 | BH14: =$AV14*(1.1+$AO14+$AP14) -> 213.4 | BJ14: =N14*BI14 -> 0 | BK14: =AV14*(1.15+AO14+AP14) -> 223.1 | BM14: =N14*BL14 -> 0 | BN14: =AV14*(1.2+AO14+AP14) -> 232.8 | BO14: =(AD14*AW14)+(BC14*BE14)+(BF14*BH14)+(BI14*BK14)+(BL14*BN14) -> 0 | BP14: =AD14+BC14+BF14+BI14+BL14 -> 0 | BQ14: =N14*BP14 -> 0 | BR14: 2207
A15: ="AX1"&REPT(0,4-LEN(BR15))&BR15 -> AX12186 | B15: Easy Riders PU | C15: Easy Rider PU 08 | D15: Holds,PU | F15: Crimps | G15: Mini | H15: Positive | I15: Classic | J15: Advanced Beginner,Intermediate,Expert | K15: Bouldering,Lead | L15: Medium | M15: 1.6556108 | N15: 10 | AD15: =SUM(Q15:AC15) -> 0 | AE15: =N15*AD15 -> 0 | AN15: 234 | AR15: 189 | AV15: =IF(OrderFormType="Wholesale",CEILING(AR15*ExchRate,ExchRateRoundUpTo),CEILING(AN15*ExchRate,ExchRateRoundUpTo)/1.22) -> 189 | AW15: =AV15*(1+AO15+AP15) -> 189 | BC15: =SUM(AX15:BB15) -> 0 | BD15: =N15*BC15 -> 0 | BE15: =AV15*(1+AO15+AP15) -> 189 | BG15: =$N15*BF15 -> 0 | BH15: =$AV15*(1.1+$AO15+$AP15) -> 207.9 | BJ15: =N15*BI15 -> 0 | BK15: =AV15*(1.15+AO15+AP15) -> 217.35 | BM15: =N15*BL15 -> 0 | BN15: =AV15*(1.2+AO15+AP15) -> 226.8 | BO15: =(AD15*AW15)+(BC15*BE15)+(BF15*BH15)+(BI15*BK15)+(BL15*BN15) -> 0 | BP15: =AD15+BC15+BF15+BI15+BL15 -> 0 | BQ15: =N15*BP15 -> 0 | BR15: 2186
A16: ="AX1"&REPT(0,4-LEN(BR16))&BR16 -> AX12187 | B16: Easy Riders PU | C16: Easy Rider PU 09 | D16: Holds,PU | F16: Crimps,Edges | G16: Mini | H16: Flat,Positive | I16: Classic | J16: Advanced Beginner,Intermediate,Expert | K16: Bouldering,Lead | L16: Medium | M16: 2.494756 | N16: 10 | AD16: =SUM(Q16:AC16) -> 0 | AE16: =N16*AD16 -> 0 | AN16: 299 | AR16: 244 | AV16: =IF(OrderFormType="Wholesale",CEILING(AR16*ExchRate,ExchRateRoundUpTo),CEILING(AN16*ExchRate,ExchRateRoundUpTo)/1.22) -> 244 | AW16: =AV16*(1+AO16+AP16) -> 244 | BC16: =SUM(AX16:BB16) -> 0 | BD16: =N16*BC16 -> 0 | BE16: =AV16*(1+AO16+AP16) -> 244 | BG16: =$N16*BF16 -> 0 | BH16: =$AV16*(1.1+$AO16+$AP16) -> 268.4 | BJ16: =N16*BI16 -> 0 | BK16: =AV16*(1.15+AO16+AP16) -> 280.6 | BM16: =N16*BL16 -> 0 | BN16: =AV16*(1.2+AO16+AP16) -> 292.8 | BO16: =(AD16*AW16)+(BC16*BE16)+(BF16*BH16)+(BI16*BK16)+(BL16*BN16) -> 0 | BP16: =AD16+BC16+BF16+BI16+BL16 -> 0 | BQ16: =N16*BP16 -> 0 | BR16: 2187
A17: ="AX1"&REPT(0,4-LEN(BR17))&BR17 -> AX12240 | B17: Easy Riders PU | C17: Easy Rider PU 10 | D17: Holds,PU | F17: Edges | G17: Standard | H17: Positive | I17: Classic | J17: Advanced Beginner,Intermediate,Expert | K17: Bouldering,Lead | L17: Medium | M17: 2.5628 | N17: 5 | AD17: =SUM(Q17:AC17) -> 0 | AE17: =N17*AD17 -> 0 | AN17: 294 | AR17: 239 | AV17: =IF(OrderFormType="Wholesale",CEILING(AR17*ExchRate,ExchRateRoundUpTo),CEILING(AN17*ExchRate,ExchRateRoundUpTo)/1.22) -> 239 | AW17: =AV17*(1+AO17+AP17) -> 239 | BC17: =SUM(AX17:BB17) -> 0 | BD17: =N17*BC17 -> 0 | BE17: =AV17*(1+AO17+AP17) -> 239 | BG17: =$N17*BF17 -> 0 | BH17: =$AV17*(1.1+$AO17+$AP17) -> 262.9 | BJ17: =N17*BI17 -> 0 | BK17: =AV17*(1.15+AO17+AP17) -> 274.85 | BM17: =N17*BL17 -> 0 | BN17: =AV17*(1.2+AO17+AP17) -> 286.8 | BO17: =(AD17*AW17)+(BC17*BE17)+(BF17*BH17)+(BI17*BK17)+(BL17*BN17) -> 0 | BP17: =AD17+BC17+BF17+BI17+BL17 -> 0 | BQ17: =N17*BP17 -> 0 | BR17: 2240
A18: ="AX1"&REPT(0,4-LEN(BR18))&BR18 -> AX12241 | B18: Easy Riders PU | C18: Easy Rider PU 11 | D18: Holds,PU | F18: Edges,Open-Handed | G18: Standard | H18: Flat | I18: Classic | J18: Advanced Beginner,Intermediate,Expert | K18: Bouldering,Lead | L18: Medium | M18: 1.7917 | N18: 4 | AD18: =SUM(Q18:AC18) -> 0 | AE18: =N18*AD18 -> 0 | AN18: 234 | AR18: 189 | AV18: =IF(OrderFormType="Wholesale",CEILING(AR18*ExchRate,ExchRateRoundUpTo),CEILING(AN18*ExchRate,ExchRateRoundUpTo)/1.22) -> 189 | AW18: =AV18*(1+AO18+AP18) -> 189 | BC18: =SUM(AX18:BB18) -> 0 | BD18: =N18*BC18 -> 0 | BE18: =AV18*(1+AO18+AP18) -> 189 | BG18: =$N18*BF18 -> 0 | BH18: =$AV18*(1.1+$AO18+$AP18) -> 207.9 | BJ18: =N18*BI18 -> 0 | BK18: =AV18*(1.15+AO18+AP18) -> 217.35 | BM18: =N18*BL18 -> 0 | BN18: =AV18*(1.2+AO18+AP18) -> 226.8 | BO18: =(AD18*AW18)+(BC18*BE18)+(BF18*BH18)+(BI18*BK18)+(BL18*BN18) -> 0 | BP18: =AD18+BC18+BF18+BI18+BL18 -> 0 | BQ18: =N18*BP18 -> 0 | BR18: 2241
A19: ="AX1"&REPT(0,4-LEN(BR19))&BR19 -> AX12242 | B19: Easy Riders PU | C19: Easy Rider PU 12 | D19: Holds,PU | F19: Edges | G19: Standard | H19: Positive | I19: Classic | J19: Advanced Beginner,Intermediate,Expert | K19: Bouldering,Lead | L19: Medium | M19: 3.039 | N19: 5 | AD19: =SUM(Q19:AC19) -> 0 | AE19: =N19*AD19 -> 0 | AN19: 334 | AR19: 274 | AV19: =IF(OrderFormType="Wholesale",CEILING(AR19*ExchRate,ExchRateRoundUpTo),CEILING(AN19*ExchRate,ExchRateRoundUpTo)/1.22) -> 274 | AW19: =AV19*(1+AO19+AP19) -> 274 | BC19: =SUM(AX19:BB19) -> 0 | BD19: =N19*BC19 -> 0 | BE19: =AV19*(1+AO19+AP19) -> 274 | BG19: =$N19*BF19 -> 0 | BH19: =$AV19*(1.1+$AO19+$AP19) -> 301.4 | BJ19: =N19*BI19 -> 0 | BK19: =AV19*(1.15+AO19+AP19) -> 315.1 | BM19: =N19*BL19 -> 0 | BN19: =AV19*(1.2+AO19+AP19) -> 328.8 | BO19: =(AD19*AW19)+(BC19*BE19)+(BF19*BH19)+(BI19*BK19)+(BL19*BN19) -> 0 | BP19: =AD19+BC19+BF19+BI19+BL19 -> 0 | BQ19: =N19*BP19 -> 0 | BR19: 2242
... A57: ="AX1"&REPT(0,4-LEN(BR57))&BR57 -> AX12192 | B57: Easy Riders PU | C57: Easy Rider PU 50 | D57: Holds,PU | F57: Edges,Open-Handed | G57: Giga | H57: Positive | I57: Classic | J57: Advanced Beginner,Intermediate,Expert | K57: Bouldering,Lead | L57: Medium | M57: 1.6782904 | N57: 1 | AD57: =SUM(Q57:AC57) -> 0 | AE57: =N57*AD57 -> 0 | AN57: 194 | AR57: 159 | AV57: =IF(OrderFormType="Wholesale",CEILING(AR57*ExchRate,ExchRateRoundUpTo),CEILING(AN57*ExchRate,ExchRateRoundUpTo)/1.22) -> 159 | AW57: =AV57*(1+AO57+AP57) -> 159 | BC57: =SUM(AX57:BB57) -> 0 | BD57: =N57*BC57 -> 0 | BE57: =AV57*(1+AO57+AP57) -> 159 | BG57: =$N57*BF57 -> 0 | BH57: =$AV57*(1.1+$AO57+$AP57) -> 174.9 | BJ57: =N57*BI57 -> 0 | BK57: =AV57*(1.15+AO57+AP57) -> 182.85 | BM57: =N57*BL57 -> 0 | BN57: =AV57*(1.2+AO57+AP57) -> 190.8 | BO57: =(AD57*AW57)+(BC57*BE57)+(BF57*BH57)+(BI57*BK57)+(BL57*BN57) -> 0 | BP57: =AD57+BC57+BF57+BI57+BL57 -> 0 | BQ57: =N57*BP57 -> 0 | BR57: 2192
C58: Fins PU
A59: ="AX1"&REPT(0,4-LEN(BR59))&BR59 -> AX12557 | B59: Fins PU | C59: Fins PU 01 | D59: Holds,PU | F59: Footholds | G59: Footholds | H59: Flat | I59: Classic | J59: Advanced Beginner,Intermediate,Expert | K59: Bouldering,Lead | L59: Medium | M59: 1.13398 | N59: 15 | AD59: =SUM(Q59:AC59) -> 0 | AE59: =N59*AD59 -> 0 | AN59: 234 | AR59: 189 | AV59: =IF(OrderFormType="Wholesale",CEILING(AR59*ExchRate,ExchRateRoundUpTo),CEILING(AN59*ExchRate,ExchRateRoundUpTo)/1.22) -> 189 | AW59: =AV59*(1+AO59+AP59) -> 189 | BC59: =SUM(AX59:BB59) -> 0 | BD59: =N59*BC59 -> 0 | BE59: =AV59*(1+AO59+AP59) -> 189 | BG59: =$N59*BF59 -> 0 | BH59: =$AV59*(1.1+$AO59+$AP59) -> 207.9 | BJ59: =N59*BI59 -> 0 | BK59: =AV59*(1.15+AO59+AP59) -> 217.35 | BM59: =N59*BL59 -> 0 | BN59: =AV59*(1.2+AO59+AP59) -> 226.8 | BO59: =(AD59*AW59)+(BC59*BE59)+(BF59*BH59)+(BI59*BK59)+(BL59*BN59) -> 0 | BP59: =AD59+BC59+BF59+BI59+BL59 -> 0 | BQ59: =N59*BP59 -> 0 | BR59: 2557
A60: ="AX1"&REPT(0,4-LEN(BR60))&BR60 -> AX12558 | B60: Fins PU | C60: Fins PU 02 | D60: Holds,PU | F60: Screw-ons,Crimps | G60: Mini | H60: Flat | I60: Classic | J60: Advanced Beginner,Intermediate,Expert | K60: Bouldering,Lead | L60: Medium | M60: 0.7484 | N60: 10 | AD60: =SUM(Q60:AC60) -> 0 | AE60: =N60*AD60 -> 0 | AN60: 179 | AR60: 144 | AV60: =IF(OrderFormType="Wholesale",CEILING(AR60*ExchRate,ExchRateRoundUpTo),CEILING(AN60*ExchRate,ExchRateRoundUpTo)/1.22) -> 144 | AW60: =AV60*(1+AO60+AP60) -> 144 | BC60: =SUM(AX60:BB60) -> 0 | BD60: =N60*BC60 -> 0 | BE60: =AV60*(1+AO60+AP60) -> 144 | BG60: =$N60*BF60 -> 0 | BH60: =$AV60*(1.1+$AO60+$AP60) -> 158.4 | BJ60: =N60*BI60 -> 0 | BK60: =AV60*(1.15+AO60+AP60) -> 165.6 | BM60: =N60*BL60 -> 0 | BN60: =AV60*(1.2+AO60+AP60) -> 172.8 | BO60: =(AD60*AW60)+(BC60*BE60)+(BF60*BH60)+(BI60*BK60)+(BL60*BN60) -> 0 | BP60: =AD60+BC60+BF60+BI60+BL60 -> 0 | BQ60: =N60*BP60 -> 0 | BR60: 2558
A61: ="AX1"&REPT(0,4-LEN(BR61))&BR61 -> AX12559 | B61: Fins PU | C61: Fins PU 03 | D61: Holds,PU | F61: Screw-ons,Crimps | G61: Standard | H61: Positive | I61: Classic | J61: Advanced Beginner,Intermediate,Expert | K61: Bouldering,Lead | L61: Medium | M61: 1.0433 | N61: 5 | AD61: =SUM(Q61:AC61) -> 0 | AE61: =N61*AD61 -> 0 | AN61: 169 | AR61: 139 | AV61: =IF(OrderFormType="Wholesale",CEILING(AR61*ExchRate,ExchRateRoundUpTo),CEILING(AN61*ExchRate,ExchRateRoundUpTo)/1.22) -> 139 | AW61: =AV61*(1+AO61+AP61) -> 139 | BC61: =SUM(AX61:BB61) -> 0 | BD61: =N61*BC61 -> 0 | BE61: =AV61*(1+AO61+AP61) -> 139 | BG61: =$N61*BF61 -> 0 | BH61: =$AV61*(1.1+$AO61+$AP61) -> 152.9 | BJ61: =N61*BI61 -> 0 | BK61: =AV61*(1.15+AO61+AP61) -> 159.85 | BM61: =N61*BL61 -> 0 | BN61: =AV61*(1.2+AO61+AP61) -> 166.8 | BO61: =(AD61*AW61)+(BC61*BE61)+(BF61*BH61)+(BI61*BK61)+(BL61*BN61) -> 0 | BP61: =AD61+BC61+BF61+BI61+BL61 -> 0 | BQ61: =N61*BP61 -> 0 | BR61: 2559
A62: ="AX1"&REPT(0,4-LEN(BR62))&BR62 -> AX12560 | B62: Fins PU | C62: Fins PU 04 | D62: Holds,PU | F62: Incut,Crimps | G62: Standard | H62: Positive | I62: Classic | J62: Advanced Beginner,Intermediate,Expert | K62: Bouldering,Lead | L62: Medium | M62: 1.6329 | N62: 5 | AD62: =SUM(Q62:AC62) -> 0 | AE62: =N62*AD62 -> 0 | AN62: 219 | AR62: 179 | AV62: =IF(OrderFormType="Wholesale",CEILING(AR62*ExchRate,ExchRateRoundUpTo),CEILING(AN62*ExchRate,ExchRateRoundUpTo)/1.22) -> 179 | AW62: =AV62*(1+AO62+AP62) -> 179 | BC62: =SUM(AX62:BB62) -> 0 | BD62: =N62*BC62 -> 0 | BE62: =AV62*(1+AO62+AP62) -> 179 | BG62: =$N62*BF62 -> 0 | BH62: =$AV62*(1.1+$AO62+$AP62) -> 196.9 | BJ62: =N62*BI62 -> 0 | BK62: =AV62*(1.15+AO62+AP62) -> 205.85 | BM62: =N62*BL62 -> 0 | BN62: =AV62*(1.2+AO62+AP62) -> 214.8 | BO62: =(AD62*AW62)+(BC62*BE62)+(BF62*BH62)+(BI62*BK62)+(BL62*BN62) -> 0 | BP62: =AD62+BC62+BF62+BI62+BL62 -> 0 | BQ62: =N62*BP62 -> 0 | BR62: 2560
A63: ="AX1"&REPT(0,4-LEN(BR63))&BR63 -> AX12561 | B63: Fins PU | C63: Fins PU 05 | D63: Holds,PU | F63: Incut,Edges | G63: Standard | H63: Positive | I63: Classic | J63: Advanced Beginner,Intermediate,Expert | K63: Bouldering,Lead | L63: Medium | M63: 2.1092 | N63: 5 | AD63: =SUM(Q63:AC63) -> 0 | AE63: =N63*AD63 -> 0 | AN63: 254 | AR63: 209 | AV63: =IF(OrderFormType="Wholesale",CEILING(AR63*ExchRate,ExchRateRoundUpTo),CEILING(AN63*ExchRate,ExchRateRoundUpTo)/1.22) -> 209 | AW63: =AV63*(1+AO63+AP63) -> 209 | BC63: =SUM(AX63:BB63) -> 0 | BD63: =N63*BC63 -> 0 | BE63: =AV63*(1+AO63+AP63) -> 209 | BG63: =$N63*BF63 -> 0 | BH63: =$AV63*(1.1+$AO63+$AP63) -> 229.9 | BJ63: =N63*BI63 -> 0 | BK63: =AV63*(1.15+AO63+AP63) -> 240.35 | BM63: =N63*BL63 -> 0 | BN63: =AV63*(1.2+AO63+AP63) -> 250.8 | BO63: =(AD63*AW63)+(BC63*BE63)+(BF63*BH63)+(BI63*BK63)+(BL63*BN63) -> 0 | BP63: =AD63+BC63+BF63+BI63+BL63 -> 0 | BQ63: =N63*BP63 -> 0 | BR63: 2561
A64: ="AX1"&REPT(0,4-LEN(BR64))&BR64 -> AX12562 | B64: Fins PU | C64: Fins PU 06 | D64: Holds,PU | F64: Edges | G64: Mondo | H64: Positive | I64: Classic | J64: Advanced Beginner,Intermediate,Expert | K64: Bouldering,Lead | L64: Medium | M64: 1.8597 | N64: 3 | AD64: =SUM(Q64:AC64) -> 0 | AE64: =N64*AD64 -> 0 | AN64: 249 | AR64: 204 | AV64: =IF(OrderFormType="Wholesale",CEILING(AR64*ExchRate,ExchRateRoundUpTo),CEILING(AN64*ExchRate,ExchRateRoundUpTo)/1.22) -> 204 | AW64: =AV64*(1+AO64+AP64) -> 204 | BC64: =SUM(AX64:BB64) -> 0 | BD64: =N64*BC64 -> 0 | BE64: =AV64*(1+AO64+AP64) -> 204 | BG64: =$N64*BF64 -> 0 | BH64: =$AV64*(1.1+$AO64+$AP64) -> 224.4 | BJ64: =N64*BI64 -> 0 | BK64: =AV64*(1.15+AO64+AP64) -> 234.6 | BM64: =N64*BL64 -> 0 | BN64: =AV64*(1.2+AO64+AP64) -> 244.8 | BO64: =(AD64*AW64)+(BC64*BE64)+(BF64*BH64)+(BI64*BK64)+(BL64*BN64) -> 0 | BP64: =AD64+BC64+BF64+BI64+BL64 -> 0 | BQ64: =N64*BP64 -> 0 | BR64: 2562
A65: ="AX1"&REPT(0,4-LEN(BR65))&BR65 -> AX12563 | B65: Fins PU | C65: Fins PU 07 | D65: Holds,PU | F65: Screw-ons,Slopers | G65: Mondo | H65: Flat | I65: Classic | J65: Advanced Beginner,Intermediate,Expert | K65: Bouldering,Lead | L65: Medium | M65: 1.2927 | N65: 2 | AD65: =SUM(Q65:AC65) -> 0 | AE65: =N65*AD65 -> 0 | AN65: 189 | AR65: 154 | AV65: =IF(OrderFormType="Wholesale",CEILING(AR65*ExchRate,ExchRateRoundUpTo),CEILING(AN65*ExchRate,ExchRateRoundUpTo)/1.22) -> 154 | AW65: =AV65*(1+AO65+AP65) -> 154 | BC65: =SUM(AX65:BB65) -> 0 | BD65: =N65*BC65 -> 0 | BE65: =AV65*(1+AO65+AP65) -> 154 | BG65: =$N65*BF65 -> 0 | BH65: =$AV65*(1.1+$AO65+$AP65) -> 169.4 | BJ65: =N65*BI65 -> 0 | BK65: =AV65*(1.15+AO65+AP65) -> 177.1 | BM65: =N65*BL65 -> 0 | BN65: =AV65*(1.2+AO65+AP65) -> 184.8 | BO65: =(AD65*AW65)+(BC65*BE65)+(BF65*BH65)+(BI65*BK65)+(BL65*BN65) -> 0 | BP65: =AD65+BC65+BF65+BI65+BL65 -> 0 | BQ65: =N65*BP65 -> 0 | BR65: 2563
A66: ="AX1"&REPT(0,4-LEN(BR66))&BR66 -> AX12564 | B66: Fins PU | C66: Fins PU 08 | D66: Holds,PU | F66: Incut,Edges,Open-Handed | G66: Mondo | H66: Positive | I66: Classic | J66: Advanced Beginner,Intermediate,Expert | K66: Bouldering,Lead | L66: Medium | M66: 2.4721 | N66: 2 | AD66: =SUM(Q66:AC66) -> 0 | AE66: =N66*AD66 -> 0 | AN66: 299 | AR66: 244 | AV66: =IF(OrderFormType="Wholesale",CEILING(AR66*ExchRate,ExchRateRoundUpTo),CEILING(AN66*ExchRate,ExchRateRoundUpTo)/1.22) -> 244 | AW66: =AV66*(1+AO66+AP66) -> 244 | BC66: =SUM(AX66:BB66) -> 0 | BD66: =N66*BC66 -> 0 | BE66: =AV66*(1+AO66+AP66) -> 244 | BG66: =$N66*BF66 -> 0 | BH66: =$AV66*(1.1+$AO66+$AP66) -> 268.4 | BJ66: =N66*BI66 -> 0 | BK66: =AV66*(1.15+AO66+AP66) -> 280.6 | BM66: =N66*BL66 -> 0 | BN66: =AV66*(1.2+AO66+AP66) -> 292.8 | BO66: =(AD66*AW66)+(BC66*BE66)+(BF66*BH66)+(BI66*BK66)+(BL66*BN66) -> 0 | BP66: =AD66+BC66+BF66+BI66+BL66 -> 0 | BQ66: =N66*BP66 -> 0 | BR66: 2564
A67: ="AX1"&REPT(0,4-LEN(BR67))&BR67 -> AX12565 | B67: Fins PU | C67: Fins PU 09 | D67: Holds,PU | F67: Slopers,Open-Handed | G67: Mondo | H67: Flat | I67: Classic | J67: Advanced Beginner,Intermediate,Expert | K67: Bouldering,Lead | L67: Medium | M67: 1.673 | N67: 2 | AD67: =SUM(Q67:AC67) -> 0 | AE67: =N67*AD67 -> 0 | AN67: 219 | AR67: 179 | AV67: =IF(OrderFormType="Wholesale",CEILING(AR67*ExchRate,ExchRateRoundUpTo),CEILING(AN67*ExchRate,ExchRateRoundUpTo)/1.22) -> 179 | AW67: =AV67*(1+AO67+AP67) -> 179 | BC67: =SUM(AX67:BB67) -> 0 | BD67: =N67*BC67 -> 0 | BE67: =AV67*(1+AO67+AP67) -> 179 | BG67: =$N67*BF67 -> 0 | BH67: =$AV67*(1.1+$AO67+$AP67) -> 196.9 | BJ67: =N67*BI67 -> 0 | BK67: =AV67*(1.15+AO67+AP67) -> 205.85 | BM67: =N67*BL67 -> 0 | BN67: =AV67*(1.2+AO67+AP67) -> 214.8 | BO67: =(AD67*AW67)+(BC67*BE67)+(BF67*BH67)+(BI67*BK67)+(BL67*BN67) -> 0 | BP67: =AD67+BC67+BF67+BI67+BL67 -> 0 | BQ67: =N67*BP67 -> 0 | BR67: 2565
A68: ="AX1"&REPT(0,4-LEN(BR68))&BR68 -> AX12566 | B68: Fins PU | C68: Fins PU 10 | D68: Holds,PU | F68: Edges,Slopers,Open-Handed | G68: Mondo | H68: Flat | I68: Classic | J68: Advanced Beginner,Intermediate,Expert | K68: Bouldering,Lead | L68: Medium | M68: 2.3096 | N68: 2 | AD68: =SUM(Q68:AC68) -> 0 | AE68: =N68*AD68 -> 0 | AN68: 264 | AR68: 214 | AV68: =IF(OrderFormType="Wholesale",CEILING(AR68*ExchRate,ExchRateRoundUpTo),CEILING(AN68*ExchRate,ExchRateRoundUpTo)/1.22) -> 214 | AW68: =AV68*(1+AO68+AP68) -> 214 | BC68: =SUM(AX68:BB68) -> 0 | BD68: =N68*BC68 -> 0 | BE68: =AV68*(1+AO68+AP68) -> 214 | BG68: =$N68*BF68 -> 0 | BH68: =$AV68*(1.1+$AO68+$AP68) -> 235.4 | BJ68: =N68*BI68 -> 0 | BK68: =AV68*(1.15+AO68+AP68) -> 246.1 | BM68: =N68*BL68 -> 0 | BN68: =AV68*(1.2+AO68+AP68) -> 256.8 | BO68: =(AD68*AW68)+(BC68*BE68)+(BF68*BH68)+(BI68*BK68)+(BL68*BN68) -> 0 | BP68: =AD68+BC68+BF68+BI68+BL68 -> 0 | BQ68: =N68*BP68 -> 0 | BR68: 2566
A69: ="AX1"&REPT(0,4-LEN(BR69))&BR69 -> AX12567 | B69: Fins PU | C69: Fins PU 11 | D69: Holds,PU | F69: Edges,Open-Handed | G69: Mondo | H69: Positive | I69: Classic | J69: Advanced Beginner,Intermediate,Expert | K69: Bouldering,Lead | L69: Medium | M69: 2.1092 | N69: 2 | AD69: =SUM(Q69:AC69) -> 0 | AE69: =N69*AD69 -> 0 | AN69: 264 | AR69: 214 | AV69: =IF(OrderFormType="Wholesale",CEILING(AR69*ExchRate,ExchRateRoundUpTo),CEILING(AN69*ExchRate,ExchRateRoundUpTo)/1.22) -> 214 | AW69: =AV69*(1+AO69+AP69) -> 214 | BC69: =SUM(AX69:BB69) -> 0 | BD69: =N69*BC69 -> 0 | BE69: =AV69*(1+AO69+AP69) -> 214 | BG69: =$N69*BF69 -> 0 | BH69: =$AV69*(1.1+$AO69+$AP69) -> 235.4 | BJ69: =N69*BI69 -> 0 | BK69: =AV69*(1.15+AO69+AP69) -> 246.1 | BM69: =N69*BL69 -> 0 | BN69: =AV69*(1.2+AO69+AP69) -> 256.8 | BO69: =(AD69*AW69)+(BC69*BE69)+(BF69*BH69)+(BI69*BK69)+(BL69*BN69) -> 0 | BP69: =AD69+BC69+BF69+BI69+BL69 -> 0 | BQ69: =N69*BP69 -> 0 | BR69: 2567
A70: ="AX1"&REPT(0,4-LEN(BR70))&BR70 -> AX12568 | B70: Fins PU | C70: Fins PU 12 | D70: Holds,PU | F70: Jugs,Open-Handed | G70: Mondo | H70: Positive | I70: Classic | J70: Advanced Beginner,Intermediate,Expert | K70: Bouldering,Lead | L70: Medium | M70: 3.6061 | N70: 4 | AD70: =SUM(Q70:AC70) -> 0 | AE70: =N70*AD70 -> 0 | AN70: 389 | AR70: 319 | AV70: =IF(OrderFormType="Wholesale",CEILING(AR70*ExchRate,ExchRateRoundUpTo),CEILING(AN70*ExchRate,ExchRateRoundUpTo)/1.22) -> 319 | AW70: =AV70*(1+AO70+AP70) -> 319 | BC70: =SUM(AX70:BB70) -> 0 | BD70: =N70*BC70 -> 0 | BE70: =AV70*(1+AO70+AP70) -> 319 | BG70: =$N70*BF70 -> 0 | BH70: =$AV70*(1.1+$AO70+$AP70) -> 350.9 | BJ70: =N70*BI70 -> 0 | BK70: =AV70*(1.15+AO70+AP70) -> 366.85 | BM70: =N70*BL70 -> 0 | BN70: =AV70*(1.2+AO70+AP70) -> 382.8 | BO70: =(AD70*AW70)+(BC70*BE70)+(BF70*BH70)+(BI70*BK70)+(BL70*BN70) -> 0 | BP70: =AD70+BC70+BF70+BI70+BL70 -> 0 | BQ70: =N70*BP70 -> 0 | BR70: 2568
... A76: ="AX1"&REPT(0,4-LEN(BR76))&BR76 -> AX12574 | B76: Fins PU | C76: Fins PU 18 | D76: Holds,PU | F76: Jugs,Open-Handed | G76: Mondo | H76: Positive | I76: Classic | J76: Advanced Beginner,Intermediate,Expert | K76: Bouldering,Lead | L76: Medium | M76: 2.6989 | N76: 1 | AD76: =SUM(Q76:AC76) -> 0 | AE76: =N76*AD76 -> 0 | AN76: 299 | AR76: 244 | AV76: =IF(OrderFormType="Wholesale",CEILING(AR76*ExchRate,ExchRateRoundUpTo),CEILING(AN76*ExchRate,ExchRateRoundUpTo)/1.22) -> 244 | AW76: =AV76*(1+AO76+AP76) -> 244 | BC76: =SUM(AX76:BB76) -> 0 | BD76: =N76*BC76 -> 0 | BE76: =AV76*(1+AO76+AP76) -> 244 | BG76: =$N76*BF76 -> 0 | BH76: =$AV76*(1.1+$AO76+$AP76) -> 268.4 | BJ76: =N76*BI76 -> 0 | BK76: =AV76*(1.15+AO76+AP76) -> 280.6 | BM76: =N76*BL76 -> 0 | BN76: =AV76*(1.2+AO76+AP76) -> 292.8 | BO76: =(AD76*AW76)+(BC76*BE76)+(BF76*BH76)+(BI76*BK76)+(BL76*BN76) -> 0 | BP76: =AD76+BC76+BF76+BI76+BL76 -> 0 | BQ76: =N76*BP76 -> 0 | BR76: 2574
C77: Down Climber PU
A78: ="AX1"&REPT(0,4-LEN(BR78))&BR78 -> AX12096 | B78: Down Climber | C78: Down Climb PU | D78: Holds,PU | F78: Jugs | G78: Standard | H78: Super Positive | I78: Classic,Down Climb | J78: Beginner,Advanced Beginner,Intermediate,Expert | K78: Bouldering,Lead,Down Climb | L78: Medium | M78: 2.8576 | N78: 4 | AD78: =SUM(Q78:AC78) -> 0 | AE78: =N78*AD78 -> 0 | AN78: 269 | AR78: 219 | AV78: =IF(OrderFormType="Wholesale",CEILING(AR78*ExchRate,ExchRateRoundUpTo),CEILING(AN78*ExchRate,ExchRateRoundUpTo)/1.22) -> 219 | AW78: =AV78*(1+AO78+AP78) -> 219 | BC78: =SUM(AX78:BB78) -> 0 | BD78: =N78*BC78 -> 0 | BE78: =AV78*(1+AO78+AP78) -> 219 | BG78: =$N78*BF78 -> 0 | BH78: =$AV78*(1.1+$AO78+$AP78) -> 240.9 | BJ78: =N78*BI78 -> 0 | BK78: =AV78*(1.15+AO78+AP78) -> 251.85 | BM78: =N78*BL78 -> 0 | BN78: =AV78*(1.2+AO78+AP78) -> 262.8 | BO78: =(AD78*AW78)+(BC78*BE78)+(BF78*BH78)+(BI78*BK78)+(BL78*BN78) -> 0 | BP78: =AD78+BC78+BF78+BI78+BL78 -> 0 | BQ78: =N78*BP78 -> 0 | BR78: 2096
A79: ="AX1"&REPT(0,4-LEN(BR79))&BR79 -> AX12095 | B79: Down Climber | C79: Down Climb PU with Arrow | D79: Holds,PU | F79: Jugs | G79: Standard | H79: Super Positive | I79: Classic,Down Climb | J79: Advanced Beginner,Intermediate,Expert | K79: Bouldering,Lead,Down Climb | L79: Medium | M79: 3 | N79: 4 | AD79: =SUM(Q79:AC79) -> 0 | AE79: =N79*AD79 -> 0 | AN79: 244 | AR79: 199 | AV79: =IF(OrderFormType="Wholesale",CEILING(AR79*ExchRate,ExchRateRoundUpTo),CEILING(AN79*ExchRate,ExchRateRoundUpTo)/1.22) -> 199 | AW79: =AV79*(1+AO79+AP79) -> 199 | BC79: =SUM(AX79:BB79) -> 0 | BD79: =N79*BC79 -> 0 | BE79: =AV79*(1+AO79+AP79) -> 199 | BG79: =$N79*BF79 -> 0 | BH79: =$AV79*(1.1+$AO79+$AP79) -> 218.9 | BJ79: =N79*BI79 -> 0 | BK79: =AV79*(1.15+AO79+AP79) -> 228.85 | BM79: =N79*BL79 -> 0 | BN79: =AV79*(1.2+AO79+AP79) -> 238.8 | BO79: =(AD79*AW79)+(BC79*BE79)+(BF79*BH79)+(BI79*BK79)+(BL79*BN79) -> 0 | BP79: =AD79+BC79+BF79+BI79+BL79 -> 0 | BQ79: =N79*BP79 -> 0 | BR79: 2095

Sheet Bleaustone
A1: SKU | B1: Category | D1: Hold Type | E1: NEW | F1: Grip Type | G1: Size | H1: Positivity | I1: Style | J1: Climbing ability | K1: Climbing style | L1: Haptics | M1: Weight kg | N1: Holds Set | O1: Texture | P1: Plain | Q1: Standard Colour | AD1: Sets | AE1: Holds | AN1: RRP | AR1: WP in EUR | AV1: Price | AW1: Price | AX1: Fluoresz. Colour | BC1: Sets | BD1: Holds | BE1: Price | BF1: Custom RAL | BG1: Holds | BH1: Price | BI1: Dual Colour | BJ1: Holds | BK1: Price | BL1: Trans-lucent Colour | BM1: Holds | BN1: Price | BO1: Total | BP1: Sets | BQ1: Holds | BR1: ID
N2: Colour | Q2: red | R2: blue | S2: yellow | T2: green | U2: black | V2: white | W2: grey | X2: mint | Y2: purple | Z2: orange | AA2: brown | AX2: pink | AY2: green | AZ2: yellow | BA2: violett | BB2: orange
N3: RAL | Q3: 3000 | R3: 5015 | S3: 1023 | T3: 6029 | U3: 9005 | V3: 9003 | W3: 7004 | X3: 6027 | Y3: 4005 | Z3: 2011 | AA3: 8003 | AB3: 2004 | AC3: 4008
N4: Aragon | Q4: 11-12 | R4: 13-14 | S4: 15-12 | T4: 16-24 | U4: 18-01 | V4: 12-01 | X4: 13-27 | Y4: 17-18 | Z4: 14-06 | AC4: 17-21 | AX4: 11-25 | AY4: 16-29 | BB4: 14-11
Q5: =SUMPRODUCT(Q6:Q184,$N6:$N184) -> 0 | R5: =SUMPRODUCT(R6:R184,$N6:$N184) -> 0 | S5: =SUMPRODUCT(S6:S184,$N6:$N184) -> 0 | T5: =SUMPRODUCT(T6:T184,$N6:$N184) -> 0 | U5: =SUMPRODUCT(U6:U184,$N6:$N184) -> 0 | V5: =SUMPRODUCT(V6:V184,$N6:$N184) -> 0 | W5: =SUMPRODUCT(W6:W184,$N6:$N184) -> 0 | X5: =SUMPRODUCT(X6:X184,$N6:$N184) -> 0 | ... AC5: =SUMPRODUCT(AC6:AC184,$N6:$N184) -> 0 | AD5: =SUM(AD6:AD184) -> 0 | AE5: =SUM(AE6:AE184) -> 0 | AX5: =SUMPRODUCT(AX6:AX184,$N6:$N184) -> 0 | AY5: =SUMPRODUCT(AY6:AY184,$N6:$N184) -> 0 | AZ5: =SUMPRODUCT(AZ6:AZ184,$N6:$N184) -> 0 | BA5: =SUMPRODUCT(BA6:BA184,$N6:$N184) -> 0 | BB5: =SUMPRODUCT(BB6:BB184,$N6:$N184) -> 0 | BC5: =SUM(BC6:BC184) -> 0 | BD5: =SUM(BD6:BD184) -> 0 | BF5: =SUMPRODUCT(BF6:BF184,$N6:$N184) -> 0 | BG5: =SUM(BG6:BG184) -> 0 | BI5: =SUMPRODUCT(BI6:BI184,$N6:$N184) -> 0 | BJ5: =SUM(BJ6:BJ184) -> 0 | BL5: =SUMPRODUCT(BL6:BL184,$N6:$N184) -> 0 | BM5: =SUM(BM6:BM184) -> 0 | BO5: =SUM(BO6:BO184) -> 0 | BP5: =SUM(BP6:BP184) -> 0 | BQ5: =SUM(BQ6:BQ184) -> 0 | BR5: =ROWS(BR6:BR184) -> 179
C7: Classic range
A8: ="BL2"&REPT(0,4-LEN(BR8))&BR8 -> BL20709 | B8: Classic Basics | C8: Classic Crimps | D8: Holds | F8: Crimps | G8: Mini | H8: Positive | I8: Classic | J8: Beginner,Advanced Beginner,Intermediate,Expert | K8: Bouldering,Lead | L8: Medium | M8: 2.53 | N8: 10 | AD8: =SUM(Q8:AC8) -> 0 | AE8: =N8*AD8 -> 0 | AN8: 104 | AR8: 84 | AV8: =IF(OrderFormType="Wholesale",CEILING(AR8*ExchRate,ExchRateRoundUpTo),CEILING(AN8*ExchRate,ExchRateRoundUpTo)/1.22) -> 84 | AW8: =AV8*(1+AO8+AP8) -> 84 | BC8: =SUM(AX8:BB8) -> 0 | BD8: =N8*BC8 -> 0 | BE8: =AV8*(1.05+AO8+AP8) -> 88.2 | BG8: =$N8*BF8 -> 0 | BH8: =$AV8*(1.1+$AO8+$AP8) -> 92.4 | BJ8: =N8*BI8 -> 0 | BK8: =AV8*(1.15+AO8+AP8) -> 96.6 | BM8: =N8*BL8 -> 0 | BN8: =AV8*(1.2+AO8+AP8) -> 100.8 | BO8: =(AD8*AW8)+(BC8*BE8)+(BF8*BH8)+(BI8*BK8)+(BL8*BN8) -> 0 | BP8: =AD8+BC8+BF8+BI8+BL8 -> 0 | BQ8: =N8*BP8 -> 0 | BR8: 709
A9: ="BL2"&REPT(0,4-LEN(BR9))&BR9 -> BL20354 | B9: Classic Basics | C9: Classic Dual-Handed Threads | D9: Holds | F9: Dual-Handed,Jugs | G9: Standard | H9: Super Positive | I9: Classic | J9: Beginner,Advanced Beginner,Intermediate,Expert | K9: Bouldering,Lead | L9: Medium | M9: 5.7 | N9: 5 | AD9: =SUM(Q9:AC9) -> 0 | AE9: =N9*AD9 -> 0 | AN9: 154 | AR9: 124 | AV9: =IF(OrderFormType="Wholesale",CEILING(AR9*ExchRate,ExchRateRoundUpTo),CEILING(AN9*ExchRate,ExchRateRoundUpTo)/1.22) -> 124 | AW9: =AV9*(1+AO9+AP9) -> 124 | BC9: =SUM(AX9:BB9) -> 0 | BD9: =N9*BC9 -> 0 | BE9: =AV9*(1.05+AO9+AP9) -> 130.2 | BG9: =$N9*BF9 -> 0 | BH9: =$AV9*(1.1+$AO9+$AP9) -> 136.4 | BJ9: =N9*BI9 -> 0 | BK9: =AV9*(1.15+AO9+AP9) -> 142.6 | BM9: =N9*BL9 -> 0 | BN9: =AV9*(1.2+AO9+AP9) -> 148.8 | BO9: =(AD9*AW9)+(BC9*BE9)+(BF9*BH9)+(BI9*BK9)+(BL9*BN9) -> 0 | BP9: =AD9+BC9+BF9+BI9+BL9 -> 0 | BQ9: =N9*BP9 -> 0 | BR9: 354
A10: ="BL2"&REPT(0,4-LEN(BR10))&BR10 -> BL20531 | B10: Classic Basics | C10: Classic Edges | D10: Holds | F10: Edges | G10: Standard | H10: Flat | I10: Classic | J10: Beginner,Advanced Beginner,Intermediate,Expert | K10: Bouldering,Lead | L10: Medium | M10: 17.575 | N10: 10 | AD10: =SUM(Q10:AC10) -> 0 | AE10: =N10*AD10 -> 0 | AN10: 344 | AR10: 279 | AV10: =IF(OrderFormType="Wholesale",CEILING(AR10*ExchRate,ExchRateRoundUpTo),CEILING(AN10*ExchRate,ExchRateRoundUpTo)/1.22) -> 279 | AW10: =AV10*(1+AO10+AP10) -> 279 | BC10: =SUM(AX10:BB10) -> 0 | BD10: =N10*BC10 -> 0 | BE10: =AV10*(1.05+AO10+AP10) -> 292.95 | BG10: =$N10*BF10 -> 0 | BH10: =$AV10*(1.1+$AO10+$AP10) -> 306.9 | BJ10: =N10*BI10 -> 0 | BK10: =AV10*(1.15+AO10+AP10) -> 320.85 | BM10: =N10*BL10 -> 0 | BN10: =AV10*(1.2+AO10+AP10) -> 334.8 | BO10: =(AD10*AW10)+(BC10*BE10)+(BF10*BH10)+(BI10*BK10)+(BL10*BN10) -> 0 | BP10: =AD10+BC10+BF10+BI10+BL10 -> 0 | BQ10: =N10*BP10 -> 0 | BR10: 531
A11: ="BL2"&REPT(0,4-LEN(BR11))&BR11 -> BL20702 | B11: Classic Basics | C11: Classic Incut Crimps | D11: Holds | F11: Incut,Crimps | G11: Mini | H11: Positive | I11: Classic | J11: Beginner,Advanced Beginner,Intermediate,Expert | K11: Bouldering,Lead | L11: Medium | M11: 2.7 | N11: 10 | AD11: =SUM(Q11:AC11) -> 0 | AE11: =N11*AD11 -> 0 | AN11: 104 | AR11: 84 | AV11: =IF(OrderFormType="Wholesale",CEILING(AR11*ExchRate,ExchRateRoundUpTo),CEILING(AN11*ExchRate,ExchRateRoundUpTo)/1.22) -> 84 | AW11: =AV11*(1+AO11+AP11) -> 84 | BC11: =SUM(AX11:BB11) -> 0 | BD11: =N11*BC11 -> 0 | BE11: =AV11*(1.05+AO11+AP11) -> 88.2 | BG11: =$N11*BF11 -> 0 | BH11: =$AV11*(1.1+$AO11+$AP11) -> 92.4 | BJ11: =N11*BI11 -> 0 | BK11: =AV11*(1.15+AO11+AP11) -> 96.6 | BM11: =N11*BL11 -> 0 | BN11: =AV11*(1.2+AO11+AP11) -> 100.8 | BO11: =(AD11*AW11)+(BC11*BE11)+(BF11*BH11)+(BI11*BK11)+(BL11*BN11) -> 0 | BP11: =AD11+BC11+BF11+BI11+BL11 -> 0 | BQ11: =N11*BP11 -> 0 | BR11: 702
A12: ="BL2"&REPT(0,4-LEN(BR12))&BR12 -> BL20701 | B12: Classic Basics | C12: Classic Mini Edges | D12: Holds | F12: Edges | G12: Mini | H12: Flat | I12: Classic | J12: Beginner,Advanced Beginner,Intermediate,Expert | K12: Bouldering,Lead | L12: Medium | M12: 7 | N12: 10 | AD12: =SUM(Q12:AC12) -> 0 | AE12: =N12*AD12 -> 0 | AN12: 204 | AR12: 164 | AV12: =IF(OrderFormType="Wholesale",CEILING(AR12*ExchRate,ExchRateRoundUpTo),CEILING(AN12*ExchRate,ExchRateRoundUpTo)/1.22) -> 164 | AW12: =AV12*(1+AO12+AP12) -> 164 | BC12: =SUM(AX12:BB12) -> 0 | BD12: =N12*BC12 -> 0 | BE12: =AV12*(1.05+AO12+AP12) -> 172.2 | BG12: =$N12*BF12 -> 0 | BH12: =$AV12*(1.1+$AO12+$AP12) -> 180.4 | BJ12: =N12*BI12 -> 0 | BK12: =AV12*(1.15+AO12+AP12) -> 188.6 | BM12: =N12*BL12 -> 0 | BN12: =AV12*(1.2+AO12+AP12) -> 196.8 | BO12: =(AD12*AW12)+(BC12*BE12)+(BF12*BH12)+(BI12*BK12)+(BL12*BN12) -> 0 | BP12: =AD12+BC12+BF12+BI12+BL12 -> 0 | BQ12: =N12*BP12 -> 0 | BR12: 701
A13: ="BL2"&REPT(0,4-LEN(BR13))&BR13 -> BL20746 | B13: Classic Basics | C13: Classic Specials | D13: Holds | F13: Specials | G13: Mini | H13: Negative | I13: Classic | J13: Beginner,Advanced Beginner,Intermediate,Expert | K13: Bouldering,Lead | L13: Medium | M13: 2.66 | N13: 10 | AD13: =SUM(Q13:AC13) -> 0 | AE13: =N13*AD13 -> 0 | AN13: 109 | AR13: 89 | AV13: =IF(OrderFormType="Wholesale",CEILING(AR13*ExchRate,ExchRateRoundUpTo),CEILING(AN13*ExchRate,ExchRateRoundUpTo)/1.22) -> 89 | AW13: =AV13*(1+AO13+AP13) -> 89 | BC13: =SUM(AX13:BB13) -> 0 | BD13: =N13*BC13 -> 0 | BE13: =AV13*(1.05+AO13+AP13) -> 93.45 | BG13: =$N13*BF13 -> 0 | BH13: =$AV13*(1.1+$AO13+$AP13) -> 97.9 | BJ13: =N13*BI13 -> 0 | BK13: =AV13*(1.15+AO13+AP13) -> 102.35 | BM13: =N13*BL13 -> 0 | BN13: =AV13*(1.2+AO13+AP13) -> 106.8 | BO13: =(AD13*AW13)+(BC13*BE13)+(BF13*BH13)+(BI13*BK13)+(BL13*BN13) -> 0 | BP13: =AD13+BC13+BF13+BI13+BL13 -> 0 | BQ13: =N13*BP13 -> 0 | BR13: 746
A14: ="BL2"&REPT(0,4-LEN(BR14))&BR14 -> BL20708 | B14: Classic Basics | C14: Classic Pinches | D14: Holds | F14: Pinches | G14: Standard | H14: Positive | I14: Classic | J14: Beginner,Advanced Beginner,Intermediate,Expert | K14: Bouldering,Lead | L14: Medium | M14: 3.373 | N14: 5 | AD14: =SUM(Q14:AC14) -> 0 | AE14: =N14*AD14 -> 0 | AN14: 134 | AR14: 109 | AV14: =IF(OrderFormType="Wholesale",CEILING(AR14*ExchRate,ExchRateRoundUpTo),CEILING(AN14*ExchRate,ExchRateRoundUpTo)/1.22) -> 109 | AW14: =AV14*(1+AO14+AP14) -> 109 | BC14: =SUM(AX14:BB14) -> 0 | BD14: =N14*BC14 -> 0 | BE14: =AV14*(1.05+AO14+AP14) -> 114.45 | BG14: =$N14*BF14 -> 0 | BH14: =$AV14*(1.1+$AO14+$AP14) -> 119.9 | BJ14: =N14*BI14 -> 0 | BK14: =AV14*(1.15+AO14+AP14) -> 125.35 | BM14: =N14*BL14 -> 0 | BN14: =AV14*(1.2+AO14+AP14) -> 130.8 | BO14: =(AD14*AW14)+(BC14*BE14)+(BF14*BH14)+(BI14*BK14)+(BL14*BN14) -> 0 | BP14: =AD14+BC14+BF14+BI14+BL14 -> 0 | BQ14: =N14*BP14 -> 0 | BR14: 708
A15: ="BL2"&REPT(0,4-LEN(BR15))&BR15 -> BL20711 | B15: Classic Basics | C15: Classic Pockets | D15: Holds | F15: Pockets | G15: Standard | H15: Positive | I15: Classic | J15: Beginner,Advanced Beginner,Intermediate,Expert | K15: Bouldering,Lead | L15: Medium | M15: 6.53 | N15: 10 | AD15: =SUM(Q15:AC15) -> 0 | AE15: =N15*AD15 -> 0 | AN15: 164 | AR15: 134 | AV15: =IF(OrderFormType="Wholesale",CEILING(AR15*ExchRate,ExchRateRoundUpTo),CEILING(AN15*ExchRate,ExchRateRoundUpTo)/1.22) -> 134 | AW15: =AV15*(1+AO15+AP15) -> 134 | BC15: =SUM(AX15:BB15) -> 0 | BD15: =N15*BC15 -> 0 | BE15: =AV15*(1.05+AO15+AP15) -> 140.7 | BG15: =$N15*BF15 -> 0 | BH15: =$AV15*(1.1+$AO15+$AP15) -> 147.4 | BJ15: =N15*BI15 -> 0 | BK15: =AV15*(1.15+AO15+AP15) -> 154.1 | BM15: =N15*BL15 -> 0 | BN15: =AV15*(1.2+AO15+AP15) -> 160.8 | BO15: =(AD15*AW15)+(BC15*BE15)+(BF15*BH15)+(BI15*BK15)+(BL15*BN15) -> 0 | BP15: =AD15+BC15+BF15+BI15+BL15 -> 0 | BQ15: =N15*BP15 -> 0 | BR15: 711
A16: ="BL2"&REPT(0,4-LEN(BR16))&BR16 -> BL20314 | B16: Classic Basics | C16: Classic Screw-ons | D16: Holds | F16: Screw-ons | G16: Footholds | H16: Positive | I16: Classic | J16: Beginner,Advanced Beginner,Intermediate,Expert | K16: Bouldering,Lead | L16: Medium | M16: 1.0306 | N16: 20 | AD16: =SUM(Q16:AC16) -> 0 | AE16: =N16*AD16 -> 0 | AN16: 74 | AR16: 59 | AV16: =IF(OrderFormType="Wholesale",CEILING(AR16*ExchRate,ExchRateRoundUpTo),CEILING(AN16*ExchRate,ExchRateRoundUpTo)/1.22) -> 59 | AW16: =AV16*(1+AO16+AP16) -> 59 | BC16: =SUM(AX16:BB16) -> 0 | BD16: =N16*BC16 -> 0 | BE16: =AV16*(1.05+AO16+AP16) -> 61.95 | BG16: =$N16*BF16 -> 0 | BH16: =$AV16*(1.1+$AO16+$AP16) -> 64.9 | BJ16: =N16*BI16 -> 0 | BK16: =AV16*(1.15+AO16+AP16) -> 67.85 | BM16: =N16*BL16 -> 0 | BN16: =AV16*(1.2+AO16+AP16) -> 70.8 | BO16: =(AD16*AW16)+(BC16*BE16)+(BF16*BH16)+(BI16*BK16)+(BL16*BN16) -> 0 | BP16: =AD16+BC16+BF16+BI16+BL16 -> 0 | BQ16: =N16*BP16 -> 0 | BR16: 314
A17: ="BL2"&REPT(0,4-LEN(BR17))&BR17 -> BL20710 | B17: Classic Basics | C17: Classic Slopers | D17: Holds | F17: Slopers | G17: Standard | H17: Negative | I17: Classic | J17: Beginner,Advanced Beginner,Intermediate,Expert | K17: Bouldering,Lead | L17: Medium | M17: 20.677 | N17: 10 | AD17: =SUM(Q17:AC17) -> 0 | AE17: =N17*AD17 -> 0 | AN17: 389 | AR17: 319 | AV17: =IF(OrderFormType="Wholesale",CEILING(AR17*ExchRate,ExchRateRoundUpTo),CEILING(AN17*ExchRate,ExchRateRoundUpTo)/1.22) -> 319 | AW17: =AV17*(1+AO17+AP17) -> 319 | BC17: =SUM(AX17:BB17) -> 0 | BD17: =N17*BC17 -> 0 | BE17: =AV17*(1.05+AO17+AP17) -> 334.95 | BG17: =$N17*BF17 -> 0 | BH17: =$AV17*(1.1+$AO17+$AP17) -> 350.9 | BJ17: =N17*BI17 -> 0 | BK17: =AV17*(1.15+AO17+AP17) -> 366.85 | BM17: =N17*BL17 -> 0 | BN17: =AV17*(1.2+AO17+AP17) -> 382.8 | BO17: =(AD17*AW17)+(BC17*BE17)+(BF17*BH17)+(BI17*BK17)+(BL17*BN17) -> 0 | BP17: =AD17+BC17+BF17+BI17+BL17 -> 0 | BQ17: =N17*BP17 -> 0 | BR17: 710
A18: ="BL2"&REPT(0,4-LEN(BR18))&BR18 -> BL20740 | B18: Classic Footholds | C18: Classic Footholds | D18: Holds | F18: Footholds | G18: Footholds | H18: Positive | I18: Classic | J18: Beginner,Advanced Beginner,Intermediate,Expert | K18: Bouldering,Lead | L18: Medium | M18: 1.4 | N18: 10 | AD18: =SUM(Q18:AC18) -> 0 | AE18: =N18*AD18 -> 0 | AN18: 79 | AR18: 64 | AV18: =IF(OrderFormType="Wholesale",CEILING(AR18*ExchRate,ExchRateRoundUpTo),CEILING(AN18*ExchRate,ExchRateRoundUpTo)/1.22) -> 64 | AW18: =AV18*(1+AO18+AP18) -> 64 | BC18: =SUM(AX18:BB18) -> 0 | BD18: =N18*BC18 -> 0 | BE18: =AV18*(1.05+AO18+AP18) -> 67.2 | BG18: =$N18*BF18 -> 0 | BH18: =$AV18*(1.1+$AO18+$AP18) -> 70.4 | BJ18: =N18*BI18 -> 0 | BK18: =AV18*(1.15+AO18+AP18) -> 73.6 | BM18: =N18*BL18 -> 0 | BN18: =AV18*(1.2+AO18+AP18) -> 76.8 | BO18: =(AD18*AW18)+(BC18*BE18)+(BF18*BH18)+(BI18*BK18)+(BL18*BN18) -> 0 | BP18: =AD18+BC18+BF18+BI18+BL18 -> 0 | BQ18: =N18*BP18 -> 0 | BR18: 740
A19: ="BL2"&REPT(0,4-LEN(BR19))&BR19 -> BL20739 | B19: Classic Footholds | C19: Classic Mini Footholds | D19: Holds | F19: Footholds | G19: Footholds | H19: Positive | I19: Classic | J19: Beginner,Advanced Beginner,Intermediate,Expert | K19: Bouldering,Lead | L19: Medium | M19: 1.633 | N19: 20 | AD19: =SUM(Q19:AC19) -> 0 | AE19: =N19*AD19 -> 0 | AN19: 109 | AR19: 89 | AV19: =IF(OrderFormType="Wholesale",CEILING(AR19*ExchRate,ExchRateRoundUpTo),CEILING(AN19*ExchRate,ExchRateRoundUpTo)/1.22) -> 89 | AW19: =AV19*(1+AO19+AP19) -> 89 | BC19: =SUM(AX19:BB19) -> 0 | BD19: =N19*BC19 -> 0 | BE19: =AV19*(1.05+AO19+AP19) -> 93.45 | BG19: =$N19*BF19 -> 0 | BH19: =$AV19*(1.1+$AO19+$AP19) -> 97.9 | BJ19: =N19*BI19 -> 0 | BK19: =AV19*(1.15+AO19+AP19) -> 102.35 | BM19: =N19*BL19 -> 0 | BN19: =AV19*(1.2+AO19+AP19) -> 106.8 | BO19: =(AD19*AW19)+(BC19*BE19)+(BF19*BH19)+(BI19*BK19)+(BL19*BN19) -> 0 | BP19: =AD19+BC19+BF19+BI19+BL19 -> 0 | BQ19: =N19*BP19 -> 0 | BR19: 739
... A21: ="BL2"&REPT(0,4-LEN(BR21))&BR21 -> BL21507 | B21: Classic Jugs | C21: Classic Flat Jugs | D21: Holds | F21: Jugs | G21: Standard | H21: Flat | I21: Classic | J21: Beginner,Advanced Beginner,Intermediate,Expert | K21: Bouldering,Lead | L21: Medium | M21: 7.605 | N21: 10 | AD21: =SUM(Q21:AC21) -> 0 | AE21: =N21*AD21 -> 0 | AN21: 194 | AR21: 159 | AV21: =IF(OrderFormType="Wholesale",CEILING(AR21*ExchRate,ExchRateRoundUpTo),CEILING(AN21*ExchRate,ExchRateRoundUpTo)/1.22) -> 159 | AW21: =AV21*(1+AO21+AP21) -> 159 | BC21: =SUM(AX21:BB21) -> 0 | BD21: =N21*BC21 -> 0 | BE21: =AV21*(1.05+AO21+AP21) -> 166.95 | BG21: =$N21*BF21 -> 0 | BH21: =$AV21*(1.1+$AO21+$AP21) -> 174.9 | BJ21: =N21*BI21 -> 0 | BK21: =AV21*(1.15+AO21+AP21) -> 182.85 | BM21: =N21*BL21 -> 0 | BN21: =AV21*(1.2+AO21+AP21) -> 190.8 | BO21: =(AD21*AW21)+(BC21*BE21)+(BF21*BH21)+(BI21*BK21)+(BL21*BN21) -> 0 | BP21: =AD21+BC21+BF21+BI21+BL21 -> 0 | BQ21: =N21*BP21 -> 0 | BR21: 1507
A22: ="BL2"&REPT(0,4-LEN(BR22))&BR22 -> BL22233 | B22: Classic Jugs | C22: Classic Giga Jugs 01 | D22: Holds | F22: Jugs | G22: Giga | I22: Classic | J22: Beginner,Advanced Beginner,Intermediate,Expert | K22: Bouldering,Lead | L22: Medium | M22: 8.48 | N22: 2 | AD22: =SUM(Q22:AC22) -> 0 | AE22: =N22*AD22 -> 0 | AN22: 179 | AR22: 144 | AV22: =IF(OrderFormType="Wholesale",CEILING(AR22*ExchRate,ExchRateRoundUpTo),CEILING(AN22*ExchRate,ExchRateRoundUpTo)/1.22) -> 144 | AW22: =AV22*(1+AO22+AP22) -> 144 | BC22: =SUM(AX22:BB22) -> 0 | BD22: =N22*BC22 -> 0 | BE22: =AV22*(1.05+AO22+AP22) -> 151.2 | BG22: =$N22*BF22 -> 0 | BH22: =$AV22*(1.1+$AO22+$AP22) -> 158.4 | BJ22: =N22*BI22 -> 0 | BK22: =AV22*(1.15+AO22+AP22) -> 165.6 | BM22: =N22*BL22 -> 0 | BN22: =AV22*(1.2+AO22+AP22) -> 172.8 | BO22: =(AD22*AW22)+(BC22*BE22)+(BF22*BH22)+(BI22*BK22)+(BL22*BN22) -> 0 | BP22: =AD22+BC22+BF22+BI22+BL22 -> 0 | BQ22: =N22*BP22 -> 0 | BR22: 2233
A23: ="BL2"&REPT(0,4-LEN(BR23))&BR23 -> BL22342 | B23: Classic Jugs | C23: Classic Giga Jugs 02 | D23: Holds | F23: Jugs | G23: Giga | I23: Classic | J23: Beginner,Advanced Beginner,Intermediate,Expert | K23: Bouldering,Lead | L23: Medium | M23: 6.238 | N23: 2 | AD23: =SUM(Q23:AC23) -> 0 | AE23: =N23*AD23 -> 0 | AN23: 149 | AR23: 119 | AV23: =IF(OrderFormType="Wholesale",CEILING(AR23*ExchRate,ExchRateRoundUpTo),CEILING(AN23*ExchRate,ExchRateRoundUpTo)/1.22) -> 119 | AW23: =AV23*(1+AO23+AP23) -> 119 | BC23: =SUM(AX23:BB23) -> 0 | BD23: =N23*BC23 -> 0 | BE23: =AV23*(1.05+AO23+AP23) -> 124.95 | BG23: =$N23*BF23 -> 0 | BH23: =$AV23*(1.1+$AO23+$AP23) -> 130.9 | BJ23: =N23*BI23 -> 0 | BK23: =AV23*(1.15+AO23+AP23) -> 136.85 | BM23: =N23*BL23 -> 0 | BN23: =AV23*(1.2+AO23+AP23) -> 142.8 | BO23: =(AD23*AW23)+(BC23*BE23)+(BF23*BH23)+(BI23*BK23)+(BL23*BN23) -> 0 | BP23: =AD23+BC23+BF23+BI23+BL23 -> 0 | BQ23: =N23*BP23 -> 0 | BR23: 2342
A24: ="BL2"&REPT(0,4-LEN(BR24))&BR24 -> BL22343 | B24: Classic Jugs | C24: Classic Giga Jugs 03 | D24: Holds | F24: Jugs | G24: Giga | I24: Classic | J24: Beginner,Advanced Beginner,Intermediate,Expert | K24: Bouldering,Lead | L24: Medium | M24: 7.977 | N24: 2 | AD24: =SUM(Q24:AC24) -> 0 | AE24: =N24*AD24 -> 0 | AN24: 169 | AR24: 139 | AV24: =IF(OrderFormType="Wholesale",CEILING(AR24*ExchRate,ExchRateRoundUpTo),CEILING(AN24*ExchRate,ExchRateRoundUpTo)/1.22) -> 139 | AW24: =AV24*(1+AO24+AP24) -> 139 | BC24: =SUM(AX24:BB24) -> 0 | BD24: =N24*BC24 -> 0 | BE24: =AV24*(1.05+AO24+AP24) -> 145.95 | BG24: =$N24*BF24 -> 0 | BH24: =$AV24*(1.1+$AO24+$AP24) -> 152.9 | BJ24: =N24*BI24 -> 0 | BK24: =AV24*(1.15+AO24+AP24) -> 159.85 | BM24: =N24*BL24 -> 0 | BN24: =AV24*(1.2+AO24+AP24) -> 166.8 | BO24: =(AD24*AW24)+(BC24*BE24)+(BF24*BH24)+(BI24*BK24)+(BL24*BN24) -> 0 | BP24: =AD24+BC24+BF24+BI24+BL24 -> 0 | BQ24: =N24*BP24 -> 0 | BR24: 2343
A25: ="BL2"&REPT(0,4-LEN(BR25))&BR25 -> BL22344 | B25: Classic Jugs | C25: Classic Giga Jugs 04 | D25: Holds | F25: Jugs | G25: Giga | I25: Classic | J25: Beginner,Advanced Beginner,Intermediate,Expert | K25: Bouldering,Lead | L25: Medium | M25: 7.523 | N25: 2 | AD25: =SUM(Q25:AC25) -> 0 | AE25: =N25*AD25 -> 0 | AN25: 164 | AR25: 134 | AV25: =IF(OrderFormType="Wholesale",CEILING(AR25*ExchRate,ExchRateRoundUpTo),CEILING(AN25*ExchRate,ExchRateRoundUpTo)/1.22) -> 134 | AW25: =AV25*(1+AO25+AP25) -> 134 | BC25: =SUM(AX25:BB25) -> 0 | BD25: =N25*BC25 -> 0 | BE25: =AV25*(1.05+AO25+AP25) -> 140.7 | BG25: =$N25*BF25 -> 0 | BH25: =$AV25*(1.1+$AO25+$AP25) -> 147.4 | BJ25: =N25*BI25 -> 0 | BK25: =AV25*(1.15+AO25+AP25) -> 154.1 | BM25: =N25*BL25 -> 0 | BN25: =AV25*(1.2+AO25+AP25) -> 160.8 | BO25: =(AD25*AW25)+(BC25*BE25)+(BF25*BH25)+(BI25*BK25)+(BL25*BN25) -> 0 | BP25: =AD25+BC25+BF25+BI25+BL25 -> 0 | BQ25: =N25*BP25 -> 0 | BR25: 2344
A26: ="BL2"&REPT(0,4-LEN(BR26))&BR26 -> BL22345 | B26: Classic Jugs | C26: Classic Giga Jugs 05 | D26: Holds | F26: Jugs | G26: Giga | I26: Classic | J26: Beginner,Advanced Beginner,Intermediate,Expert | K26: Bouldering,Lead | L26: Medium | M26: 8.79 | N26: 2 | AD26: =SUM(Q26:AC26) -> 0 | AE26: =N26*AD26 -> 0 | AN26: 184 | AR26: 149 | AV26: =IF(OrderFormType="Wholesale",CEILING(AR26*ExchRate,ExchRateRoundUpTo),CEILING(AN26*ExchRate,ExchRateRoundUpTo)/1.22) -> 149 | AW26: =AV26*(1+AO26+AP26) -> 149 | BC26: =SUM(AX26:BB26) -> 0 | BD26: =N26*BC26 -> 0 | BE26: =AV26*(1.05+AO26+AP26) -> 156.45 | BG26: =$N26*BF26 -> 0 | BH26: =$AV26*(1.1+$AO26+$AP26) -> 163.9 | BJ26: =N26*BI26 -> 0 | BK26: =AV26*(1.15+AO26+AP26) -> 171.35 | BM26: =N26*BL26 -> 0 | BN26: =AV26*(1.2+AO26+AP26) -> 178.8 | BO26: =(AD26*AW26)+(BC26*BE26)+(BF26*BH26)+(BI26*BK26)+(BL26*BN26) -> 0 | BP26: =AD26+BC26+BF26+BI26+BL26 -> 0 | BQ26: =N26*BP26 -> 0 | BR26: 2345
A27: ="BL2"&REPT(0,4-LEN(BR27))&BR27 -> BL22346 | B27: Classic Jugs | C27: Classic Giga Jugs 06 | D27: Holds | F27: Jugs | G27: Giga | I27: Classic | J27: Beginner,Advanced Beginner,Intermediate,Expert | K27: Bouldering,Lead | L27: Medium | M27: 10.36 | N27: 2 | AD27: =SUM(Q27:AC27) -> 0 | AE27: =N27*AD27 -> 0 | AN27: 204 | AR27: 165 | AV27: =IF(OrderFormType="Wholesale",CEILING(AR27*ExchRate,ExchRateRoundUpTo),CEILING(AN27*ExchRate,ExchRateRoundUpTo)/1.22) -> 165 | AW27: =AV27*(1+AO27+AP27) -> 165 | BC27: =SUM(AX27:BB27) -> 0 | BD27: =N27*BC27 -> 0 | BE27: =AV27*(1.05+AO27+AP27) -> 173.25 | BG27: =$N27*BF27 -> 0 | BH27: =$AV27*(1.1+$AO27+$AP27) -> 181.5 | BJ27: =N27*BI27 -> 0 | BK27: =AV27*(1.15+AO27+AP27) -> 189.75 | BM27: =N27*BL27 -> 0 | BN27: =AV27*(1.2+AO27+AP27) -> 198 | BO27: =(AD27*AW27)+(BC27*BE27)+(BF27*BH27)+(BI27*BK27)+(BL27*BN27) -> 0 | BP27: =AD27+BC27+BF27+BI27+BL27 -> 0 | BQ27: =N27*BP27 -> 0 | BR27: 2346
A28: ="BL2"&REPT(0,4-LEN(BR28))&BR28 -> BL20745 | B28: Classic Jugs | C28: Classic Jugs | D28: Holds | F28: Jugs | G28: Standard | H28: Positive | I28: Classic | J28: Beginner,Advanced Beginner,Intermediate,Expert | K28: Bouldering,Lead | L28: Medium | M28: 12.1 | N28: 20 | AD28: =SUM(Q28:AC28) -> 0 | AE28: =N28*AD28 -> 0 | AN28: 254 | AR28: 209 | AV28: =IF(OrderFormType="Wholesale",CEILING(AR28*ExchRate,ExchRateRoundUpTo),CEILING(AN28*ExchRate,ExchRateRoundUpTo)/1.22) -> 209 | AW28: =AV28*(1+AO28+AP28) -> 209 | BC28: =SUM(AX28:BB28) -> 0 | BD28: =N28*BC28 -> 0 | BE28: =AV28*(1.05+AO28+AP28) -> 219.45 | BG28: =$N28*BF28 -> 0 | BH28: =$AV28*(1.1+$AO28+$AP28) -> 229.9 | BJ28: =N28*BI28 -> 0 | BK28: =AV28*(1.15+AO28+AP28) -> 240.35 | BM28: =N28*BL28 -> 0 | BN28: =AV28*(1.2+AO28+AP28) -> 250.8 | BO28: =(AD28*AW28)+(BC28*BE28)+(BF28*BH28)+(BI28*BK28)+(BL28*BN28) -> 0 | BP28: =AD28+BC28+BF28+BI28+BL28 -> 0 | BQ28: =N28*BP28 -> 0 | BR28: 745
A29: ="BL2"&REPT(0,4-LEN(BR29))&BR29 -> BL20738 | B29: Classic Jugs | C29: Classic Mini Jugs | D29: Holds | F29: Jugs | G29: Mini | H29: Positive | I29: Classic | J29: Beginner,Advanced Beginner,Intermediate,Expert | K29: Bouldering,Lead | L29: Medium | M29: 4.38 | N29: 10 | AD29: =SUM(Q29:AC29) -> 0 | AE29: =N29*AD29 -> 0 | AN29: 109 | AR29: 89 | AV29: =IF(OrderFormType="Wholesale",CEILING(AR29*ExchRate,ExchRateRoundUpTo),CEILING(AN29*ExchRate,ExchRateRoundUpTo)/1.22) -> 89 | AW29: =AV29*(1+AO29+AP29) -> 89 | BC29: =SUM(AX29:BB29) -> 0 | BD29: =N29*BC29 -> 0 | BE29: =AV29*(1.05+AO29+AP29) -> 93.45 | BG29: =$N29*BF29 -> 0 | BH29: =$AV29*(1.1+$AO29+$AP29) -> 97.9 | BJ29: =N29*BI29 -> 0 | BK29: =AV29*(1.15+AO29+AP29) -> 102.35 | BM29: =N29*BL29 -> 0 | BN29: =AV29*(1.2+AO29+AP29) -> 106.8 | BO29: =(AD29*AW29)+(BC29*BE29)+(BF29*BH29)+(BI29*BK29)+(BL29*BN29) -> 0 | BP29: =AD29+BC29+BF29+BI29+BL29 -> 0 | BQ29: =N29*BP29 -> 0 | BR29: 738
A30: ="BL2"&REPT(0,4-LEN(BR30))&BR30 -> BL20399 | B30: Classic Jugs | C30: Classic Mondo Jugs | D30: Holds | F30: Dual-Handed,Jugs | G30: Mondo | H30: Positive | I30: Classic | J30: Beginner,Advanced Beginner,Intermediate,Expert | K30: Bouldering,Lead | L30: Medium | M30: 15.596 | N30: 10 | AD30: =SUM(Q30:AC30) -> 0 | AE30: =N30*AD30 -> 0 | AN30: 294 | AR30: 239 | AV30: =IF(OrderFormType="Wholesale",CEILING(AR30*ExchRate,ExchRateRoundUpTo),CEILING(AN30*ExchRate,ExchRateRoundUpTo)/1.22) -> 239 | AW30: =AV30*(1+AO30+AP30) -> 239 | BC30: =SUM(AX30:BB30) -> 0 | BD30: =N30*BC30 -> 0 | BE30: =AV30*(1.05+AO30+AP30) -> 250.95 | BG30: =$N30*BF30 -> 0 | BH30: =$AV30*(1.1+$AO30+$AP30) -> 262.9 | BJ30: =N30*BI30 -> 0 | BK30: =AV30*(1.15+AO30+AP30) -> 274.85 | BM30: =N30*BL30 -> 0 | BN30: =AV30*(1.2+AO30+AP30) -> 286.8 | BO30: =(AD30*AW30)+(BC30*BE30)+(BF30*BH30)+(BI30*BK30)+(BL30*BN30) -> 0 | BP30: =AD30+BC30+BF30+BI30+BL30 -> 0 | BQ30: =N30*BP30 -> 0 | BR30: 399
A31: ="BL2"&REPT(0,4-LEN(BR31))&BR31 -> BL20401 | B31: Classic Jugs | C31: Classic Nano Jugs | D31: Holds | F31: Jugs | G31: Nano | H31: Positive | I31: Classic | J31: Beginner,Advanced Beginner,Intermediate,Expert | K31: Bouldering,Lead | L31: Medium | M31: 4.601 | N31: 20 | AD31: =SUM(Q31:AC31) -> 0 | AE31: =N31*AD31 -> 0 | AN31: 134 | AR31: 109 | AV31: =IF(OrderFormType="Wholesale",CEILING(AR31*ExchRate,ExchRateRoundUpTo),CEILING(AN31*ExchRate,ExchRateRoundUpTo)/1.22) -> 109 | AW31: =AV31*(1+AO31+AP31) -> 109 | BC31: =SUM(AX31:BB31) -> 0 | BD31: =N31*BC31 -> 0 | BE31: =AV31*(1.05+AO31+AP31) -> 114.45 | BG31: =$N31*BF31 -> 0 | BH31: =$AV31*(1.1+$AO31+$AP31) -> 119.9 | BJ31: =N31*BI31 -> 0 | BK31: =AV31*(1.15+AO31+AP31) -> 125.35 | BM31: =N31*BL31 -> 0 | BN31: =AV31*(1.2+AO31+AP31) -> 130.8 | BO31: =(AD31*AW31)+(BC31*BE31)+(BF31*BH31)+(BI31*BK31)+(BL31*BN31) -> 0 | BP31: =AD31+BC31+BF31+BI31+BL31 -> 0 | BQ31: =N31*BP31 -> 0 | BR31: 401
A32: ="BL2"&REPT(0,4-LEN(BR32))&BR32 -> BL20400 | B32: Classic Jugs | C32: Classic Super Jugs | D32: Holds | F32: Jugs | G32: Standard | H32: Super Positive | I32: Classic | J32: Beginner,Advanced Beginner,Intermediate,Expert | K32: Bouldering,Lead | L32: Medium | M32: 5.699 | N32: 10 | AD32: =SUM(Q32:AC32) -> 0 | AE32: =N32*AD32 -> 0 | AN32: 169 | AR32: 139 | AV32: =IF(OrderFormType="Wholesale",CEILING(AR32*ExchRate,ExchRateRoundUpTo),CEILING(AN32*ExchRate,ExchRateRoundUpTo)/1.22) -> 139 | AW32: =AV32*(1+AO32+AP32) -> 139 | BC32: =SUM(AX32:BB32) -> 0 | BD32: =N32*BC32 -> 0 | BE32: =AV32*(1.05+AO32+AP32) -> 145.95 | BG32: =$N32*BF32 -> 0 | BH32: =$AV32*(1.1+$AO32+$AP32) -> 152.9 | BJ32: =N32*BI32 -> 0 | BK32: =AV32*(1.15+AO32+AP32) -> 159.85 | BM32: =N32*BL32 -> 0 | BN32: =AV32*(1.2+AO32+AP32) -> 166.8 | BO32: =(AD32*AW32)+(BC32*BE32)+(BF32*BH32)+(BI32*BK32)+(BL32*BN32) -> 0 | BP32: =AD32+BC32+BF32+BI32+BL32 -> 0 | BQ32: =N32*BP32 -> 0 | BR32: 400
A33: ="BL2"&REPT(0,4-LEN(BR33))&BR33 -> BL21475 | B33: Classic Jugs | C33: Classic Super Mini Jugs | D33: Holds | F33: Jugs | G33: Mini | H33: Super Positive | I33: Classic | J33: Beginner,Advanced Beginner,Intermediate,Expert | K33: Bouldering,Lead | L33: Medium | M33: 3.855 | N33: 10 | AD33: =SUM(Q33:AC33) -> 0 | AE33: =N33*AD33 -> 0 | AN33: 124 | AR33: 99 | AV33: =IF(OrderFormType="Wholesale",CEILING(AR33*ExchRate,ExchRateRoundUpTo),CEILING(AN33*ExchRate,ExchRateRoundUpTo)/1.22) -> 99 | AW33: =AV33*(1+AO33+AP33) -> 99 | BC33: =SUM(AX33:BB33) -> 0 | BD33: =N33*BC33 -> 0 | BE33: =AV33*(1.05+AO33+AP33) -> 103.95 | BG33: =$N33*BF33 -> 0 | BH33: =$AV33*(1.1+$AO33+$AP33) -> 108.9 | BJ33: =N33*BI33 -> 0 | BK33: =AV33*(1.15+AO33+AP33) -> 113.85 | BM33: =N33*BL33 -> 0 | BN33: =AV33*(1.2+AO33+AP33) -> 118.8 | BO33: =(AD33*AW33)+(BC33*BE33)+(BF33*BH33)+(BI33*BK33)+(BL33*BN33) -> 0 | BP33: =AD33+BC33+BF33+BI33+BL33 -> 0 | BQ33: =N33*BP33 -> 0 | BR33: 1475
A34: ="BL2"&REPT(0,4-LEN(BR34))&BR34 -> BL20962 | B34: Classic Mobius Rings | C34: Classic Mobius Rings 01 | D34: Macros | F34: Dual-Handed | G34: 670x570x130 | H34: Positive | I34: Classic | J34: Beginner,Advanced Beginner,Intermediate,Expert | K34: Bouldering,Lead | L34: Medium | M34: 3 | N34: 1 | AD34: =SUM(Q34:AC34) -> 0 | AE34: =N34*AD34 -> 0 | AN34: 299 | AR34: 244 | AV34: =IF(OrderFormType="Wholesale",CEILING(AR34*ExchRate,ExchRateRoundUpTo),CEILING(AN34*ExchRate,ExchRateRoundUpTo)/1.22) -> 244 | AW34: =AV34*(1+AO34+AP34) -> 244 | BC34: =SUM(AX34:BB34) -> 0 | BD34: =N34*BC34 -> 0 | BE34: =AV34*(1.05+AO34+AP34) -> 256.2 | BG34: =$N34*BF34 -> 0 | BH34: =$AV34*(1.1+$AO34+$AP34) -> 268.4 | BJ34: =N34*BI34 -> 0 | BK34: =AV34*(1.15+AO34+AP34) -> 280.6 | BM34: =N34*BL34 -> 0 | BN34: =AV34*(1.2+AO34+AP34) -> 292.8 | BO34: =(AD34*AW34)+(BC34*BE34)+(BF34*BH34)+(BI34*BK34)+(BL34*BN34) -> 0 | BP34: =AD34+BC34+BF34+BI34+BL34 -> 0 | BQ34: =N34*BP34 -> 0 | BR34: 962
A35: ="BL2"&REPT(0,4-LEN(BR35))&BR35 -> BL20963 | B35: Classic Mobius Rings | C35: Classic Mobius Rings 02 | D35: Macros | F35: Dual-Handed | G35: 490x430x90 | H35: Positive | I35: Classic | J35: Beginner,Advanced Beginner,Intermediate,Expert | K35: Bouldering,Lead | L35: Medium | M35: 2 | N35: 1 | AD35: =SUM(Q35:AC35) -> 0 | AE35: =N35*AD35 -> 0 | AN35: 264 | AR35: 214 | AV35: =IF(OrderFormType="Wholesale",CEILING(AR35*ExchRate,ExchRateRoundUpTo),CEILING(AN35*ExchRate,ExchRateRoundUpTo)/1.22) -> 214 | AW35: =AV35*(1+AO35+AP35) -> 214 | BC35: =SUM(AX35:BB35) -> 0 | BD35: =N35*BC35 -> 0 | BE35: =AV35*(1.05+AO35+AP35) -> 224.7 | BG35: =$N35*BF35 -> 0 | BH35: =$AV35*(1.1+$AO35+$AP35) -> 235.4 | BJ35: =N35*BI35 -> 0 | BK35: =AV35*(1.15+AO35+AP35) -> 246.1 | BM35: =N35*BL35 -> 0 | BN35: =AV35*(1.2+AO35+AP35) -> 256.8 | BO35: =(AD35*AW35)+(BC35*BE35)+(BF35*BH35)+(BI35*BK35)+(BL35*BN35) -> 0 | BP35: =AD35+BC35+BF35+BI35+BL35 -> 0 | BQ35: =N35*BP35 -> 0 | BR35: 963
A36: ="BL2"&REPT(0,4-LEN(BR36))&BR36 -> BL20940 | B36: Classic Mobius Rings | C36: Classic Mobius Rings 03 | D36: Holds | F36: Dual-Handed,Edges | G36: Mondo | H36: Positive | I36: Classic | J36: Beginner,Advanced Beginner,Intermediate,Expert | K36: Bouldering,Lead | L36: Medium | M36: 6.45 | N36: 2 | AD36: =SUM(Q36:AC36) -> 0 | AE36: =N36*AD36 -> 0 | AN36: 159 | AR36: 129 | AV36: =IF(OrderFormType="Wholesale",CEILING(AR36*ExchRate,ExchRateRoundUpTo),CEILING(AN36*ExchRate,ExchRateRoundUpTo)/1.22) -> 129 | AW36: =AV36*(1+AO36+AP36) -> 129 | BC36: =SUM(AX36:BB36) -> 0 | BD36: =N36*BC36 -> 0 | BE36: =AV36*(1.05+AO36+AP36) -> 135.45 | BG36: =$N36*BF36 -> 0 | BH36: =$AV36*(1.1+$AO36+$AP36) -> 141.9 | BJ36: =N36*BI36 -> 0 | BK36: =AV36*(1.15+AO36+AP36) -> 148.35 | BM36: =N36*BL36 -> 0 | BN36: =AV36*(1.2+AO36+AP36) -> 154.8 | BO36: =(AD36*AW36)+(BC36*BE36)+(BF36*BH36)+(BI36*BK36)+(BL36*BN36) -> 0 | BP36: =AD36+BC36+BF36+BI36+BL36 -> 0 | BQ36: =N36*BP36 -> 0 | BR36: 940
A37: ="BL2"&REPT(0,4-LEN(BR37))&BR37 -> BL21255 | B37: Classic Mobius Rings | C37: Classic Mobius Rings 04 | D37: Holds | F37: Dual-Handed,Edges | G37: Standard | H37: Positive | I37: Classic | J37: Beginner,Advanced Beginner,Intermediate,Expert | K37: Bouldering,Lead | L37: Medium | M37: 7.656 | N37: 8 | AD37: =SUM(Q37:AC37) -> 0 | AE37: =N37*AD37 -> 0 | AN37: 179 | AR37: 144 | AV37: =IF(OrderFormType="Wholesale",CEILING(AR37*ExchRate,ExchRateRoundUpTo),CEILING(AN37*ExchRate,ExchRateRoundUpTo)/1.22) -> 144 | AW37: =AV37*(1+AO37+AP37) -> 144 | BC37: =SUM(AX37:BB37) -> 0 | BD37: =N37*BC37 -> 0 | BE37: =AV37*(1.05+AO37+AP37) -> 151.2 | BG37: =$N37*BF37 -> 0 | BH37: =$AV37*(1.1+$AO37+$AP37) -> 158.4 | BJ37: =N37*BI37 -> 0 | BK37: =AV37*(1.15+AO37+AP37) -> 165.6 | BM37: =N37*BL37 -> 0 | BN37: =AV37*(1.2+AO37+AP37) -> 172.8 | BO37: =(AD37*AW37)+(BC37*BE37)+(BF37*BH37)+(BI37*BK37)+(BL37*BN37) -> 0 | BP37: =AD37+BC37+BF37+BI37+BL37 -> 0 | BQ37: =N37*BP37 -> 0 | BR37: 1255
A38: ="BL2"&REPT(0,4-LEN(BR38))&BR38 -> BL21897 | B38: Classic Mobius Rings | C38: Classic Mobius Rings 05 | D38: Macros | F38: Dual-Handed | G38: 550x430x170 | I38: Classic | J38: Beginner,Advanced Beginner,Intermediate,Expert | K38: Bouldering,Lead | L38: Medium | M38: 2.6 | N38: 1 | AD38: =SUM(Q38:AC38) -> 0 | AE38: =N38*AD38 -> 0 | AN38: 274 | AR38: 224 | AV38: =IF(OrderFormType="Wholesale",CEILING(AR38*ExchRate,ExchRateRoundUpTo),CEILING(AN38*ExchRate,ExchRateRoundUpTo)/1.22) -> 224 | AW38: =AV38*(1+AO38+AP38) -> 224 | BC38: =SUM(AX38:BB38) -> 0 | BD38: =N38*BC38 -> 0 | BE38: =AV38*(1.05+AO38+AP38) -> 235.2 | BG38: =$N38*BF38 -> 0 | BH38: =$AV38*(1.1+$AO38+$AP38) -> 246.4 | BJ38: =N38*BI38 -> 0 | BK38: =AV38*(1.15+AO38+AP38) -> 257.6 | BM38: =N38*BL38 -> 0 | BN38: =AV38*(1.2+AO38+AP38) -> 268.8 | BO38: =(AD38*AW38)+(BC38*BE38)+(BF38*BH38)+(BI38*BK38)+(BL38*BN38) -> 0 | BP38: =AD38+BC38+BF38+BI38+BL38 -> 0 | BQ38: =N38*BP38 -> 0 | BR38: 1897
A39: ="BL2"&REPT(0,4-LEN(BR39))&BR39 -> BL21898 | B39: Classic Mobius Rings | C39: Classic Mobius Rings 06 | D39: Macros | F39: Dual-Handed | G39: 490x480x210 | I39: Classic | J39: Beginner,Advanced Beginner,Intermediate,Expert | K39: Bouldering,Lead | L39: Medium | M39: 2.45 | N39: 1 | AD39: =SUM(Q39:AC39) -> 0 | AE39: =N39*AD39 -> 0 | AN39: 299 | AR39: 244 | AV39: =IF(OrderFormType="Wholesale",CEILING(AR39*ExchRate,ExchRateRoundUpTo),CEILING(AN39*ExchRate,ExchRateRoundUpTo)/1.22) -> 244 | AW39: =AV39*(1+AO39+AP39) -> 244 | BC39: =SUM(AX39:BB39) -> 0 | BD39: =N39*BC39 -> 0 | BE39: =AV39*(1.05+AO39+AP39) -> 256.2 | BG39: =$N39*BF39 -> 0 | BH39: =$AV39*(1.1+$AO39+$AP39) -> 268.4 | BJ39: =N39*BI39 -> 0 | BK39: =AV39*(1.15+AO39+AP39) -> 280.6 | BM39: =N39*BL39 -> 0 | BN39: =AV39*(1.2+AO39+AP39) -> 292.8 | BO39: =(AD39*AW39)+(BC39*BE39)+(BF39*BH39)+(BI39*BK39)+(BL39*BN39) -> 0 | BP39: =AD39+BC39+BF39+BI39+BL39 -> 0 | BQ39: =N39*BP39 -> 0 | BR39: 1898
A40: ="BL2"&REPT(0,4-LEN(BR40))&BR40 -> BL21899 | B40: Classic Mobius Rings | C40: Classic Mobius Rings 07 | D40: Macros | F40: Dual-Handed | G40: 540x490x240 | I40: Classic | J40: Beginner,Advanced Beginner,Intermediate,Expert | K40: Bouldering,Lead | L40: Medium | M40: 2.95 | N40: 1 | AD40: =SUM(Q40:AC40) -> 0 | AE40: =N40*AD40 -> 0 | AN40: 324 | AR40: 264 | AV40: =IF(OrderFormType="Wholesale",CEILING(AR40*ExchRate,ExchRateRoundUpTo),CEILING(AN40*ExchRate,ExchRateRoundUpTo)/1.22) -> 264 | AW40: =AV40*(1+AO40+AP40) -> 264 | BC40: =SUM(AX40:BB40) -> 0 | BD40: =N40*BC40 -> 0 | BE40: =AV40*(1.05+AO40+AP40) -> 277.2 | BG40: =$N40*BF40 -> 0 | BH40: =$AV40*(1.1+$AO40+$AP40) -> 290.4 | BJ40: =N40*BI40 -> 0 | BK40: =AV40*(1.15+AO40+AP40) -> 303.6 | BM40: =N40*BL40 -> 0 | BN40: =AV40*(1.2+AO40+AP40) -> 316.8 | BO40: =(AD40*AW40)+(BC40*BE40)+(BF40*BH40)+(BI40*BK40)+(BL40*BN40) -> 0 | BP40: =AD40+BC40+BF40+BI40+BL40 -> 0 | BQ40: =N40*BP40 -> 0 | BR40: 1899
A41: ="BL2"&REPT(0,4-LEN(BR41))&BR41 -> BL21900 | B41: Classic Mobius Rings | C41: Classic Mobius Rings 08 | D41: Macros | F41: Dual-Handed | G41: 570x480x240 | I41: Classic | J41: Beginner,Advanced Beginner,Intermediate,Expert | K41: Bouldering,Lead | L41: Medium | M41: 2.7 | N41: 1 | AD41: =SUM(Q41:AC41) -> 0 | AE41: =N41*AD41 -> 0 | AN41: 344 | AR41: 279 | AV41: =IF(OrderFormType="Wholesale",CEILING(AR41*ExchRate,ExchRateRoundUpTo),CEILING(AN41*ExchRate,ExchRateRoundUpTo)/1.22) -> 279 | AW41: =AV41*(1+AO41+AP41) -> 279 | BC41: =SUM(AX41:BB41) -> 0 | BD41: =N41*BC41 -> 0 | BE41: =AV41*(1.05+AO41+AP41) -> 292.95 | BG41: =$N41*BF41 -> 0 | BH41: =$AV41*(1.1+$AO41+$AP41) -> 306.9 | BJ41: =N41*BI41 -> 0 | BK41: =AV41*(1.15+AO41+AP41) -> 320.85 | BM41: =N41*BL41 -> 0 | BN41: =AV41*(1.2+AO41+AP41) -> 334.8 | BO41: =(AD41*AW41)+(BC41*BE41)+(BF41*BH41)+(BI41*BK41)+(BL41*BN41) -> 0 | BP41: =AD41+BC41+BF41+BI41+BL41 -> 0 | BQ41: =N41*BP41 -> 0 | BR41: 1900
A42: ="BL2"&REPT(0,4-LEN(BR42))&BR42 -> BL22472 | B42: Classic Mobius Rings | C42: Classic Mobius Rings 09 | D42: Holds | F42: Dual-Handed | G42: Features | I42: Classic | J42: Beginner,Advanced Beginner,Intermediate,Expert | K42: Bouldering,Lead | L42: Medium | M42: 6.06 | N42: 3 | AD42: =SUM(Q42:AC42) -> 0 | AE42: =N42*AD42 -> 0 | AN42: 159 | AR42: 129 | AV42: =IF(OrderFormType="Wholesale",CEILING(AR42*ExchRate,ExchRateRoundUpTo),CEILING(AN42*ExchRate,ExchRateRoundUpTo)/1.22) -> 129 | AW42: =AV42*(1+AO42+AP42) -> 129 | BC42: =SUM(AX42:BB42) -> 0 | BD42: =N42*BC42 -> 0 | BE42: =AV42*(1.05+AO42+AP42) -> 135.45 | BG42: =$N42*BF42 -> 0 | BH42: =$AV42*(1.1+$AO42+$AP42) -> 141.9 | BJ42: =N42*BI42 -> 0 | BK42: =AV42*(1.15+AO42+AP42) -> 148.35 | BM42: =N42*BL42 -> 0 | BN42: =AV42*(1.2+AO42+AP42) -> 154.8 | BO42: =(AD42*AW42)+(BC42*BE42)+(BF42*BH42)+(BI42*BK42)+(BL42*BN42) -> 0 | BP42: =AD42+BC42+BF42+BI42+BL42 -> 0 | BQ42: =N42*BP42 -> 0 | BR42: 2472
A43: ="BL2"&REPT(0,4-LEN(BR43))&BR43 -> BL22667 | B43: Classic Mobius Rings | C43: Classic Mobius Rings 10 | D43: Macros | F43: Dual-Handed | G43: 1120x1110x250 | I43: Classic | J43: Beginner,Advanced Beginner,Intermediate,Expert | K43: Bouldering,Lead | L43: Medium | M43: 9 | N43: 1 | AD43: =SUM(Q43:AC43) -> 0 | AE43: =N43*AD43 -> 0 | AN43: 694 | AR43: 569 | AV43: =IF(OrderFormType="Wholesale",CEILING(AR43*ExchRate,ExchRateRoundUpTo),CEILING(AN43*ExchRate,ExchRateRoundUpTo)/1.22) -> 569 | AW43: =AV43*(1+AO43+AP43) -> 569 | BC43: =SUM(AX43:BB43) -> 0 | BD43: =N43*BC43 -> 0 | BE43: =AV43*(1.05+AO43+AP43) -> 597.45 | BG43: =$N43*BF43 -> 0 | BH43: =$AV43*(1.1+$AO43+$AP43) -> 625.9 | BJ43: =N43*BI43 -> 0 | BK43: =AV43*(1.15+AO43+AP43) -> 654.35 | BM43: =N43*BL43 -> 0 | BN43: =AV43*(1.2+AO43+AP43) -> 682.8 | BO43: =(AD43*AW43)+(BC43*BE43)+(BF43*BH43)+(BI43*BK43)+(BL43*BN43) -> 0 | BP43: =AD43+BC43+BF43+BI43+BL43 -> 0 | BQ43: =N43*BP43 -> 0 | BR43: 2667
A44: ="BL2"&REPT(0,4-LEN(BR44))&BR44 -> BL21252 | B44: Classic Open Handed Jugs | C44: Classic Open Handed Jugs | D44: Holds | F44: Open-Handed,Jugs | G44: Standard | H44: Negative | I44: Classic | J44: Beginner,Advanced Beginner,Intermediate,Expert | K44: Bouldering,Lead | L44: Medium | M44: 12.59 | N44: 10 | AD44: =SUM(Q44:AC44) -> 0 | AE44: =N44*AD44 -> 0 | AN44: 214 | AR44: 174 | AV44: =IF(OrderFormType="Wholesale",CEILING(AR44*ExchRate,ExchRateRoundUpTo),CEILING(AN44*ExchRate,ExchRateRoundUpTo)/1.22) -> 174 | AW44: =AV44*(1+AO44+AP44) -> 174 | BC44: =SUM(AX44:BB44) -> 0 | BD44: =N44*BC44 -> 0 | BE44: =AV44*(1.05+AO44+AP44) -> 182.7 | BG44: =$N44*BF44 -> 0 | BH44: =$AV44*(1.1+$AO44+$AP44) -> 191.4 | BJ44: =N44*BI44 -> 0 | BK44: =AV44*(1.15+AO44+AP44) -> 200.1 | BM44: =N44*BL44 -> 0 | BN44: =AV44*(1.2+AO44+AP44) -> 208.8 | BO44: =(AD44*AW44)+(BC44*BE44)+(BF44*BH44)+(BI44*BK44)+(BL44*BN44) -> 0 | BP44: =AD44+BC44+BF44+BI44+BL44 -> 0 | BQ44: =N44*BP44 -> 0 | BR44: 1252
A45: ="BL2"&REPT(0,4-LEN(BR45))&BR45 -> BL21251 | B45: Classic Open Handed Jugs | C45: Classic Open Handed Mini Jugs | D45: Holds | F45: Open-Handed,Jugs | G45: Mini | H45: Negative | I45: Classic | J45: Beginner,Advanced Beginner,Intermediate,Expert | K45: Bouldering,Lead | L45: Medium | M45: 8.431 | N45: 10 | AD45: =SUM(Q45:AC45) -> 0 | AE45: =N45*AD45 -> 0 | AN45: 169 | AR45: 139 | AV45: =IF(OrderFormType="Wholesale",CEILING(AR45*ExchRate,ExchRateRoundUpTo),CEILING(AN45*ExchRate,ExchRateRoundUpTo)/1.22) -> 139 | AW45: =AV45*(1+AO45+AP45) -> 139 | BC45: =SUM(AX45:BB45) -> 0 | BD45: =N45*BC45 -> 0 | BE45: =AV45*(1.05+AO45+AP45) -> 145.95 | BG45: =$N45*BF45 -> 0 | BH45: =$AV45*(1.1+$AO45+$AP45) -> 152.9 | BJ45: =N45*BI45 -> 0 | BK45: =AV45*(1.15+AO45+AP45) -> 159.85 | BM45: =N45*BL45 -> 0 | BN45: =AV45*(1.2+AO45+AP45) -> 166.8 | BO45: =(AD45*AW45)+(BC45*BE45)+(BF45*BH45)+(BI45*BK45)+(BL45*BN45) -> 0 | BP45: =AD45+BC45+BF45+BI45+BL45 -> 0 | BQ45: =N45*BP45 -> 0 | BR45: 1251
A46: ="BL2"&REPT(0,4-LEN(BR46))&BR46 -> BL21253 | B46: Classic Open Handed Jugs | C46: Classic Open Handed Mondo Jugs | D46: Holds | F46: Open-Handed,Jugs | G46: Mondo | H46: Negative | I46: Classic | J46: Beginner,Advanced Beginner,Intermediate,Expert | K46: Bouldering,Lead | L46: Medium | M46: 11.11 | N46: 5 | AD46: =SUM(Q46:AC46) -> 0 | AE46: =N46*AD46 -> 0 | AN46: 209 | AR46: 169 | AV46: =IF(OrderFormType="Wholesale",CEILING(AR46*ExchRate,ExchRateRoundUpTo),CEILING(AN46*ExchRate,ExchRateRoundUpTo)/1.22) -> 169 | AW46: =AV46*(1+AO46+AP46) -> 169 | BC46: =SUM(AX46:BB46) -> 0 | BD46: =N46*BC46 -> 0 | BE46: =AV46*(1.05+AO46+AP46) -> 177.45 | BG46: =$N46*BF46 -> 0 | BH46: =$AV46*(1.1+$AO46+$AP46) -> 185.9 | BJ46: =N46*BI46 -> 0 | BK46: =AV46*(1.15+AO46+AP46) -> 194.35 | BM46: =N46*BL46 -> 0 | BN46: =AV46*(1.2+AO46+AP46) -> 202.8 | BO46: =(AD46*AW46)+(BC46*BE46)+(BF46*BH46)+(BI46*BK46)+(BL46*BN46) -> 0 | BP46: =AD46+BC46+BF46+BI46+BL46 -> 0 | BQ46: =N46*BP46 -> 0 | BR46: 1253
A47: ="BL2"&REPT(0,4-LEN(BR47))&BR47 -> BL21254 | B47: Classic Open Handed Jugs | C47: Classic Open Handed XXXL | D47: Holds | F47: Open-Handed,Jugs | G47: Giga | H47: Negative | I47: Classic | J47: Beginner,Advanced Beginner,Intermediate,Expert | K47: Bouldering,Lead | L47: Medium | N47: 1 | AD47: =SUM(Q47:AC47) -> 0 | AE47: =N47*AD47 -> 0 | AN47: 84 | AR47: 69 | AV47: =IF(OrderFormType="Wholesale",CEILING(AR47*ExchRate,ExchRateRoundUpTo),CEILING(AN47*ExchRate,ExchRateRoundUpTo)/1.22) -> 69 | AW47: =AV47*(1+AO47+AP47) -> 69 | BC47: =SUM(AX47:BB47) -> 0 | BD47: =N47*BC47 -> 0 | BE47: =AV47*(1.05+AO47+AP47) -> 72.45 | BG47: =$N47*BF47 -> 0 | BH47: =$AV47*(1.1+$AO47+$AP47) -> 75.9 | BJ47: =N47*BI47 -> 0 | BK47: =AV47*(1.15+AO47+AP47) -> 79.35 | BM47: =N47*BL47 -> 0 | BN47: =AV47*(1.2+AO47+AP47) -> 82.8 | BO47: =(AD47*AW47)+(BC47*BE47)+(BF47*BH47)+(BI47*BK47)+(BL47*BN47) -> 0 | BP47: =AD47+BC47+BF47+BI47+BL47 -> 0 | BQ47: =N47*BP47 -> 0 | BR47: 1254
A48: ="BL2"&REPT(0,4-LEN(BR48))&BR48 -> BL21479 | B48: Classic Positive Rounded Edges | C48: Classic Positive Rounded Edges | D48: Holds | F48: Edges | G48: Standard | H48: Positive | I48: Classic | J48: Beginner,Advanced Beginner,Intermediate,Expert | K48: Bouldering,Lead | L48: Medium | M48: 10.564 | N48: 5 | AD48: =SUM(Q48:AC48) -> 0 | AE48: =N48*AD48 -> 0 | AN48: 219 | AR48: 179 | AV48: =IF(OrderFormType="Wholesale",CEILING(AR48*ExchRate,ExchRateRoundUpTo),CEILING(AN48*ExchRate,ExchRateRoundUpTo)/1.22) -> 179 | AW48: =AV48*(1+AO48+AP48) -> 179 | BC48: =SUM(AX48:BB48) -> 0 | BD48: =N48*BC48 -> 0 | BE48: =AV48*(1.05+AO48+AP48) -> 187.95 | BG48: =$N48*BF48 -> 0 | BH48: =$AV48*(1.1+$AO48+$AP48) -> 196.9 | BJ48: =N48*BI48 -> 0 | BK48: =AV48*(1.15+AO48+AP48) -> 205.85 | BM48: =N48*BL48 -> 0 | BN48: =AV48*(1.2+AO48+AP48) -> 214.8 | BO48: =(AD48*AW48)+(BC48*BE48)+(BF48*BH48)+(BI48*BK48)+(BL48*BN48) -> 0 | BP48: =AD48+BC48+BF48+BI48+BL48 -> 0 | BQ48: =N48*BP48 -> 0 | BR48: 1479
A49: ="BL2"&REPT(0,4-LEN(BR49))&BR49 -> BL21478 | B49: Classic Positive Rounded Edges | C49: Classic Positive Rounded Mini Edges | D49: Holds | F49: Edges | G49: Mini | H49: Positive | I49: Classic | J49: Beginner,Advanced Beginner,Intermediate,Expert | K49: Bouldering,Lead | L49: Medium | M49: 4.92 | N49: 10 | AD49: =SUM(Q49:AC49) -> 0 | AE49: =N49*AD49 -> 0 | AN49: 149 | AR49: 119 | AV49: =IF(OrderFormType="Wholesale",CEILING(AR49*ExchRate,ExchRateRoundUpTo),CEILING(AN49*ExchRate,ExchRateRoundUpTo)/1.22) -> 119 | AW49: =AV49*(1+AO49+AP49) -> 119 | BC49: =SUM(AX49:BB49) -> 0 | BD49: =N49*BC49 -> 0 | BE49: =AV49*(1.05+AO49+AP49) -> 124.95 | BG49: =$N49*BF49 -> 0 | BH49: =$AV49*(1.1+$AO49+$AP49) -> 130.9 | BJ49: =N49*BI49 -> 0 | BK49: =AV49*(1.15+AO49+AP49) -> 136.85 | BM49: =N49*BL49 -> 0 | BN49: =AV49*(1.2+AO49+AP49) -> 142.8 | BO49: =(AD49*AW49)+(BC49*BE49)+(BF49*BH49)+(BI49*BK49)+(BL49*BN49) -> 0 | BP49: =AD49+BC49+BF49+BI49+BL49 -> 0 | BQ49: =N49*BP49 -> 0 | BR49: 1478
A50: ="BL2"&REPT(0,4-LEN(BR50))&BR50 -> BL21480 | B50: Classic Positive Rounded Edges | C50: Classic Positive Rounded Mondo Edges | D50: Holds | F50: Edges | G50: Mondo | H50: Positive | I50: Classic | J50: Beginner,Advanced Beginner,Intermediate,Expert | K50: Bouldering,Lead | L50: Medium | M50: 6.006 | N50: 2 | AD50: =SUM(Q50:AC50) -> 0 | AE50: =N50*AD50 -> 0 | AN50: 169 | AR50: 139 | AV50: =IF(OrderFormType="Wholesale",CEILING(AR50*ExchRate,ExchRateRoundUpTo),CEILING(AN50*ExchRate,ExchRateRoundUpTo)/1.22) -> 139 | AW50: =AV50*(1+AO50+AP50) -> 139 | BC50: =SUM(AX50:BB50) -> 0 | BD50: =N50*BC50 -> 0 | BE50: =AV50*(1.05+AO50+AP50) -> 145.95 | BG50: =$N50*BF50 -> 0 | BH50: =$AV50*(1.1+$AO50+$AP50) -> 152.9 | BJ50: =N50*BI50 -> 0 | BK50: =AV50*(1.15+AO50+AP50) -> 159.85 | BM50: =N50*BL50 -> 0 | BN50: =AV50*(1.2+AO50+AP50) -> 166.8 | BO50: =(AD50*AW50)+(BC50*BE50)+(BF50*BH50)+(BI50*BK50)+(BL50*BN50) -> 0 | BP50: =AD50+BC50+BF50+BI50+BL50 -> 0 | BQ50: =N50*BP50 -> 0 | BR50: 1480
A51: ="BL2"&REPT(0,4-LEN(BR51))&BR51 -> BL21476 | B51: Classic Positive Rounded Edges | C51: Classic Positive Rounded Nano Edges | D51: Holds | F51: Edges | G51: Nano | H51: Positive | I51: Classic | J51: Beginner,Advanced Beginner,Intermediate,Expert | K51: Bouldering,Lead | L51: Medium | M51: 2.488 | N51: 10 | AD51: =SUM(Q51:AC51) -> 0 | AE51: =N51*AD51 -> 0 | AN51: 94 | AR51: 74 | AV51: =IF(OrderFormType="Wholesale",CEILING(AR51*ExchRate,ExchRateRoundUpTo),CEILING(AN51*ExchRate,ExchRateRoundUpTo)/1.22) -> 74 | AW51: =AV51*(1+AO51+AP51) -> 74 | BC51: =SUM(AX51:BB51) -> 0 | BD51: =N51*BC51 -> 0 | BE51: =AV51*(1.05+AO51+AP51) -> 77.7 | BG51: =$N51*BF51 -> 0 | BH51: =$AV51*(1.1+$AO51+$AP51) -> 81.4 | BJ51: =N51*BI51 -> 0 | BK51: =AV51*(1.15+AO51+AP51) -> 85.1 | BM51: =N51*BL51 -> 0 | BN51: =AV51*(1.2+AO51+AP51) -> 88.8 | BO51: =(AD51*AW51)+(BC51*BE51)+(BF51*BH51)+(BI51*BK51)+(BL51*BN51) -> 0 | BP51: =AD51+BC51+BF51+BI51+BL51 -> 0 | BQ51: =N51*BP51 -> 0 | BR51: 1476
A52: ="BL2"&REPT(0,4-LEN(BR52))&BR52 -> BL21435 | B52: Classic Positive Rounded Edges | C52: Classic Positive Rounded Screw-ons | D52: Holds | F52: Edges,Screw-ons | G52: Footholds | H52: Positive | I52: Classic | J52: Beginner,Advanced Beginner,Intermediate,Expert | K52: Bouldering,Lead | L52: Medium | M52: 1.286 | N52: 10 | AD52: =SUM(Q52:AC52) -> 0 | AE52: =N52*AD52 -> 0 | AN52: 79 | AR52: 64 | AV52: =IF(OrderFormType="Wholesale",CEILING(AR52*ExchRate,ExchRateRoundUpTo),CEILING(AN52*ExchRate,ExchRateRoundUpTo)/1.22) -> 64 | AW52: =AV52*(1+AO52+AP52) -> 64 | BC52: =SUM(AX52:BB52) -> 0 | BD52: =N52*BC52 -> 0 | BE52: =AV52*(1.05+AO52+AP52) -> 67.2 | BG52: =$N52*BF52 -> 0 | BH52: =$AV52*(1.1+$AO52+$AP52) -> 70.4 | BJ52: =N52*BI52 -> 0 | BK52: =AV52*(1.15+AO52+AP52) -> 73.6 | BM52: =N52*BL52 -> 0 | BN52: =AV52*(1.2+AO52+AP52) -> 76.8 | BO52: =(AD52*AW52)+(BC52*BE52)+(BF52*BH52)+(BI52*BK52)+(BL52*BN52) -> 0 | BP52: =AD52+BC52+BF52+BI52+BL52 -> 0 | BQ52: =N52*BP52 -> 0 | BR52: 1435
C53: Fontainebleau range
A54: ="BL2"&REPT(0,4-LEN(BR54))&BR54 -> BL20288 | B54: Fontainebleau range | C54: Fontainebleau Circuit | D54: Holds | F54: Mixed | G54: Standard | H54: Positive | I54: Fontainebleau | J54: Beginner,Advanced Beginner,Intermediate,Expert | K54: Bouldering,Lead | L54: Medium | M54: 16.02 | N54: 20 | AD54: =SUM(Q54:AC54) -> 0 | AE54: =N54*AD54 -> 0 | AN54: 329 | AR54: 269 | AV54: =IF(OrderFormType="Wholesale",CEILING(AR54*ExchRate,ExchRateRoundUpTo),CEILING(AN54*ExchRate,ExchRateRoundUpTo)/1.22) -> 269 | AW54: =AV54*(1+AO54+AP54) -> 269 | BC54: =SUM(AX54:BB54) -> 0 | BD54: =N54*BC54 -> 0 | BE54: =AV54*(1.05+AO54+AP54) -> 282.45 | BG54: =$N54*BF54 -> 0 | BH54: =$AV54*(1.1+$AO54+$AP54) -> 295.9 | BJ54: =N54*BI54 -> 0 | BK54: =AV54*(1.15+AO54+AP54) -> 309.35 | BM54: =N54*BL54 -> 0 | BN54: =AV54*(1.2+AO54+AP54) -> 322.8 | BO54: =(AD54*AW54)+(BC54*BE54)+(BF54*BH54)+(BI54*BK54)+(BL54*BN54) -> 0 | BP54: =AD54+BC54+BF54+BI54+BL54 -> 0 | BQ54: =N54*BP54 -> 0 | BR54: 288
A55: ="BL2"&REPT(0,4-LEN(BR55))&BR55 -> BL20341 | B55: Fontainebleau range | C55: Fontainebleau Cortomaltese | D55: Macros | F55: Open Handed Jug | G55: 690x540x200 | H55: Flat | I55: Fontainebleau | J55: Beginner,Advanced Beginner,Intermediate,Expert | K55: Bouldering,Lead | L55: Medium | M55: 3.046 | N55: 1 | AD55: =SUM(Q55:AC55) -> 0 | AE55: =N55*AD55 -> 0 | AN55: 279 | AR55: 229 | AV55: =IF(OrderFormType="Wholesale",CEILING(AR55*ExchRate,ExchRateRoundUpTo),CEILING(AN55*ExchRate,ExchRateRoundUpTo)/1.22) -> 229 | AW55: =AV55*(1+AO55+AP55) -> 229 | BC55: =SUM(AX55:BB55) -> 0 | BD55: =N55*BC55 -> 0 | BE55: =AV55*(1.05+AO55+AP55) -> 240.45 | BG55: =$N55*BF55 -> 0 | BH55: =$AV55*(1.1+$AO55+$AP55) -> 251.9 | BJ55: =N55*BI55 -> 0 | BK55: =AV55*(1.15+AO55+AP55) -> 263.35 | BM55: =N55*BL55 -> 0 | BN55: =AV55*(1.2+AO55+AP55) -> 274.8 | BO55: =(AD55*AW55)+(BC55*BE55)+(BF55*BH55)+(BI55*BK55)+(BL55*BN55) -> 0 | BP55: =AD55+BC55+BF55+BI55+BL55 -> 0 | BQ55: =N55*BP55 -> 0 | BR55: 341
A56: ="BL2"&REPT(0,4-LEN(BR56))&BR56 -> BL20533 | B56: Fontainebleau range | C56: Fontainebleau Crimps | D56: Holds | F56: Crimps | G56: Mini | H56: Positive | I56: Fontainebleau | J56: Beginner,Advanced Beginner,Intermediate,Expert | K56: Bouldering,Lead | L56: Medium | M56: 7.405 | N56: 20 | AD56: =SUM(Q56:AC56) -> 0 | AE56: =N56*AD56 -> 0 | AN56: 204 | AR56: 164 | AV56: =IF(OrderFormType="Wholesale",CEILING(AR56*ExchRate,ExchRateRoundUpTo),CEILING(AN56*ExchRate,ExchRateRoundUpTo)/1.22) -> 164 | AW56: =AV56*(1+AO56+AP56) -> 164 | BC56: =SUM(AX56:BB56) -> 0 | BD56: =N56*BC56 -> 0 | BE56: =AV56*(1.05+AO56+AP56) -> 172.2 | BG56: =$N56*BF56 -> 0 | BH56: =$AV56*(1.1+$AO56+$AP56) -> 180.4 | BJ56: =N56*BI56 -> 0 | BK56: =AV56*(1.15+AO56+AP56) -> 188.6 | BM56: =N56*BL56 -> 0 | BN56: =AV56*(1.2+AO56+AP56) -> 196.8 | BO56: =(AD56*AW56)+(BC56*BE56)+(BF56*BH56)+(BI56*BK56)+(BL56*BN56) -> 0 | BP56: =AD56+BC56+BF56+BI56+BL56 -> 0 | BQ56: =N56*BP56 -> 0 | BR56: 533
A57: ="BL2"&REPT(0,4-LEN(BR57))&BR57 -> BL20290 | B57: Fontainebleau range | C57: Fontainebleau Edges | D57: Holds | F57: Edges | G57: Mondo | H57: Positive | I57: Fontainebleau | J57: Beginner,Advanced Beginner,Intermediate,Expert | K57: Bouldering,Lead | L57: Medium | M57: 15.914 | N57: 10 | AD57: =SUM(Q57:AC57) -> 0 | AE57: =N57*AD57 -> 0 | AN57: 329 | AR57: 269 | AV57: =IF(OrderFormType="Wholesale",CEILING(AR57*ExchRate,ExchRateRoundUpTo),CEILING(AN57*ExchRate,ExchRateRoundUpTo)/1.22) -> 269 | AW57: =AV57*(1+AO57+AP57) -> 269 | BC57: =SUM(AX57:BB57) -> 0 | BD57: =N57*BC57 -> 0 | BE57: =AV57*(1.05+AO57+AP57) -> 282.45 | BG57: =$N57*BF57 -> 0 | BH57: =$AV57*(1.1+$AO57+$AP57) -> 295.9 | BJ57: =N57*BI57 -> 0 | BK57: =AV57*(1.15+AO57+AP57) -> 309.35 | BM57: =N57*BL57 -> 0 | BN57: =AV57*(1.2+AO57+AP57) -> 322.8 | BO57: =(AD57*AW57)+(BC57*BE57)+(BF57*BH57)+(BI57*BK57)+(BL57*BN57) -> 0 | BP57: =AD57+BC57+BF57+BI57+BL57 -> 0 | BQ57: =N57*BP57 -> 0 | BR57: 290
A58: ="BL2"&REPT(0,4-LEN(BR58))&BR58 -> BL20474 | B58: Fontainebleau range | C58: Fontainebleau Flat Jugs | D58: Holds | F58: Jugs | G58: Standard | H58: Flat | I58: Fontainebleau | J58: Beginner,Advanced Beginner,Intermediate,Expert | K58: Bouldering,Lead | L58: Medium | M58: 8.69 | N58: 10 | AD58: =SUM(Q58:AC58) -> 0 | AE58: =N58*AD58 -> 0 | AN58: 194 | AR58: 159 | AV58: =IF(OrderFormType="Wholesale",CEILING(AR58*ExchRate,ExchRateRoundUpTo),CEILING(AN58*ExchRate,ExchRateRoundUpTo)/1.22) -> 159 | AW58: =AV58*(1+AO58+AP58) -> 159 | BC58: =SUM(AX58:BB58) -> 0 | BD58: =N58*BC58 -> 0 | BE58: =AV58*(1.05+AO58+AP58) -> 166.95 | BG58: =$N58*BF58 -> 0 | BH58: =$AV58*(1.1+$AO58+$AP58) -> 174.9 | BJ58: =N58*BI58 -> 0 | BK58: =AV58*(1.15+AO58+AP58) -> 182.85 | BM58: =N58*BL58 -> 0 | BN58: =AV58*(1.2+AO58+AP58) -> 190.8 | BO58: =(AD58*AW58)+(BC58*BE58)+(BF58*BH58)+(BI58*BK58)+(BL58*BN58) -> 0 | BP58: =AD58+BC58+BF58+BI58+BL58 -> 0 | BQ58: =N58*BP58 -> 0 | BR58: 474
A59: ="BL2"&REPT(0,4-LEN(BR59))&BR59 -> BL20291 | B59: Fontainebleau range | C59: Fontainebleau Footholds | D59: Holds | F59: Footholds | G59: Footholds | H59: Positive | I59: Fontainebleau | J59: Beginner,Advanced Beginner,Intermediate,Expert | K59: Bouldering,Lead | L59: Medium | M59: 1.068 | N59: 10 | AD59: =SUM(Q59:AC59) -> 0 | AE59: =N59*AD59 -> 0 | AN59: 74 | AR59: 59 | AV59: =IF(OrderFormType="Wholesale",CEILING(AR59*ExchRate,ExchRateRoundUpTo),CEILING(AN59*ExchRate,ExchRateRoundUpTo)/1.22) -> 59 | AW59: =AV59*(1+AO59+AP59) -> 59 | BC59: =SUM(AX59:BB59) -> 0 | BD59: =N59*BC59 -> 0 | BE59: =AV59*(1.05+AO59+AP59) -> 61.95 | BG59: =$N59*BF59 -> 0 | BH59: =$AV59*(1.1+$AO59+$AP59) -> 64.9 | BJ59: =N59*BI59 -> 0 | BK59: =AV59*(1.15+AO59+AP59) -> 67.85 | BM59: =N59*BL59 -> 0 | BN59: =AV59*(1.2+AO59+AP59) -> 70.8 | BO59: =(AD59*AW59)+(BC59*BE59)+(BF59*BH59)+(BI59*BK59)+(BL59*BN59) -> 0 | BP59: =AD59+BC59+BF59+BI59+BL59 -> 0 | BQ59: =N59*BP59 -> 0 | BR59: 291
A60: ="BL2"&REPT(0,4-LEN(BR60))&BR60 -> BL22677 | B60: Fontainebleau range | C60: Fontainebleau Giga Jugs 01 | D60: Holds | F60: Dual-Handed,Jugs | G60: Standard | H60: Positive | I60: Fontainebleau | J60: Beginner,Advanced Beginner,Intermediate,Expert | K60: Bouldering,Lead | L60: Medium | M60: 8.6 | N60: 1 | AD60: =SUM(Q60:AC60) -> 0 | AE60: =N60*AD60 -> 0 | AN60: 159 | AR60: 129 | AV60: =IF(OrderFormType="Wholesale",CEILING(AR60*ExchRate,ExchRateRoundUpTo),CEILING(AN60*ExchRate,ExchRateRoundUpTo)/1.22) -> 129 | AW60: =AV60*(1+AO60+AP60) -> 129 | BC60: =SUM(AX60:BB60) -> 0 | BD60: =N60*BC60 -> 0 | BE60: =AV60*(1.05+AO60+AP60) -> 135.45 | BG60: =$N60*BF60 -> 0 | BH60: =$AV60*(1.1+$AO60+$AP60) -> 141.9 | BJ60: =N60*BI60 -> 0 | BK60: =AV60*(1.15+AO60+AP60) -> 148.35 | BM60: =N60*BL60 -> 0 | BN60: =AV60*(1.2+AO60+AP60) -> 154.8 | BO60: =(AD60*AW60)+(BC60*BE60)+(BF60*BH60)+(BI60*BK60)+(BL60*BN60) -> 0 | BP60: =AD60+BC60+BF60+BI60+BL60 -> 0 | BQ60: =N60*BP60 -> 0 | BR60: 2677
A61: ="BL2"&REPT(0,4-LEN(BR61))&BR61 -> BL22678 | B61: Fontainebleau range | C61: Fontainebleau Giga Jugs 02 | D61: Holds | F61: Dual-Handed,Jugs | G61: Standard | H61: Positive | I61: Fontainebleau | J61: Beginner,Advanced Beginner,Intermediate,Expert | K61: Bouldering,Lead | L61: Medium | M61: 9.07 | N61: 1 | AD61: =SUM(Q61:AC61) -> 0 | AE61: =N61*AD61 -> 0 | AN61: 159 | AR61: 129 | AV61: =IF(OrderFormType="Wholesale",CEILING(AR61*ExchRate,ExchRateRoundUpTo),CEILING(AN61*ExchRate,ExchRateRoundUpTo)/1.22) -> 129 | AW61: =AV61*(1+AO61+AP61) -> 129 | BC61: =SUM(AX61:BB61) -> 0 | BD61: =N61*BC61 -> 0 | BE61: =AV61*(1.05+AO61+AP61) -> 135.45 | BG61: =$N61*BF61 -> 0 | BH61: =$AV61*(1.1+$AO61+$AP61) -> 141.9 | BJ61: =N61*BI61 -> 0 | BK61: =AV61*(1.15+AO61+AP61) -> 148.35 | BM61: =N61*BL61 -> 0 | BN61: =AV61*(1.2+AO61+AP61) -> 154.8 | BO61: =(AD61*AW61)+(BC61*BE61)+(BF61*BH61)+(BI61*BK61)+(BL61*BN61) -> 0 | BP61: =AD61+BC61+BF61+BI61+BL61 -> 0 | BQ61: =N61*BP61 -> 0 | BR61: 2678
A62: ="BL2"&REPT(0,4-LEN(BR62))&BR62 -> BL20473 | B62: Fontainebleau range | C62: Fontainebleau Incut Crimps | D62: Holds | F62: Incut,Crimps | G62: Mini | H62: Positive | I62: Fontainebleau | J62: Beginner,Advanced Beginner,Intermediate,Expert | K62: Bouldering,Lead | L62: Medium | M62: 3.129 | N62: 10 | AD62: =SUM(Q62:AC62) -> 0 | AE62: =N62*AD62 -> 0 | AN62: 109 | AR62: 89 | AV62: =IF(OrderFormType="Wholesale",CEILING(AR62*ExchRate,ExchRateRoundUpTo),CEILING(AN62*ExchRate,ExchRateRoundUpTo)/1.22) -> 89 | AW62: =AV62*(1+AO62+AP62) -> 89 | BC62: =SUM(AX62:BB62) -> 0 | BD62: =N62*BC62 -> 0 | BE62: =AV62*(1.05+AO62+AP62) -> 93.45 | BG62: =$N62*BF62 -> 0 | BH62: =$AV62*(1.1+$AO62+$AP62) -> 97.9 | BJ62: =N62*BI62 -> 0 | BK62: =AV62*(1.15+AO62+AP62) -> 102.35 | BM62: =N62*BL62 -> 0 | BN62: =AV62*(1.2+AO62+AP62) -> 106.8 | BO62: =(AD62*AW62)+(BC62*BE62)+(BF62*BH62)+(BI62*BK62)+(BL62*BN62) -> 0 | BP62: =AD62+BC62+BF62+BI62+BL62 -> 0 | BQ62: =N62*BP62 -> 0 | BR62: 473
A63: ="BL2"&REPT(0,4-LEN(BR63))&BR63 -> BL20420 | B63: Fontainebleau range | C63: Fontainebleau Jugs | D63: Holds | F63: Jugs | G63: Standard | H63: Positive | I63: Fontainebleau | J63: Beginner,Advanced Beginner,Intermediate,Expert | K63: Bouldering,Lead | L63: Medium | M63: 10.763 | N63: 20 | AD63: =SUM(Q63:AC63) -> 0 | AE63: =N63*AD63 -> 0 | AN63: 244 | AR63: 199 | AV63: =IF(OrderFormType="Wholesale",CEILING(AR63*ExchRate,ExchRateRoundUpTo),CEILING(AN63*ExchRate,ExchRateRoundUpTo)/1.22) -> 199 | AW63: =AV63*(1+AO63+AP63) -> 199 | BC63: =SUM(AX63:BB63) -> 0 | BD63: =N63*BC63 -> 0 | BE63: =AV63*(1.05+AO63+AP63) -> 208.95 | BG63: =$N63*BF63 -> 0 | BH63: =$AV63*(1.1+$AO63+$AP63) -> 218.9 | BJ63: =N63*BI63 -> 0 | BK63: =AV63*(1.15+AO63+AP63) -> 228.85 | BM63: =N63*BL63 -> 0 | BN63: =AV63*(1.2+AO63+AP63) -> 238.8 | BO63: =(AD63*AW63)+(BC63*BE63)+(BF63*BH63)+(BI63*BK63)+(BL63*BN63) -> 0 | BP63: =AD63+BC63+BF63+BI63+BL63 -> 0 | BQ63: =N63*BP63 -> 0 | BR63: 420
A64: ="BL2"&REPT(0,4-LEN(BR64))&BR64 -> BL20805 | B64: Fontainebleau range | C64: Fontainebleau La Coquille | D64: Macros | F64: Dual-Handed Edges | G64: 620x490x100 | H64: Flat | I64: Fontainebleau | J64: Beginner,Advanced Beginner,Intermediate,Expert | K64: Bouldering,Lead | L64: Medium | M64: 3.2 | N64: 1 | AD64: =SUM(Q64:AC64) -> 0 | AE64: =N64*AD64 -> 0 | AN64: 264 | AR64: 214 | AV64: =IF(OrderFormType="Wholesale",CEILING(AR64*ExchRate,ExchRateRoundUpTo),CEILING(AN64*ExchRate,ExchRateRoundUpTo)/1.22) -> 214 | AW64: =AV64*(1+AO64+AP64) -> 214 | BC64: =SUM(AX64:BB64) -> 0 | BD64: =N64*BC64 -> 0 | BE64: =AV64*(1.05+AO64+AP64) -> 224.7 | BG64: =$N64*BF64 -> 0 | BH64: =$AV64*(1.1+$AO64+$AP64) -> 235.4 | BJ64: =N64*BI64 -> 0 | BK64: =AV64*(1.15+AO64+AP64) -> 246.1 | BM64: =N64*BL64 -> 0 | BN64: =AV64*(1.2+AO64+AP64) -> 256.8 | BO64: =(AD64*AW64)+(BC64*BE64)+(BF64*BH64)+(BI64*BK64)+(BL64*BN64) -> 0 | BP64: =AD64+BC64+BF64+BI64+BL64 -> 0 | BQ64: =N64*BP64 -> 0 | BR64: 805
A65: ="BL2"&REPT(0,4-LEN(BR65))&BR65 -> BL20804 | B65: Fontainebleau range | C65: Fontainebleau La Gratonnade | D65: Macros | F65: Dual-Handed Edges | G65: 630x530x90 | H65: Flat | I65: Fontainebleau | J65: Beginner,Advanced Beginner,Intermediate,Expert | K65: Bouldering,Lead | L65: Medium | M65: 3.2 | N65: 1 | AD65: =SUM(Q65:AC65) -> 0 | AE65: =N65*AD65 -> 0 | AN65: 264 | AR65: 214 | AV65: =IF(OrderFormType="Wholesale",CEILING(AR65*ExchRate,ExchRateRoundUpTo),CEILING(AN65*ExchRate,ExchRateRoundUpTo)/1.22) -> 214 | AW65: =AV65*(1+AO65+AP65) -> 214 | BC65: =SUM(AX65:BB65) -> 0 | BD65: =N65*BC65 -> 0 | BE65: =AV65*(1.05+AO65+AP65) -> 224.7 | BG65: =$N65*BF65 -> 0 | BH65: =$AV65*(1.1+$AO65+$AP65) -> 235.4 | BJ65: =N65*BI65 -> 0 | BK65: =AV65*(1.15+AO65+AP65) -> 246.1 | BM65: =N65*BL65 -> 0 | BN65: =AV65*(1.2+AO65+AP65) -> 256.8 | BO65: =(AD65*AW65)+(BC65*BE65)+(BF65*BH65)+(BI65*BK65)+(BL65*BN65) -> 0 | BP65: =AD65+BC65+BF65+BI65+BL65 -> 0 | BQ65: =N65*BP65 -> 0 | BR65: 804
... A81: ="BL2"&REPT(0,4-LEN(BR81))&BR81 -> BL21508 | B81: Fontainebleau range | C81: Fontainebleau Super Mini Jugs | D81: Holds | F81: Jugs | G81: Mini | H81: Positive | I81: Fontainebleau | J81: Beginner,Advanced Beginner,Intermediate,Expert | K81: Bouldering,Lead | L81: Medium | M81: 4.25 | N81: 10 | AD81: =SUM(Q81:AC81) -> 0 | AE81: =N81*AD81 -> 0 | AN81: 134 | AR81: 109 | AV81: =IF(OrderFormType="Wholesale",CEILING(AR81*ExchRate,ExchRateRoundUpTo),CEILING(AN81*ExchRate,ExchRateRoundUpTo)/1.22) -> 109 | AW81: =AV81*(1+AO81+AP81) -> 109 | BC81: =SUM(AX81:BB81) -> 0 | BD81: =N81*BC81 -> 0 | BE81: =AV81*(1.05+AO81+AP81) -> 114.45 | BG81: =$N81*BF81 -> 0 | BH81: =$AV81*(1.1+$AO81+$AP81) -> 119.9 | BJ81: =N81*BI81 -> 0 | BK81: =AV81*(1.15+AO81+AP81) -> 125.35 | BM81: =N81*BL81 -> 0 | BN81: =AV81*(1.2+AO81+AP81) -> 130.8 | BO81: =(AD81*AW81)+(BC81*BE81)+(BF81*BH81)+(BI81*BK81)+(BL81*BN81) -> 0 | BP81: =AD81+BC81+BF81+BI81+BL81 -> 0 | BQ81: =N81*BP81 -> 0 | BR81: 1508
C82: Granite Range
A83: ="BL2"&REPT(0,4-LEN(BR83))&BR83 -> BL22326 | B83: Brione | C83: Brione 01 | D83: Holds | F83: Incut Edges, Jugs | G83: Standard | H83: Positive | I83: Granite | J83: Advanced Beginner,Intermediate,Expert | K83: Bouldering,Lead | L83: Medium | M83: 5.17 | N83: 2 | AD83: =SUM(Q83:AC83) -> 0 | AE83: =N83*AD83 -> 0 | AN83: 134 | AR83: 109 | AV83: =IF(OrderFormType="Wholesale",CEILING(AR83*ExchRate,ExchRateRoundUpTo),CEILING(AN83*ExchRate,ExchRateRoundUpTo)/1.22) -> 109 | AW83: =AV83*(1+AO83+AP83) -> 109 | BC83: =SUM(AX83:BB83) -> 0 | BD83: =N83*BC83 -> 0 | BE83: =AV83*(1.05+AO83+AP83) -> 114.45 | BG83: =$N83*BF83 -> 0 | BH83: =$AV83*(1.1+$AO83+$AP83) -> 119.9 | BJ83: =N83*BI83 -> 0 | BK83: =AV83*(1.15+AO83+AP83) -> 125.35 | BM83: =N83*BL83 -> 0 | BN83: =AV83*(1.2+AO83+AP83) -> 130.8 | BO83: =(AD83*AW83)+(BC83*BE83)+(BF83*BH83)+(BI83*BK83)+(BL83*BN83) -> 0 | BP83: =AD83+BC83+BF83+BI83+BL83 -> 0 | BQ83: =N83*BP83 -> 0 | BR83: 2326
A84: ="BL2"&REPT(0,4-LEN(BR84))&BR84 -> BL22327 | B84: Brione | C84: Brione 02 | D84: Holds | F84: Incut Edges, Jugs | G84: Standard | H84: Positive | I84: Granite | J84: Advanced Beginner,Intermediate,Expert | K84: Bouldering,Lead | L84: Medium | M84: 9.185 | N84: 4 | AD84: =SUM(Q84:AC84) -> 0 | AE84: =N84*AD84 -> 0 | AN84: 194 | AR84: 159 | AV84: =IF(OrderFormType="Wholesale",CEILING(AR84*ExchRate,ExchRateRoundUpTo),CEILING(AN84*ExchRate,ExchRateRoundUpTo)/1.22) -> 159 | AW84: =AV84*(1+AO84+AP84) -> 159 | BC84: =SUM(AX84:BB84) -> 0 | BD84: =N84*BC84 -> 0 | BE84: =AV84*(1.05+AO84+AP84) -> 166.95 | BG84: =$N84*BF84 -> 0 | BH84: =$AV84*(1.1+$AO84+$AP84) -> 174.9 | BJ84: =N84*BI84 -> 0 | BK84: =AV84*(1.15+AO84+AP84) -> 182.85 | BM84: =N84*BL84 -> 0 | BN84: =AV84*(1.2+AO84+AP84) -> 190.8 | BO84: =(AD84*AW84)+(BC84*BE84)+(BF84*BH84)+(BI84*BK84)+(BL84*BN84) -> 0 | BP84: =AD84+BC84+BF84+BI84+BL84 -> 0 | BQ84: =N84*BP84 -> 0 | BR84: 2327
A85: ="BL2"&REPT(0,4-LEN(BR85))&BR85 -> BL22328 | B85: Brione | C85: Brione 03 | D85: Holds | F85: Incut Edges, Jugs | G85: Standard | H85: Positive | I85: Granite | J85: Advanced Beginner,Intermediate,Expert | K85: Bouldering,Lead | L85: Medium | M85: 6.455 | N85: 2 | AD85: =SUM(Q85:AC85) -> 0 | AE85: =N85*AD85 -> 0 | AN85: 149 | AR85: 121 | AV85: =IF(OrderFormType="Wholesale",CEILING(AR85*ExchRate,ExchRateRoundUpTo),CEILING(AN85*ExchRate,ExchRateRoundUpTo)/1.22) -> 121 | AW85: =AV85*(1+AO85+AP85) -> 121 | BC85: =SUM(AX85:BB85) -> 0 | BD85: =N85*BC85 -> 0 | BE85: =AV85*(1.05+AO85+AP85) -> 127.05 | BG85: =$N85*BF85 -> 0 | BH85: =$AV85*(1.1+$AO85+$AP85) -> 133.1 | BJ85: =N85*BI85 -> 0 | BK85: =AV85*(1.15+AO85+AP85) -> 139.15 | BM85: =N85*BL85 -> 0 | BN85: =AV85*(1.2+AO85+AP85) -> 145.2 | BO85: =(AD85*AW85)+(BC85*BE85)+(BF85*BH85)+(BI85*BK85)+(BL85*BN85) -> 0 | BP85: =AD85+BC85+BF85+BI85+BL85 -> 0 | BQ85: =N85*BP85 -> 0 | BR85: 2328
A86: ="BL2"&REPT(0,4-LEN(BR86))&BR86 -> BL22329 | B86: Brione | C86: Brione 04 | D86: Holds | F86: Incut Edges, Jugs | G86: Standard | H86: Positive | I86: Granite | J86: Advanced Beginner,Intermediate,Expert | K86: Bouldering,Lead | L86: Medium | M86: 7.442 | N86: 2 | AD86: =SUM(Q86:AC86) -> 0 | AE86: =N86*AD86 -> 0 | AN86: 159 | AR86: 129 | AV86: =IF(OrderFormType="Wholesale",CEILING(AR86*ExchRate,ExchRateRoundUpTo),CEILING(AN86*ExchRate,ExchRateRoundUpTo)/1.22) -> 129 | AW86: =AV86*(1+AO86+AP86) -> 129 | BC86: =SUM(AX86:BB86) -> 0 | BD86: =N86*BC86 -> 0 | BE86: =AV86*(1.05+AO86+AP86) -> 135.45 | BG86: =$N86*BF86 -> 0 | BH86: =$AV86*(1.1+$AO86+$AP86) -> 141.9 | BJ86: =N86*BI86 -> 0 | BK86: =AV86*(1.15+AO86+AP86) -> 148.35 | BM86: =N86*BL86 -> 0 | BN86: =AV86*(1.2+AO86+AP86) -> 154.8 | BO86: =(AD86*AW86)+(BC86*BE86)+(BF86*BH86)+(BI86*BK86)+(BL86*BN86) -> 0 | BP86: =AD86+BC86+BF86+BI86+BL86 -> 0 | BQ86: =N86*BP86 -> 0 | BR86: 2329
A87: ="BL2"&REPT(0,4-LEN(BR87))&BR87 -> BL22330 | B87: Brione | C87: Brione 05 | D87: Holds | F87: Edges | G87: Standard | H87: Positive | I87: Granite | J87: Advanced Beginner,Intermediate,Expert | K87: Bouldering,Lead | L87: Medium | M87: 8.848 | N87: 2 | AD87: =SUM(Q87:AC87) -> 0 | AE87: =N87*AD87 -> 0 | AN87: 179 | AR87: 145 | AV87: =IF(OrderFormType="Wholesale",CEILING(AR87*ExchRate,ExchRateRoundUpTo),CEILING(AN87*ExchRate,ExchRateRoundUpTo)/1.22) -> 145 | AW87: =AV87*(1+AO87+AP87) -> 145 | BC87: =SUM(AX87:BB87) -> 0 | BD87: =N87*BC87 -> 0 | BE87: =AV87*(1.05+AO87+AP87) -> 152.25 | BG87: =$N87*BF87 -> 0 | BH87: =$AV87*(1.1+$AO87+$AP87) -> 159.5 | BJ87: =N87*BI87 -> 0 | BK87: =AV87*(1.15+AO87+AP87) -> 166.75 | BM87: =N87*BL87 -> 0 | BN87: =AV87*(1.2+AO87+AP87) -> 174 | BO87: =(AD87*AW87)+(BC87*BE87)+(BF87*BH87)+(BI87*BK87)+(BL87*BN87) -> 0 | BP87: =AD87+BC87+BF87+BI87+BL87 -> 0 | BQ87: =N87*BP87 -> 0 | BR87: 2330
A88: ="BL2"&REPT(0,4-LEN(BR88))&BR88 -> BL22333 | B88: Brione | C88: The neverending story | D88: Macros | F88: Edges | G88: 550x300x170 | H88: Flat | I88: Granite | J88: Advanced Beginner,Intermediate,Expert | K88: Bouldering,Lead | L88: Medium | M88: 2.1 | N88: 1 | AD88: =SUM(Q88:AC88) -> 0 | AE88: =N88*AD88 -> 0 | AN88: 304 | AR88: 249 | AV88: =IF(OrderFormType="Wholesale",CEILING(AR88*ExchRate,ExchRateRoundUpTo),CEILING(AN88*ExchRate,ExchRateRoundUpTo)/1.22) -> 249 | AW88: =AV88*(1+AO88+AP88) -> 249 | BC88: =SUM(AX88:BB88) -> 0 | BD88: =N88*BC88 -> 0 | BE88: =AV88*(1.05+AO88+AP88) -> 261.45 | BG88: =$N88*BF88 -> 0 | BH88: =$AV88*(1.1+$AO88+$AP88) -> 273.9 | BJ88: =N88*BI88 -> 0 | BK88: =AV88*(1.15+AO88+AP88) -> 286.35 | BM88: =N88*BL88 -> 0 | BN88: =AV88*(1.2+AO88+AP88) -> 298.8 | BO88: =(AD88*AW88)+(BC88*BE88)+(BF88*BH88)+(BI88*BK88)+(BL88*BN88) -> 0 | BP88: =AD88+BC88+BF88+BI88+BL88 -> 0 | BQ88: =N88*BP88 -> 0 | BR88: 2333
A89: ="BL2"&REPT(0,4-LEN(BR89))&BR89 -> BL20826 | B89: Granite Basics | C89: Granite Basics 01 | D89: Holds | F89: Jugs | G89: Standard | H89: Positive | I89: Granite | J89: Advanced Beginner,Intermediate,Expert | K89: Bouldering,Lead | L89: Medium | M89: 5.231 | N89: 10 | AD89: =SUM(Q89:AC89) -> 0 | AE89: =N89*AD89 -> 0 | AN89: 149 | AR89: 119 | AV89: =IF(OrderFormType="Wholesale",CEILING(AR89*ExchRate,ExchRateRoundUpTo),CEILING(AN89*ExchRate,ExchRateRoundUpTo)/1.22) -> 119 | AW89: =AV89*(1+AO89+AP89) -> 119 | BC89: =SUM(AX89:BB89) -> 0 | BD89: =N89*BC89 -> 0 | BE89: =AV89*(1.05+AO89+AP89) -> 124.95 | BG89: =$N89*BF89 -> 0 | BH89: =$AV89*(1.1+$AO89+$AP89) -> 130.9 | BJ89: =N89*BI89 -> 0 | BK89: =AV89*(1.15+AO89+AP89) -> 136.85 | BM89: =N89*BL89 -> 0 | BN89: =AV89*(1.2+AO89+AP89) -> 142.8 | BO89: =(AD89*AW89)+(BC89*BE89)+(BF89*BH89)+(BI89*BK89)+(BL89*BN89) -> 0 | BP89: =AD89+BC89+BF89+BI89+BL89 -> 0 | BQ89: =N89*BP89 -> 0 | BR89: 826
A90: ="BL2"&REPT(0,4-LEN(BR90))&BR90 -> BL20831 | B90: Granite Basics | C90: Granite Basics 02 | D90: Holds | F90: Dual-Handed,Jugs | G90: Mondo | H90: Positive | I90: Granite | J90: Advanced Beginner,Intermediate,Expert | K90: Bouldering,Lead | L90: Medium | M90: 6.816 | N90: 5 | AD90: =SUM(Q90:AC90) -> 0 | AE90: =N90*AD90 -> 0 | AN90: 154 | AR90: 124 | AV90: =IF(OrderFormType="Wholesale",CEILING(AR90*ExchRate,ExchRateRoundUpTo),CEILING(AN90*ExchRate,ExchRateRoundUpTo)/1.22) -> 124 | AW90: =AV90*(1+AO90+AP90) -> 124 | BC90: =SUM(AX90:BB90) -> 0 | BD90: =N90*BC90 -> 0 | BE90: =AV90*(1.05+AO90+AP90) -> 130.2 | BG90: =$N90*BF90 -> 0 | BH90: =$AV90*(1.1+$AO90+$AP90) -> 136.4 | BJ90: =N90*BI90 -> 0 | BK90: =AV90*(1.15+AO90+AP90) -> 142.6 | BM90: =N90*BL90 -> 0 | BN90: =AV90*(1.2+AO90+AP90) -> 148.8 | BO90: =(AD90*AW90)+(BC90*BE90)+(BF90*BH90)+(BI90*BK90)+(BL90*BN90) -> 0 | BP90: =AD90+BC90+BF90+BI90+BL90 -> 0 | BQ90: =N90*BP90 -> 0 | BR90: 831
A91: ="BL2"&REPT(0,4-LEN(BR91))&BR91 -> BL20827 | B91: Granite Basics | C91: Granite Basics 03 | D91: Holds | F91: Jugs | G91: Standard | H91: Super Positive | I91: Granite | J91: Advanced Beginner,Intermediate,Expert | K91: Bouldering,Lead | L91: Medium | M91: 4.5 | N91: 5 | AD91: =SUM(Q91:AC91) -> 0 | AE91: =N91*AD91 -> 0 | AN91: 124 | AR91: 99 | AV91: =IF(OrderFormType="Wholesale",CEILING(AR91*ExchRate,ExchRateRoundUpTo),CEILING(AN91*ExchRate,ExchRateRoundUpTo)/1.22) -> 99 | AW91: =AV91*(1+AO91+AP91) -> 99 | BC91: =SUM(AX91:BB91) -> 0 | BD91: =N91*BC91 -> 0 | BE91: =AV91*(1.05+AO91+AP91) -> 103.95 | BG91: =$N91*BF91 -> 0 | BH91: =$AV91*(1.1+$AO91+$AP91) -> 108.9 | BJ91: =N91*BI91 -> 0 | BK91: =AV91*(1.15+AO91+AP91) -> 113.85 | BM91: =N91*BL91 -> 0 | BN91: =AV91*(1.2+AO91+AP91) -> 118.8 | BO91: =(AD91*AW91)+(BC91*BE91)+(BF91*BH91)+(BI91*BK91)+(BL91*BN91) -> 0 | BP91: =AD91+BC91+BF91+BI91+BL91 -> 0 | BQ91: =N91*BP91 -> 0 | BR91: 827
A92: ="BL2"&REPT(0,4-LEN(BR92))&BR92 -> BL20829 | B92: Granite Basics | C92: Granite Basics 04 | D92: Holds | F92: Footholds | G92: Footholds | H92: Positive | I92: Granite | J92: Advanced Beginner,Intermediate,Expert | K92: Bouldering,Lead | L92: Medium | M92: 1.6 | N92: 20 | AD92: =SUM(Q92:AC92) -> 0 | AE92: =N92*AD92 -> 0 | AN92: 124 | AR92: 99 | AV92: =IF(OrderFormType="Wholesale",CEILING(AR92*ExchRate,ExchRateRoundUpTo),CEILING(AN92*ExchRate,ExchRateRoundUpTo)/1.22) -> 99 | AW92: =AV92*(1+AO92+AP92) -> 99 | BC92: =SUM(AX92:BB92) -> 0 | BD92: =N92*BC92 -> 0 | BE92: =AV92*(1.05+AO92+AP92) -> 103.95 | BG92: =$N92*BF92 -> 0 | BH92: =$AV92*(1.1+$AO92+$AP92) -> 108.9 | BJ92: =N92*BI92 -> 0 | BK92: =AV92*(1.15+AO92+AP92) -> 113.85 | BM92: =N92*BL92 -> 0 | BN92: =AV92*(1.2+AO92+AP92) -> 118.8 | BO92: =(AD92*AW92)+(BC92*BE92)+(BF92*BH92)+(BI92*BK92)+(BL92*BN92) -> 0 | BP92: =AD92+BC92+BF92+BI92+BL92 -> 0 | BQ92: =N92*BP92 -> 0 | BR92: 829
A93: ="BL2"&REPT(0,4-LEN(BR93))&BR93 -> BL20714 | B93: Granite Basics | C93: Granite Basics 05 | D93: Holds | F93: Footholds | G93: Footholds | H93: Positive | I93: Granite | J93: Advanced Beginner,Intermediate,Expert | K93: Bouldering,Lead | L93: Medium | M93: 1.9 | N93: 15 | AD93: =SUM(Q93:AC93) -> 0 | AE93: =N93*AD93 -> 0 | AN93: 109 | AR93: 89 | AV93: =IF(OrderFormType="Wholesale",CEILING(AR93*ExchRate,ExchRateRoundUpTo),CEILING(AN93*ExchRate,ExchRateRoundUpTo)/1.22) -> 89 | AW93: =AV93*(1+AO93+AP93) -> 89 | BC93: =SUM(AX93:BB93) -> 0 | BD93: =N93*BC93 -> 0 | BE93: =AV93*(1.05+AO93+AP93) -> 93.45 | BG93: =$N93*BF93 -> 0 | BH93: =$AV93*(1.1+$AO93+$AP93) -> 97.9 | BJ93: =N93*BI93 -> 0 | BK93: =AV93*(1.15+AO93+AP93) -> 102.35 | BM93: =N93*BL93 -> 0 | BN93: =AV93*(1.2+AO93+AP93) -> 106.8 | BO93: =(AD93*AW93)+(BC93*BE93)+(BF93*BH93)+(BI93*BK93)+(BL93*BN93) -> 0 | BP93: =AD93+BC93+BF93+BI93+BL93 -> 0 | BQ93: =N93*BP93 -> 0 | BR93: 714
A94: ="BL2"&REPT(0,4-LEN(BR94))&BR94 -> BL20828 | B94: Granite Basics | C94: Granite Basics 06 | D94: Holds | F94: Dual-Handed,Footholds | G94: Footholds,Mondo | H94: Super Positive | I94: Granite | J94: Advanced Beginner,Intermediate,Expert | K94: Bouldering,Lead | L94: Medium | M94: 1.896 | N94: 10 | AD94: =SUM(Q94:AC94) -> 0 | AE94: =N94*AD94 -> 0 | AN94: 84 | AR94: 69 | AV94: =IF(OrderFormType="Wholesale",CEILING(AR94*ExchRate,ExchRateRoundUpTo),CEILING(AN94*ExchRate,ExchRateRoundUpTo)/1.22) -> 69 | AW94: =AV94*(1+AO94+AP94) -> 69 | BC94: =SUM(AX94:BB94) -> 0 | BD94: =N94*BC94 -> 0 | BE94: =AV94*(1.05+AO94+AP94) -> 72.45 | BG94: =$N94*BF94 -> 0 | BH94: =$AV94*(1.1+$AO94+$AP94) -> 75.9 | BJ94: =N94*BI94 -> 0 | BK94: =AV94*(1.15+AO94+AP94) -> 79.35 | BM94: =N94*BL94 -> 0 | BN94: =AV94*(1.2+AO94+AP94) -> 82.8 | BO94: =(AD94*AW94)+(BC94*BE94)+(BF94*BH94)+(BI94*BK94)+(BL94*BN94) -> 0 | BP94: =AD94+BC94+BF94+BI94+BL94 -> 0 | BQ94: =N94*BP94 -> 0 | BR94: 828
... A105: ="BL2"&REPT(0,4-LEN(BR105))&BR105 -> BL20731 | B105: Magic Wood | C105: Magic Wood 11 | D105: Holds | F105: Dual-Handed,Jugs | G105: Mondo | H105: Positive | I105: Granite | J105: Advanced Beginner,Intermediate,Expert | K105: Bouldering,Lead | L105: Medium | M105: 11.06 | N105: 2 | AD105: =SUM(Q105:AC105) -> 0 | AE105: =N105*AD105 -> 0 | AN105: 244 | AR105: 199 | AV105: =IF(OrderFormType="Wholesale",CEILING(AR105*ExchRate,ExchRateRoundUpTo),CEILING(AN105*ExchRate,ExchRateRoundUpTo)/1.22) -> 199 | AW105: =AV105*(1+AO105+AP105) -> 199 | BC105: =SUM(AX105:BB105) -> 0 | BD105: =N105*BC105 -> 0 | BE105: =AV105*(1.05+AO105+AP105) -> 208.95 | BG105: =$N105*BF105 -> 0 | BH105: =$AV105*(1.1+$AO105+$AP105) -> 218.9 | BJ105: =N105*BI105 -> 0 | BK105: =AV105*(1.15+AO105+AP105) -> 228.85 | BM105: =N105*BL105 -> 0 | BN105: =AV105*(1.2+AO105+AP105) -> 238.8 | BO105: =(AD105*AW105)+(BC105*BE105)+(BF105*BH105)+(BI105*BK105)+(BL105*BN105) -> 0 | BP105: =AD105+BC105+BF105+BI105+BL105 -> 0 | BQ105: =N105*BP105 -> 0 | BR105: 731
A106: ="BL2"&REPT(0,4-LEN(BR106))&BR106 -> BL21424 | B106: Magic Wood | C106: Steppenwolf | D106: Macros | G106: 760x280x130 | I106: Granite | J106: Advanced Beginner,Intermediate,Expert | K106: Bouldering,Lead | L106: Medium | M106: 3.8 | N106: 1 | AD106: =SUM(Q106:AC106) -> 0 | AE106: =N106*AD106 -> 0 | AN106: 299 | AR106: 244 | AV106: =IF(OrderFormType="Wholesale",CEILING(AR106*ExchRate,ExchRateRoundUpTo),CEILING(AN106*ExchRate,ExchRateRoundUpTo)/1.22) -> 244 | AW106: =AV106*(1+AO106+AP106) -> 244 | BC106: =SUM(AX106:BB106) -> 0 | BD106: =N106*BC106 -> 0 | BE106: =AV106*(1.05+AO106+AP106) -> 256.2 | BG106: =$N106*BF106 -> 0 | BH106: =$AV106*(1.1+$AO106+$AP106) -> 268.4 | BJ106: =N106*BI106 -> 0 | BK106: =AV106*(1.15+AO106+AP106) -> 280.6 | BM106: =N106*BL106 -> 0 | BN106: =AV106*(1.2+AO106+AP106) -> 292.8 | BO106: =(AD106*AW106)+(BC106*BE106)+(BF106*BH106)+(BI106*BK106)+(BL106*BN106) -> 0 | BP106: =AD106+BC106+BF106+BI106+BL106 -> 0 | BQ106: =N106*BP106 -> 0 | BR106: 1424
A107: ="BL2"&REPT(0,4-LEN(BR107))&BR107 -> BL21423 | B107: Magic Wood | C107: Wonderboy | D107: Macros | G107: 530x230x130 | I107: Granite | J107: Advanced Beginner,Intermediate,Expert | K107: Bouldering,Lead | L107: Medium | M107: 2.9 | N107: 1 | AD107: =SUM(Q107:AC107) -> 0 | AE107: =N107*AD107 -> 0 | AN107: 234 | AR107: 189 | AV107: =IF(OrderFormType="Wholesale",CEILING(AR107*ExchRate,ExchRateRoundUpTo),CEILING(AN107*ExchRate,ExchRateRoundUpTo)/1.22) -> 189 | AW107: =AV107*(1+AO107+AP107) -> 189 | BC107: =SUM(AX107:BB107) -> 0 | BD107: =N107*BC107 -> 0 | BE107: =AV107*(1.05+AO107+AP107) -> 198.45 | BG107: =$N107*BF107 -> 0 | BH107: =$AV107*(1.1+$AO107+$AP107) -> 207.9 | BJ107: =N107*BI107 -> 0 | BK107: =AV107*(1.15+AO107+AP107) -> 217.35 | BM107: =N107*BL107 -> 0 | BN107: =AV107*(1.2+AO107+AP107) -> 226.8 | BO107: =(AD107*AW107)+(BC107*BE107)+(BF107*BH107)+(BI107*BK107)+(BL107*BN107) -> 0 | BP107: =AD107+BC107+BF107+BI107+BL107 -> 0 | BQ107: =N107*BP107 -> 0 | BR107: 1423
A108: ="BL2"&REPT(0,4-LEN(BR108))&BR108 -> BL21132 | B108: Ticino | C108: Ticino 01 | D108: Holds | F108: Edges | G108: Nano | H108: Flat | I108: Granite | J108: Advanced Beginner,Intermediate,Expert | K108: Bouldering,Lead | L108: Medium | M108: 4 | N108: 10 | AD108: =SUM(Q108:AC108) -> 0 | AE108: =N108*AD108 -> 0 | AN108: 129 | AR108: 104 | AV108: =IF(OrderFormType="Wholesale",CEILING(AR108*ExchRate,ExchRateRoundUpTo),CEILING(AN108*ExchRate,ExchRateRoundUpTo)/1.22) -> 104 | AW108: =AV108*(1+AO108+AP108) -> 104 | BC108: =SUM(AX108:BB108) -> 0 | BD108: =N108*BC108 -> 0 | BE108: =AV108*(1.05+AO108+AP108) -> 109.2 | BG108: =$N108*BF108 -> 0 | BH108: =$AV108*(1.1+$AO108+$AP108) -> 114.4 | BJ108: =N108*BI108 -> 0 | BK108: =AV108*(1.15+AO108+AP108) -> 119.6 | BM108: =N108*BL108 -> 0 | BN108: =AV108*(1.2+AO108+AP108) -> 124.8 | BO108: =(AD108*AW108)+(BC108*BE108)+(BF108*BH108)+(BI108*BK108)+(BL108*BN108) -> 0 | BP108: =AD108+BC108+BF108+BI108+BL108 -> 0 | BQ108: =N108*BP108 -> 0 | BR108: 1132
A109: ="BL2"&REPT(0,4-LEN(BR109))&BR109 -> BL21131 | B109: Ticino | C109: Ticino 02 | D109: Holds | F109: Incut,Edges | G109: Standard | H109: Positive | I109: Granite | J109: Advanced Beginner,Intermediate,Expert | K109: Bouldering,Lead | L109: Medium | M109: 7.4 | N109: 8 | AD109: =SUM(Q109:AC109) -> 0 | AE109: =N109*AD109 -> 0 | AN109: 159 | AR109: 129 | AV109: =IF(OrderFormType="Wholesale",CEILING(AR109*ExchRate,ExchRateRoundUpTo),CEILING(AN109*ExchRate,ExchRateRoundUpTo)/1.22) -> 129 | AW109: =AV109*(1+AO109+AP109) -> 129 | BC109: =SUM(AX109:BB109) -> 0 | BD109: =N109*BC109 -> 0 | BE109: =AV109*(1.05+AO109+AP109) -> 135.45 | BG109: =$N109*BF109 -> 0 | BH109: =$AV109*(1.1+$AO109+$AP109) -> 141.9 | BJ109: =N109*BI109 -> 0 | BK109: =AV109*(1.15+AO109+AP109) -> 148.35 | BM109: =N109*BL109 -> 0 | BN109: =AV109*(1.2+AO109+AP109) -> 154.8 | BO109: =(AD109*AW109)+(BC109*BE109)+(BF109*BH109)+(BI109*BK109)+(BL109*BN109) -> 0 | BP109: =AD109+BC109+BF109+BI109+BL109 -> 0 | BQ109: =N109*BP109 -> 0 | BR109: 1131
A110: ="BL2"&REPT(0,4-LEN(BR110))&BR110 -> BL21681 | B110: Ticino | C110: Ticino 03 | D110: Holds | F110: Dual-Handed,Edges | G110: Mondo | H110: Flat | I110: Granite | J110: Advanced Beginner,Intermediate,Expert | K110: Bouldering,Lead | L110: Medium | M110: 9.77 | N110: 5 | AD110: =SUM(Q110:AC110) -> 0 | AE110: =N110*AD110 -> 0 | AN110: 224 | AR110: 184 | AV110: =IF(OrderFormType="Wholesale",CEILING(AR110*ExchRate,ExchRateRoundUpTo),CEILING(AN110*ExchRate,ExchRateRoundUpTo)/1.22) -> 184 | AW110: =AV110*(1+AO110+AP110) -> 184 | BC110: =SUM(AX110:BB110) -> 0 | BD110: =N110*BC110 -> 0 | BE110: =AV110*(1.05+AO110+AP110) -> 193.2 | BG110: =$N110*BF110 -> 0 | BH110: =$AV110*(1.1+$AO110+$AP110) -> 202.4 | BJ110: =N110*BI110 -> 0 | BK110: =AV110*(1.15+AO110+AP110) -> 211.6 | BM110: =N110*BL110 -> 0 | BN110: =AV110*(1.2+AO110+AP110) -> 220.8 | BO110: =(AD110*AW110)+(BC110*BE110)+(BF110*BH110)+(BI110*BK110)+(BL110*BN110) -> 0 | BP110: =AD110+BC110+BF110+BI110+BL110 -> 0 | BQ110: =N110*BP110 -> 0 | BR110: 1681
A111: ="BL2"&REPT(0,4-LEN(BR111))&BR111 -> BL21481 | B111: Ticino | C111: Ticino 04 | D111: Holds | F111: Edges | H111: Positive | I111: Granite | J111: Advanced Beginner,Intermediate,Expert | K111: Bouldering,Lead | L111: Medium | M111: 6.248 | N111: 3 | AD111: =SUM(Q111:AC111) -> 0 | AE111: =N111*AD111 -> 0 | AN111: 169 | AR111: 139 | AV111: =IF(OrderFormType="Wholesale",CEILING(AR111*ExchRate,ExchRateRoundUpTo),CEILING(AN111*ExchRate,ExchRateRoundUpTo)/1.22) -> 139 | AW111: =AV111*(1+AO111+AP111) -> 139 | BC111: =SUM(AX111:BB111) -> 0 | BD111: =N111*BC111 -> 0 | BE111: =AV111*(1.05+AO111+AP111) -> 145.95 | BG111: =$N111*BF111 -> 0 | BH111: =$AV111*(1.1+$AO111+$AP111) -> 152.9 | BJ111: =N111*BI111 -> 0 | BK111: =AV111*(1.15+AO111+AP111) -> 159.85 | BM111: =N111*BL111 -> 0 | BN111: =AV111*(1.2+AO111+AP111) -> 166.8 | BO111: =(AD111*AW111)+(BC111*BE111)+(BF111*BH111)+(BI111*BK111)+(BL111*BN111) -> 0 | BP111: =AD111+BC111+BF111+BI111+BL111 -> 0 | BQ111: =N111*BP111 -> 0 | BR111: 1481
A112: ="BL2"&REPT(0,4-LEN(BR112))&BR112 -> BL20545 | B112: Ticino | C112: Ticino 05 | D112: Holds | F112: Slopers | G112: Mini | H112: Flat | I112: Granite | J112: Advanced Beginner,Intermediate,Expert | K112: Bouldering,Lead | L112: Medium | M112: 3.256 | N112: 10 | AD112: =SUM(Q112:AC112) -> 0 | AE112: =N112*AD112 -> 0 | AN112: 129 | AR112: 104 | AV112: =IF(OrderFormType="Wholesale",CEILING(AR112*ExchRate,ExchRateRoundUpTo),CEILING(AN112*ExchRate,ExchRateRoundUpTo)/1.22) -> 104 | AW112: =AV112*(1+AO112+AP112) -> 104 | BC112: =SUM(AX112:BB112) -> 0 | BD112: =N112*BC112 -> 0 | BE112: =AV112*(1.05+AO112+AP112) -> 109.2 | BG112: =$N112*BF112 -> 0 | BH112: =$AV112*(1.1+$AO112+$AP112) -> 114.4 | BJ112: =N112*BI112 -> 0 | BK112: =AV112*(1.15+AO112+AP112) -> 119.6 | BM112: =N112*BL112 -> 0 | BN112: =AV112*(1.2+AO112+AP112) -> 124.8 | BO112: =(AD112*AW112)+(BC112*BE112)+(BF112*BH112)+(BI112*BK112)+(BL112*BN112) -> 0 | BP112: =AD112+BC112+BF112+BI112+BL112 -> 0 | BQ112: =N112*BP112 -> 0 | BR112: 545
A113: ="BL2"&REPT(0,4-LEN(BR113))&BR113 -> BL20717 | B113: Ticino | C113: Ticino 06 | D113: Holds | F113: Dual-Handed,Specials | G113: Mondo | H113: Flat | I113: Granite | J113: Advanced Beginner,Intermediate,Expert | K113: Bouldering,Lead | L113: Medium | M113: 3.3 | N113: 2 | AD113: =SUM(Q113:AC113) -> 0 | AE113: =N113*AD113 -> 0 | AN113: 104 | AR113: 84 | AV113: =IF(OrderFormType="Wholesale",CEILING(AR113*ExchRate,ExchRateRoundUpTo),CEILING(AN113*ExchRate,ExchRateRoundUpTo)/1.22) -> 84 | AW113: =AV113*(1+AO113+AP113) -> 84 | BC113: =SUM(AX113:BB113) -> 0 | BD113: =N113*BC113 -> 0 | BE113: =AV113*(1.05+AO113+AP113) -> 88.2 | BG113: =$N113*BF113 -> 0 | BH113: =$AV113*(1.1+$AO113+$AP113) -> 92.4 | BJ113: =N113*BI113 -> 0 | BK113: =AV113*(1.15+AO113+AP113) -> 96.6 | BM113: =N113*BL113 -> 0 | BN113: =AV113*(1.2+AO113+AP113) -> 100.8 | BO113: =(AD113*AW113)+(BC113*BE113)+(BF113*BH113)+(BI113*BK113)+(BL113*BN113) -> 0 | BP113: =AD113+BC113+BF113+BI113+BL113 -> 0 | BQ113: =N113*BP113 -> 0 | BR113: 717
A114: ="BL2"&REPT(0,4-LEN(BR114))&BR114 -> BL20716 | B114: Ticino | C114: Ticino 07 | D114: Holds | F114: Specials | G114: Mini | H114: Flat | I114: Granite | J114: Advanced Beginner,Intermediate,Expert | K114: Bouldering,Lead | L114: Medium | M114: 2 | N114: 10 | AD114: =SUM(Q114:AC114) -> 0 | AE114: =N114*AD114 -> 0 | AN114: 109 | AR114: 89 | AV114: =IF(OrderFormType="Wholesale",CEILING(AR114*ExchRate,ExchRateRoundUpTo),CEILING(AN114*ExchRate,ExchRateRoundUpTo)/1.22) -> 89 | AW114: =AV114*(1+AO114+AP114) -> 89 | BC114: =SUM(AX114:BB114) -> 0 | BD114: =N114*BC114 -> 0 | BE114: =AV114*(1.05+AO114+AP114) -> 93.45 | BG114: =$N114*BF114 -> 0 | BH114: =$AV114*(1.1+$AO114+$AP114) -> 97.9 | BJ114: =N114*BI114 -> 0 | BK114: =AV114*(1.15+AO114+AP114) -> 102.35 | BM114: =N114*BL114 -> 0 | BN114: =AV114*(1.2+AO114+AP114) -> 106.8 | BO114: =(AD114*AW114)+(BC114*BE114)+(BF114*BH114)+(BI114*BK114)+(BL114*BN114) -> 0 | BP114: =AD114+BC114+BF114+BI114+BL114 -> 0 | BQ114: =N114*BP114 -> 0 | BR114: 716
A115: ="BL2"&REPT(0,4-LEN(BR115))&BR115 -> BL20548 | B115: Ticino | C115: Ticino 08 | D115: Holds | F115: Screw-ons | G115: Mini | H115: Flat | I115: Granite | J115: Advanced Beginner,Intermediate,Expert | K115: Bouldering,Lead | L115: Medium | M115: 1.15 | N115: 10 | AD115: =SUM(Q115:AC115) -> 0 | AE115: =N115*AD115 -> 0 | AN115: 69 | AR115: 54 | AV115: =IF(OrderFormType="Wholesale",CEILING(AR115*ExchRate,ExchRateRoundUpTo),CEILING(AN115*ExchRate,ExchRateRoundUpTo)/1.22) -> 54 | AW115: =AV115*(1+AO115+AP115) -> 54 | BC115: =SUM(AX115:BB115) -> 0 | BD115: =N115*BC115 -> 0 | BE115: =AV115*(1.05+AO115+AP115) -> 56.7 | BG115: =$N115*BF115 -> 0 | BH115: =$AV115*(1.1+$AO115+$AP115) -> 59.4 | BJ115: =N115*BI115 -> 0 | BK115: =AV115*(1.15+AO115+AP115) -> 62.1 | BM115: =N115*BL115 -> 0 | BN115: =AV115*(1.2+AO115+AP115) -> 64.8 | BO115: =(AD115*AW115)+(BC115*BE115)+(BF115*BH115)+(BI115*BK115)+(BL115*BN115) -> 0 | BP115: =AD115+BC115+BF115+BI115+BL115 -> 0 | BQ115: =N115*BP115 -> 0 | BR115: 548
A116: ="BL2"&REPT(0,4-LEN(BR116))&BR116 -> BL22405 | B116: Ticino | C116: Ticino 09 | D116: Holds | F116: Edges | G116: Standard | H116: Flat, Positive | I116: Granite | J116: Advanced Beginner,Intermediate,Expert | K116: Bouldering,Lead | L116: Medium | M116: 5.32 | N116: 2 | AD116: =SUM(Q116:AC116) -> 0 | AE116: =N116*AD116 -> 0 | AN116: 134 | AR116: 109 | AV116: =IF(OrderFormType="Wholesale",CEILING(AR116*ExchRate,ExchRateRoundUpTo),CEILING(AN116*ExchRate,ExchRateRoundUpTo)/1.22) -> 109 | AW116: =AV116*(1+AO116+AP116) -> 109 | BC116: =SUM(AX116:BB116) -> 0 | BD116: =N116*BC116 -> 0 | BE116: =AV116*(1.05+AO116+AP116) -> 114.45 | BG116: =$N116*BF116 -> 0 | BH116: =$AV116*(1.1+$AO116+$AP116) -> 119.9 | BJ116: =N116*BI116 -> 0 | BK116: =AV116*(1.15+AO116+AP116) -> 125.35 | BM116: =N116*BL116 -> 0 | BN116: =AV116*(1.2+AO116+AP116) -> 130.8 | BO116: =(AD116*AW116)+(BC116*BE116)+(BF116*BH116)+(BI116*BK116)+(BL116*BN116) -> 0 | BP116: =AD116+BC116+BF116+BI116+BL116 -> 0 | BQ116: =N116*BP116 -> 0 | BR116: 2405
A117: ="BL2"&REPT(0,4-LEN(BR117))&BR117 -> BL21690 | B117: Ticino | C117: Granite Dreamtime | D117: Macros | F117: Edges | G117: 750x700x700 | H117: Positive | I117: Granite | J117: Advanced Beginner,Intermediate,Expert | K117: Bouldering,Lead | L117: Medium | M117: 3 | N117: 1 | AD117: =SUM(Q117:AC117) -> 0 | AE117: =N117*AD117 -> 0 | AN117: 359 | AR117: 294 | AV117: =IF(OrderFormType="Wholesale",CEILING(AR117*ExchRate,ExchRateRoundUpTo),CEILING(AN117*ExchRate,ExchRateRoundUpTo)/1.22) -> 294 | AW117: =AV117*(1+AO117+AP117) -> 294 | BC117: =SUM(AX117:BB117) -> 0 | BD117: =N117*BC117 -> 0 | BE117: =AV117*(1.05+AO117+AP117) -> 308.7 | BG117: =$N117*BF117 -> 0 | BH117: =$AV117*(1.1+$AO117+$AP117) -> 323.4 | BJ117: =N117*BI117 -> 0 | BK117: =AV117*(1.15+AO117+AP117) -> 338.1 | BM117: =N117*BL117 -> 0 | BN117: =AV117*(1.2+AO117+AP117) -> 352.8 | BO117: =(AD117*AW117)+(BC117*BE117)+(BF117*BH117)+(BI117*BK117)+(BL117*BN117) -> 0 | BP117: =AD117+BC117+BF117+BI117+BL117 -> 0 | BQ117: =N117*BP117 -> 0 | BR117: 1690
A118: ="BL2"&REPT(0,4-LEN(BR118))&BR118 -> BL21692 | B118: Ticino | C118: Granite Freak Brothers | D118: Macros | F118: Edges | G118: 620x700x700 | H118: Flat | I118: Granite | J118: Advanced Beginner,Intermediate,Expert | K118: Bouldering,Lead | L118: Medium | M118: 2 | N118: 1 | AD118: =SUM(Q118:AC118) -> 0 | AE118: =N118*AD118 -> 0 | AN118: 324 | AR118: 264 | AV118: =IF(OrderFormType="Wholesale",CEILING(AR118*ExchRate,ExchRateRoundUpTo),CEILING(AN118*ExchRate,ExchRateRoundUpTo)/1.22) -> 264 | AW118: =AV118*(1+AO118+AP118) -> 264 | BC118: =SUM(AX118:BB118) -> 0 | BD118: =N118*BC118 -> 0 | BE118: =AV118*(1.05+AO118+AP118) -> 277.2 | BG118: =$N118*BF118 -> 0 | BH118: =$AV118*(1.1+$AO118+$AP118) -> 290.4 | BJ118: =N118*BI118 -> 0 | BK118: =AV118*(1.15+AO118+AP118) -> 303.6 | BM118: =N118*BL118 -> 0 | BN118: =AV118*(1.2+AO118+AP118) -> 316.8 | BO118: =(AD118*AW118)+(BC118*BE118)+(BF118*BH118)+(BI118*BK118)+(BL118*BN118) -> 0 | BP118: =AD118+BC118+BF118+BI118+BL118 -> 0 | BQ118: =N118*BP118 -> 0 | BR118: 1692
A119: ="BL2"&REPT(0,4-LEN(BR119))&BR119 -> BL21691 | B119: Ticino | C119: Granite Kirk Windstein | D119: Macros | F119: Edges | G119: 600x600x600 | H119: Flat | I119: Granite | J119: Advanced Beginner,Intermediate,Expert | K119: Bouldering,Lead | L119: Medium | M119: 2 | N119: 1 | AD119: =SUM(Q119:AC119) -> 0 | AE119: =N119*AD119 -> 0 | AN119: 324 | AR119: 264 | AV119: =IF(OrderFormType="Wholesale",CEILING(AR119*ExchRate,ExchRateRoundUpTo),CEILING(AN119*ExchRate,ExchRateRoundUpTo)/1.22) -> 264 | AW119: =AV119*(1+AO119+AP119) -> 264 | BC119: =SUM(AX119:BB119) -> 0 | BD119: =N119*BC119 -> 0 | BE119: =AV119*(1.05+AO119+AP119) -> 277.2 | BG119: =$N119*BF119 -> 0 | BH119: =$AV119*(1.1+$AO119+$AP119) -> 290.4 | BJ119: =N119*BI119 -> 0 | BK119: =AV119*(1.15+AO119+AP119) -> 303.6 | BM119: =N119*BL119 -> 0 | BN119: =AV119*(1.2+AO119+AP119) -> 316.8 | BO119: =(AD119*AW119)+(BC119*BE119)+(BF119*BH119)+(BI119*BK119)+(BL119*BN119) -> 0 | BP119: =AD119+BC119+BF119+BI119+BL119 -> 0 | BQ119: =N119*BP119 -> 0 | BR119: 1691
A120: ="BL2"&REPT(0,4-LEN(BR120))&BR120 -> BL20555 | B120: Ticino | C120: Granite Mini Macro | D120: Macros | F120: Dual-Handed,Edges | G120: 430x280x150 | H120: Flat | I120: Granite | J120: Advanced Beginner,Intermediate,Expert | K120: Bouldering,Lead | L120: Medium | M120: 1.7 | N120: 1 | AD120: =SUM(Q120:AC120) -> 0 | AE120: =N120*AD120 -> 0 | AN120: 169 | AR120: 139 | AV120: =IF(OrderFormType="Wholesale",CEILING(AR120*ExchRate,ExchRateRoundUpTo),CEILING(AN120*ExchRate,ExchRateRoundUpTo)/1.22) -> 139 | AW120: =AV120*(1+AO120+AP120) -> 139 | BC120: =SUM(AX120:BB120) -> 0 | BD120: =N120*BC120 -> 0 | BE120: =AV120*(1.05+AO120+AP120) -> 145.95 | BG120: =$N120*BF120 -> 0 | BH120: =$AV120*(1.1+$AO120+$AP120) -> 152.9 | BJ120: =N120*BI120 -> 0 | BK120: =AV120*(1.15+AO120+AP120) -> 159.85 | BM120: =N120*BL120 -> 0 | BN120: =AV120*(1.2+AO120+AP120) -> 166.8 | BO120: =(AD120*AW120)+(BC120*BE120)+(BF120*BH120)+(BI120*BK120)+(BL120*BN120) -> 0 | BP120: =AD120+BC120+BF120+BI120+BL120 -> 0 | BQ120: =N120*BP120 -> 0 | BR120: 555
C121: Gritstone range
A122: ="BL2"&REPT(0,4-LEN(BR122))&BR122 -> BL22228 | B122: Gritstone Arête | C122: Gritstone Arête 01 | D122: Holds | F122: Jugs | G122: Mini | H122: Positive | I122: Gritstone | J122: Beginner,Advanced Beginner,Intermediate,Expert | K122: Bouldering,Lead | L122: Medium | M122: 12.21 | N122: 10 | AD122: =SUM(Q122:AC122) -> 0 | AE122: =N122*AD122 -> 0 | AN122: 234 | AR122: 189 | AV122: =IF(OrderFormType="Wholesale",CEILING(AR122*ExchRate,ExchRateRoundUpTo),CEILING(AN122*ExchRate,ExchRateRoundUpTo)/1.22) -> 189 | AW122: =AV122*(1+AO122+AP122) -> 189 | BC122: =SUM(AX122:BB122) -> 0 | BD122: =N122*BC122 -> 0 | BE122: =AV122*(1.05+AO122+AP122) -> 198.45 | BG122: =$N122*BF122 -> 0 | BH122: =$AV122*(1.1+$AO122+$AP122) -> 207.9 | BJ122: =N122*BI122 -> 0 | BK122: =AV122*(1.15+AO122+AP122) -> 217.35 | BM122: =N122*BL122 -> 0 | BN122: =AV122*(1.2+AO122+AP122) -> 226.8 | BO122: =(AD122*AW122)+(BC122*BE122)+(BF122*BH122)+(BI122*BK122)+(BL122*BN122) -> 0 | BP122: =AD122+BC122+BF122+BI122+BL122 -> 0 | BQ122: =N122*BP122 -> 0 | BR122: 2228
A123: ="BL2"&REPT(0,4-LEN(BR123))&BR123 -> BL22229 | B123: Gritstone Arête | C123: Gritstone Arête 02 | D123: Holds | F123: Pinches | G123: Standard | H123: Positive | I123: Gritstone | J123: Beginner,Advanced Beginner,Intermediate,Expert | K123: Bouldering,Lead | L123: Medium | M123: 6 | N123: 2 | AD123: =SUM(Q123:AC123) -> 0 | AE123: =N123*AD123 -> 0 | AN123: 149 | AR123: 119 | AV123: =IF(OrderFormType="Wholesale",CEILING(AR123*ExchRate,ExchRateRoundUpTo),CEILING(AN123*ExchRate,ExchRateRoundUpTo)/1.22) -> 119 | AW123: =AV123*(1+AO123+AP123) -> 119 | BC123: =SUM(AX123:BB123) -> 0 | BD123: =N123*BC123 -> 0 | BE123: =AV123*(1.05+AO123+AP123) -> 124.95 | BG123: =$N123*BF123 -> 0 | BH123: =$AV123*(1.1+$AO123+$AP123) -> 130.9 | BJ123: =N123*BI123 -> 0 | BK123: =AV123*(1.15+AO123+AP123) -> 136.85 | BM123: =N123*BL123 -> 0 | BN123: =AV123*(1.2+AO123+AP123) -> 142.8 | BO123: =(AD123*AW123)+(BC123*BE123)+(BF123*BH123)+(BI123*BK123)+(BL123*BN123) -> 0 | BP123: =AD123+BC123+BF123+BI123+BL123 -> 0 | BQ123: =N123*BP123 -> 0 | BR123: 2229
A124: ="BL2"&REPT(0,4-LEN(BR124))&BR124 -> BL22234 | B124: Gritstone Arête | C124: Gritstone Arête 03 | D124: Holds | F124: Open Handed Jugs | G124: Mondo | H124: Positive | I124: Gritstone | J124: Beginner,Advanced Beginner,Intermediate,Expert | K124: Bouldering,Lead | L124: Medium | M124: 5.353 | N124: 2 | AD124: =SUM(Q124:AC124) -> 0 | AE124: =N124*AD124 -> 0 | AN124: 134 | AR124: 109 | AV124: =IF(OrderFormType="Wholesale",CEILING(AR124*ExchRate,ExchRateRoundUpTo),CEILING(AN124*ExchRate,ExchRateRoundUpTo)/1.22) -> 109 | AW124: =AV124*(1+AO124+AP124) -> 109 | BC124: =SUM(AX124:BB124) -> 0 | BD124: =N124*BC124 -> 0 | BE124: =AV124*(1.05+AO124+AP124) -> 114.45 | BG124: =$N124*BF124 -> 0 | BH124: =$AV124*(1.1+$AO124+$AP124) -> 119.9 | BJ124: =N124*BI124 -> 0 | BK124: =AV124*(1.15+AO124+AP124) -> 125.35 | BM124: =N124*BL124 -> 0 | BN124: =AV124*(1.2+AO124+AP124) -> 130.8 | BO124: =(AD124*AW124)+(BC124*BE124)+(BF124*BH124)+(BI124*BK124)+(BL124*BN124) -> 0 | BP124: =AD124+BC124+BF124+BI124+BL124 -> 0 | BQ124: =N124*BP124 -> 0 | BR124: 2234
A125: ="BL2"&REPT(0,4-LEN(BR125))&BR125 -> BL22235 | B125: Gritstone Arête | C125: Gritstone Arête 04 | D125: Holds | F125: Open Handed Jugs, Open Handed Sloper | G125: Mondo | H125: Positive | I125: Gritstone | J125: Beginner,Advanced Beginner,Intermediate,Expert | K125: Bouldering,Lead | L125: Medium | M125: 8.167 | N125: 2 | AD125: =SUM(Q125:AC125) -> 0 | AE125: =N125*AD125 -> 0 | AN125: 169 | AR125: 139 | AV125: =IF(OrderFormType="Wholesale",CEILING(AR125*ExchRate,ExchRateRoundUpTo),CEILING(AN125*ExchRate,ExchRateRoundUpTo)/1.22) -> 139 | AW125: =AV125*(1+AO125+AP125) -> 139 | BC125: =SUM(AX125:BB125) -> 0 | BD125: =N125*BC125 -> 0 | BE125: =AV125*(1.05+AO125+AP125) -> 145.95 | BG125: =$N125*BF125 -> 0 | BH125: =$AV125*(1.1+$AO125+$AP125) -> 152.9 | BJ125: =N125*BI125 -> 0 | BK125: =AV125*(1.15+AO125+AP125) -> 159.85 | BM125: =N125*BL125 -> 0 | BN125: =AV125*(1.2+AO125+AP125) -> 166.8 | BO125: =(AD125*AW125)+(BC125*BE125)+(BF125*BH125)+(BI125*BK125)+(BL125*BN125) -> 0 | BP125: =AD125+BC125+BF125+BI125+BL125 -> 0 | BQ125: =N125*BP125 -> 0 | BR125: 2235
A126: ="BL2"&REPT(0,4-LEN(BR126))&BR126 -> BL22276 | B126: Gritstone Arête | C126: Gritstone Arête 05 | D126: Holds | F126: Edges | G126: Mondo | H126: Positive | I126: Gritstone | J126: Beginner,Advanced Beginner,Intermediate,Expert | K126: Bouldering,Lead | L126: Medium | M126: 10.46 | N126: 4 | AD126: =SUM(Q126:AC126) -> 0 | AE126: =N126*AD126 -> 0 | AN126: 219 | AR126: 179 | AV126: =IF(OrderFormType="Wholesale",CEILING(AR126*ExchRate,ExchRateRoundUpTo),CEILING(AN126*ExchRate,ExchRateRoundUpTo)/1.22) -> 179 | AW126: =AV126*(1+AO126+AP126) -> 179 | BC126: =SUM(AX126:BB126) -> 0 | BD126: =N126*BC126 -> 0 | BE126: =AV126*(1.05+AO126+AP126) -> 187.95 | BG126: =$N126*BF126 -> 0 | BH126: =$AV126*(1.1+$AO126+$AP126) -> 196.9 | BJ126: =N126*BI126 -> 0 | BK126: =AV126*(1.15+AO126+AP126) -> 205.85 | BM126: =N126*BL126 -> 0 | BN126: =AV126*(1.2+AO126+AP126) -> 214.8 | BO126: =(AD126*AW126)+(BC126*BE126)+(BF126*BH126)+(BI126*BK126)+(BL126*BN126) -> 0 | BP126: =AD126+BC126+BF126+BI126+BL126 -> 0 | BQ126: =N126*BP126 -> 0 | BR126: 2276
A127: ="BL2"&REPT(0,4-LEN(BR127))&BR127 -> BL22230 | B127: Gritstone Arête | C127: Gritstone Arête Footholds | D127: Holds | F127: Footholds | G127: Footholds | H127: Positive | I127: Gritstone | J127: Beginner,Advanced Beginner,Intermediate,Expert | K127: Bouldering,Lead | L127: Medium | M127: 1.242 | N127: 10 | AD127: =SUM(Q127:AC127) -> 0 | AE127: =N127*AD127 -> 0 | AN127: 79 | AR127: 64 | AV127: =IF(OrderFormType="Wholesale",CEILING(AR127*ExchRate,ExchRateRoundUpTo),CEILING(AN127*ExchRate,ExchRateRoundUpTo)/1.22) -> 64 | AW127: =AV127*(1+AO127+AP127) -> 64 | BC127: =SUM(AX127:BB127) -> 0 | BD127: =N127*BC127 -> 0 | BE127: =AV127*(1.05+AO127+AP127) -> 67.2 | BG127: =$N127*BF127 -> 0 | BH127: =$AV127*(1.1+$AO127+$AP127) -> 70.4 | BJ127: =N127*BI127 -> 0 | BK127: =AV127*(1.15+AO127+AP127) -> 73.6 | BM127: =N127*BL127 -> 0 | BN127: =AV127*(1.2+AO127+AP127) -> 76.8 | BO127: =(AD127*AW127)+(BC127*BE127)+(BF127*BH127)+(BI127*BK127)+(BL127*BN127) -> 0 | BP127: =AD127+BC127+BF127+BI127+BL127 -> 0 | BQ127: =N127*BP127 -> 0 | BR127: 2230
...

Sheet Lapis
A1: SKU | B1: Category | D1: Hold Type | E1: NEW | F1: Grip Type | G1: Size | H1: Positivity | I1: Style | J1: Climbing ability | K1: Climbing style | L1: Haptics | M1: Weight kg | N1: Holds Set | O1: Texture | P1: Plain | Q1: Standard Colour | AD1: Sets | AE1: Holds | AN1: RRP | AR1: WP in EUR | AV1: Price | AW1: Price | AX1: Fluoresz. Colour | BC1: Sets | BD1: Holds | BE1: Price | BF1: Custom RAL | BG1: Holds | BH1: Price | BI1: Dual Colour | BJ1: Holds | BK1: Price | BL1: Trans-lucent Colour | BM1: Holds | BN1: Price | BO1: Total | BP1: Sets | BQ1: Holds | BR1: ID
N2: Colour | Q2: red | R2: blue | S2: yellow | T2: green | U2: black | V2: white | W2: grey | X2: mint | Y2: purple | Z2: orange | AA2: brown | AX2: pink | AY2: green | AZ2: yellow | BA2: violett | BB2: orange
N3: RAL | Q3: 3000 | R3: 5015 | S3: 1023 | T3: 6029 | U3: 9005 | V3: 9003 | W3: 7004 | X3: 6027 | Y3: 4005 | Z3: 2011 | AA3: 8003 | AB3: 2004 | AC3: 4008
N4: Aragon | Q4: 11-12 | R4: 13-14 | S4: 15-12 | T4: 16-24 | U4: 18-01 | V4: 12-01 | X4: 13-27 | Y4: 17-18 | Z4: 14-06 | AC4: 17-21 | AX4: 11-25 | AY4: 16-29 | BB4: 14-11
Q5: =SUMPRODUCT(Q6:Q283,$N6:$N283) -> 0 | R5: =SUMPRODUCT(R6:R283,$N6:$N283) -> 0 | S5: =SUMPRODUCT(S6:S283,$N6:$N283) -> 0 | T5: =SUMPRODUCT(T6:T283,$N6:$N283) -> 0 | U5: =SUMPRODUCT(U6:U283,$N6:$N283) -> 0 | V5: =SUMPRODUCT(V6:V283,$N6:$N283) -> 0 | W5: =SUMPRODUCT(W6:W283,$N6:$N283) -> 0 | X5: =SUMPRODUCT(X6:X283,$N6:$N283) -> 0 | ... AC5: =SUMPRODUCT(AC6:AC283,$N6:$N283) -> 0 | AD5: =SUM(AD6:AD283) -> 0 | AE5: =SUM(AE6:AE283) -> 0 | AX5: =SUMPRODUCT(AX6:AX283,$N6:$N283) -> 0 | AY5: =SUMPRODUCT(AY6:AY283,$N6:$N283) -> 0 | AZ5: =SUMPRODUCT(AZ6:AZ283,$N6:$N283) -> 0 | BA5: =SUMPRODUCT(BA6:BA283,$N6:$N283) -> 0 | BB5: =SUMPRODUCT(BB6:BB283,$N6:$N283) -> 0 | BC5: =SUM(BC6:BC283) -> 0 | BD5: =SUM(BD6:BD1743) -> 0 | BF5: =SUMPRODUCT(BF6:BF283,$N6:$N283) -> 0 | BG5: =SUM(BG6:BG1743) -> 0 | BI5: =SUMPRODUCT(BI6:BI283,$N6:$N283) -> 0 | BJ5: =SUM(BJ6:BJ1743) -> 0 | BL5: =SUMPRODUCT(BL6:BL283,$N6:$N283) -> 0 | BM5: =SUM(BM6:BM1743) -> 0 | BO5: =SUM(BO6:BO283) -> 0 | BP5: =SUM(BP6:BP283) -> 0 | BQ5: =SUM(BQ6:BQ283) -> 0 | BR5: =ROWS(BR6:BR283) -> 278
C7: Balls
A8: ="LA3"&REPT(0,4-LEN(BR8))&BR8 -> LA30721 | B8: Balls | C8: Balls 01 | D8: Holds | F8: Mixed | G8: Standard | H8: Positive | I8: Classic | J8: Advanced Beginner,Intermediate,Expert,Competition | K8: Bouldering,Lead,Competition | L8: Medium | M8: 4.833 | N8: 10 | AD8: =SUM(Q8:AC8) -> 0 | AE8: =N8*AD8 -> 0 | AN8: 134 | AR8: 109 | AV8: =IF(OrderFormType="Wholesale",CEILING(AR8*ExchRate,ExchRateRoundUpTo),CEILING(AN8*ExchRate,ExchRateRoundUpTo)/1.22) -> 109 | AW8: =AV8*(1+AO8+AP8) -> 109 | BC8: =SUM(AX8:BB8) -> 0 | BD8: =N8*BC8 -> 0 | BE8: =AV8*(1.05+AO8+AP8) -> 114.45 | BG8: =$N8*BF8 -> 0 | BH8: =$AV8*(1.1+$AO8+$AP8) -> 119.9 | BJ8: =N8*BI8 -> 0 | BK8: =AV8*(1.15+AO8+AP8) -> 125.35 | BM8: =N8*BL8 -> 0 | BN8: =AV8*(1.2+AO8+AP8) -> 130.8 | BO8: =(AD8*AW8)+(BC8*BE8)+(BF8*BH8)+(BI8*BK8)+(BL8*BN8) -> 0 | BP8: =AD8+BC8+BF8+BI8+BL8 -> 0 | BQ8: =N8*BP8 -> 0 | BR8: 721
A9: ="LA3"&REPT(0,4-LEN(BR9))&BR9 -> LA30722 | B9: Balls | C9: Balls 02 | D9: Holds | F9: Mixed | G9: Standard | H9: Positive | I9: Classic | J9: Advanced Beginner,Intermediate,Expert,Competition | K9: Bouldering,Lead,Competition | L9: Medium | M9: 6.814 | N9: 5 | AD9: =SUM(Q9:AC9) -> 0 | AE9: =N9*AD9 -> 0 | AN9: 149 | AR9: 119 | AV9: =IF(OrderFormType="Wholesale",CEILING(AR9*ExchRate,ExchRateRoundUpTo),CEILING(AN9*ExchRate,ExchRateRoundUpTo)/1.22) -> 119 | AW9: =AV9*(1+AO9+AP9) -> 119 | BC9: =SUM(AX9:BB9) -> 0 | BD9: =N9*BC9 -> 0 | BE9: =AV9*(1.05+AO9+AP9) -> 124.95 | BG9: =$N9*BF9 -> 0 | BH9: =$AV9*(1.1+$AO9+$AP9) -> 130.9 | BJ9: =N9*BI9 -> 0 | BK9: =AV9*(1.15+AO9+AP9) -> 136.85 | BM9: =N9*BL9 -> 0 | BN9: =AV9*(1.2+AO9+AP9) -> 142.8 | BO9: =(AD9*AW9)+(BC9*BE9)+(BF9*BH9)+(BI9*BK9)+(BL9*BN9) -> 0 | BP9: =AD9+BC9+BF9+BI9+BL9 -> 0 | BQ9: =N9*BP9 -> 0 | BR9: 722
A10: ="LA3"&REPT(0,4-LEN(BR10))&BR10 -> LA30723 | B10: Balls | C10: Balls 03 | D10: Holds | F10: Mixed | G10: Giga | H10: Negative | I10: Classic | J10: Advanced Beginner,Intermediate,Expert,Competition | K10: Bouldering,Lead,Competition | L10: Medium | M10: 8.74 | N10: 2 | AD10: =SUM(Q10:AC10) -> 0 | AE10: =N10*AD10 -> 0 | AN10: 159 | AR10: 129 | AV10: =IF(OrderFormType="Wholesale",CEILING(AR10*ExchRate,ExchRateRoundUpTo),CEILING(AN10*ExchRate,ExchRateRoundUpTo)/1.22) -> 129 | AW10: =AV10*(1+AO10+AP10) -> 129 | BC10: =SUM(AX10:BB10) -> 0 | BD10: =N10*BC10 -> 0 | BE10: =AV10*(1.05+AO10+AP10) -> 135.45 | BG10: =$N10*BF10 -> 0 | BH10: =$AV10*(1.1+$AO10+$AP10) -> 141.9 | BJ10: =N10*BI10 -> 0 | BK10: =AV10*(1.15+AO10+AP10) -> 148.35 | BM10: =N10*BL10 -> 0 | BN10: =AV10*(1.2+AO10+AP10) -> 154.8 | BO10: =(AD10*AW10)+(BC10*BE10)+(BF10*BH10)+(BI10*BK10)+(BL10*BN10) -> 0 | BP10: =AD10+BC10+BF10+BI10+BL10 -> 0 | BQ10: =N10*BP10 -> 0 | BR10: 723
A11: ="LA3"&REPT(0,4-LEN(BR11))&BR11 -> LA30724 | B11: Balls | C11: Balls 04 | D11: Macros | F11: Dual-Handed,Mixed | G11: 310x310x200 | H11: Negative | I11: Classic | J11: Advanced Beginner,Intermediate,Expert,Competition | K11: Bouldering,Lead,Competition | L11: Medium | M11: 2.7 | N11: 1 | AD11: =SUM(Q11:AC11) -> 0 | AE11: =N11*AD11 -> 0 | AN11: 204 | AR11: 164 | AV11: =IF(OrderFormType="Wholesale",CEILING(AR11*ExchRate,ExchRateRoundUpTo),CEILING(AN11*ExchRate,ExchRateRoundUpTo)/1.22) -> 164 | AW11: =AV11*(1+AO11+AP11) -> 164 | BC11: =SUM(AX11:BB11) -> 0 | BD11: =N11*BC11 -> 0 | BE11: =AV11*(1.05+AO11+AP11) -> 172.2 | BG11: =$N11*BF11 -> 0 | BH11: =$AV11*(1.1+$AO11+$AP11) -> 180.4 | BJ11: =N11*BI11 -> 0 | BK11: =AV11*(1.15+AO11+AP11) -> 188.6 | BM11: =N11*BL11 -> 0 | BN11: =AV11*(1.2+AO11+AP11) -> 196.8 | BO11: =(AD11*AW11)+(BC11*BE11)+(BF11*BH11)+(BI11*BK11)+(BL11*BN11) -> 0 | BP11: =AD11+BC11+BF11+BI11+BL11 -> 0 | BQ11: =N11*BP11 -> 0 | BR11: 724
A12: ="LA3"&REPT(0,4-LEN(BR12))&BR12 -> LA30725 | B12: Balls | C12: Balls 05 | D12: Holds | F12: Mixed | G12: Standard | H12: Positive | I12: Classic | J12: Advanced Beginner,Intermediate,Expert,Competition | K12: Bouldering,Lead,Competition | L12: Medium | M12: 2.3 | N12: 5 | AD12: =SUM(Q12:AC12) -> 0 | AE12: =N12*AD12 -> 0 | AN12: 109 | AR12: 89 | AV12: =IF(OrderFormType="Wholesale",CEILING(AR12*ExchRate,ExchRateRoundUpTo),CEILING(AN12*ExchRate,ExchRateRoundUpTo)/1.22) -> 89 | AW12: =AV12*(1+AO12+AP12) -> 89 | BC12: =SUM(AX12:BB12) -> 0 | BD12: =N12*BC12 -> 0 | BE12: =AV12*(1.05+AO12+AP12) -> 93.45 | BG12: =$N12*BF12 -> 0 | BH12: =$AV12*(1.1+$AO12+$AP12) -> 97.9 | BJ12: =N12*BI12 -> 0 | BK12: =AV12*(1.15+AO12+AP12) -> 102.35 | BM12: =N12*BL12 -> 0 | BN12: =AV12*(1.2+AO12+AP12) -> 106.8 | BO12: =(AD12*AW12)+(BC12*BE12)+(BF12*BH12)+(BI12*BK12)+(BL12*BN12) -> 0 | BP12: =AD12+BC12+BF12+BI12+BL12 -> 0 | BQ12: =N12*BP12 -> 0 | BR12: 725
A13: ="LA3"&REPT(0,4-LEN(BR13))&BR13 -> LA30726 | B13: Balls | C13: Balls 06 | D13: Holds | F13: Mixed | G13: Standard | H13: Positive | I13: Classic | J13: Advanced Beginner,Intermediate,Expert,Competition | K13: Bouldering,Lead,Competition | L13: Medium | M13: 2.5 | N13: 5 | AD13: =SUM(Q13:AC13) -> 0 | AE13: =N13*AD13 -> 0 | AN13: 109 | AR13: 89 | AV13: =IF(OrderFormType="Wholesale",CEILING(AR13*ExchRate,ExchRateRoundUpTo),CEILING(AN13*ExchRate,ExchRateRoundUpTo)/1.22) -> 89 | AW13: =AV13*(1+AO13+AP13) -> 89 | BC13: =SUM(AX13:BB13) -> 0 | BD13: =N13*BC13 -> 0 | BE13: =AV13*(1.05+AO13+AP13) -> 93.45 | BG13: =$N13*BF13 -> 0 | BH13: =$AV13*(1.1+$AO13+$AP13) -> 97.9 | BJ13: =N13*BI13 -> 0 | BK13: =AV13*(1.15+AO13+AP13) -> 102.35 | BM13: =N13*BL13 -> 0 | BN13: =AV13*(1.2+AO13+AP13) -> 106.8 | BO13: =(AD13*AW13)+(BC13*BE13)+(BF13*BH13)+(BI13*BK13)+(BL13*BN13) -> 0 | BP13: =AD13+BC13+BF13+BI13+BL13 -> 0 | BQ13: =N13*BP13 -> 0 | BR13: 726
A14: ="LA3"&REPT(0,4-LEN(BR14))&BR14 -> LA30727 | B14: Balls | C14: Balls 07 | D14: Holds | F14: Open-Handed,Mixed | G14: Standard | H14: Negative | I14: Classic | J14: Advanced Beginner,Intermediate,Expert,Competition | K14: Bouldering,Lead,Competition | L14: Medium | M14: 7.36 | N14: 5 | AD14: =SUM(Q14:AC14) -> 0 | AE14: =N14*AD14 -> 0 | AN14: 159 | AR14: 129 | AV14: =IF(OrderFormType="Wholesale",CEILING(AR14*ExchRate,ExchRateRoundUpTo),CEILING(AN14*ExchRate,ExchRateRoundUpTo)/1.22) -> 129 | AW14: =AV14*(1+AO14+AP14) -> 129 | BC14: =SUM(AX14:BB14) -> 0 | BD14: =N14*BC14 -> 0 | BE14: =AV14*(1.05+AO14+AP14) -> 135.45 | BG14: =$N14*BF14 -> 0 | BH14: =$AV14*(1.1+$AO14+$AP14) -> 141.9 | BJ14: =N14*BI14 -> 0 | BK14: =AV14*(1.15+AO14+AP14) -> 148.35 | BM14: =N14*BL14 -> 0 | BN14: =AV14*(1.2+AO14+AP14) -> 154.8 | BO14: =(AD14*AW14)+(BC14*BE14)+(BF14*BH14)+(BI14*BK14)+(BL14*BN14) -> 0 | BP14: =AD14+BC14+BF14+BI14+BL14 -> 0 | BQ14: =N14*BP14 -> 0 | BR14: 727
A15: ="LA3"&REPT(0,4-LEN(BR15))&BR15 -> LA30728 | B15: Balls | C15: Balls 08 | D15: Holds | F15: Mixed | G15: Standard | H15: Negative | I15: Classic | J15: Advanced Beginner,Intermediate,Expert,Competition | K15: Bouldering,Lead,Competition | L15: Medium | M15: 6.26 | N15: 5 | AD15: =SUM(Q15:AC15) -> 0 | AE15: =N15*AD15 -> 0 | AN15: 149 | AR15: 119 | AV15: =IF(OrderFormType="Wholesale",CEILING(AR15*ExchRate,ExchRateRoundUpTo),CEILING(AN15*ExchRate,ExchRateRoundUpTo)/1.22) -> 119 | AW15: =AV15*(1+AO15+AP15) -> 119 | BC15: =SUM(AX15:BB15) -> 0 | BD15: =N15*BC15 -> 0 | BE15: =AV15*(1.05+AO15+AP15) -> 124.95 | BG15: =$N15*BF15 -> 0 | BH15: =$AV15*(1.1+$AO15+$AP15) -> 130.9 | BJ15: =N15*BI15 -> 0 | BK15: =AV15*(1.15+AO15+AP15) -> 136.85 | BM15: =N15*BL15 -> 0 | BN15: =AV15*(1.2+AO15+AP15) -> 142.8 | BO15: =(AD15*AW15)+(BC15*BE15)+(BF15*BH15)+(BI15*BK15)+(BL15*BN15) -> 0 | BP15: =AD15+BC15+BF15+BI15+BL15 -> 0 | BQ15: =N15*BP15 -> 0 | BR15: 728
A16: ="LA3"&REPT(0,4-LEN(BR16))&BR16 -> LA30747 | B16: Balls | C16: Balls 09 | D16: Holds | F16: Footholds,Mixed | G16: Footholds | H16: Positive | I16: Classic | J16: Advanced Beginner,Intermediate,Expert,Competition | K16: Bouldering,Lead,Competition | L16: Medium | M16: 2.307 | N16: 20 | AD16: =SUM(Q16:AC16) -> 0 | AE16: =N16*AD16 -> 0 | AN16: 109 | AR16: 89 | AV16: =IF(OrderFormType="Wholesale",CEILING(AR16*ExchRate,ExchRateRoundUpTo),CEILING(AN16*ExchRate,ExchRateRoundUpTo)/1.22) -> 89 | AW16: =AV16*(1+AO16+AP16) -> 89 | BC16: =SUM(AX16:BB16) -> 0 | BD16: =N16*BC16 -> 0 | BE16: =AV16*(1.05+AO16+AP16) -> 93.45 | BG16: =$N16*BF16 -> 0 | BH16: =$AV16*(1.1+$AO16+$AP16) -> 97.9 | BJ16: =N16*BI16 -> 0 | BK16: =AV16*(1.15+AO16+AP16) -> 102.35 | BM16: =N16*BL16 -> 0 | BN16: =AV16*(1.2+AO16+AP16) -> 106.8 | BO16: =(AD16*AW16)+(BC16*BE16)+(BF16*BH16)+(BI16*BK16)+(BL16*BN16) -> 0 | BP16: =AD16+BC16+BF16+BI16+BL16 -> 0 | BQ16: =N16*BP16 -> 0 | BR16: 747
A17: ="LA3"&REPT(0,4-LEN(BR17))&BR17 -> LA30910 | B17: Balls | C17: Balls 10 | D17: Macros | F17: Dual-Handed,Mixed | G17: 440x440x300 | H17: Negative | I17: Classic | J17: Advanced Beginner,Intermediate,Expert,Competition | K17: Bouldering,Lead,Competition | L17: Medium | M17: 3 | N17: 1 | AD17: =SUM(Q17:AC17) -> 0 | AE17: =N17*AD17 -> 0 | AN17: 274 | AR17: 224 | AV17: =IF(OrderFormType="Wholesale",CEILING(AR17*ExchRate,ExchRateRoundUpTo),CEILING(AN17*ExchRate,ExchRateRoundUpTo)/1.22) -> 224 | AW17: =AV17*(1+AO17+AP17) -> 224 | BC17: =SUM(AX17:BB17) -> 0 | BD17: =N17*BC17 -> 0 | BE17: =AV17*(1.05+AO17+AP17) -> 235.2 | BG17: =$N17*BF17 -> 0 | BH17: =$AV17*(1.1+$AO17+$AP17) -> 246.4 | BJ17: =N17*BI17 -> 0 | BK17: =AV17*(1.15+AO17+AP17) -> 257.6 | BM17: =N17*BL17 -> 0 | BN17: =AV17*(1.2+AO17+AP17) -> 268.8 | BO17: =(AD17*AW17)+(BC17*BE17)+(BF17*BH17)+(BI17*BK17)+(BL17*BN17) -> 0 | BP17: =AD17+BC17+BF17+BI17+BL17 -> 0 | BQ17: =N17*BP17 -> 0 | BR17: 910
A18: ="LA3"&REPT(0,4-LEN(BR18))&BR18 -> LA31957 | B18: Balls | C18: Balls 11 | D18: Holds | F18: Open-Handed,Mixed | G18: Standard | H18: Negative | I18: Classic | J18: Advanced Beginner,Intermediate,Expert,Competition | K18: Bouldering,Lead,Competition | L18: Medium | M18: 3.1 | N18: 2 | AD18: =SUM(Q18:AC18) -> 0 | AE18: =N18*AD18 -> 0 | AN18: 134 | AR18: 108 | AV18: =IF(OrderFormType="Wholesale",CEILING(AR18*ExchRate,ExchRateRoundUpTo),CEILING(AN18*ExchRate,ExchRateRoundUpTo)/1.22) -> 108 | AW18: =AV18*(1+AO18+AP18) -> 108 | BC18: =SUM(AX18:BB18) -> 0 | BD18: =N18*BC18 -> 0 | BE18: =AV18*(1.05+AO18+AP18) -> 113.4 | BG18: =$N18*BF18 -> 0 | BH18: =$AV18*(1.1+$AO18+$AP18) -> 118.8 | BJ18: =N18*BI18 -> 0 | BK18: =AV18*(1.15+AO18+AP18) -> 124.2 | BM18: =N18*BL18 -> 0 | BN18: =AV18*(1.2+AO18+AP18) -> 129.6 | BO18: =(AD18*AW18)+(BC18*BE18)+(BF18*BH18)+(BI18*BK18)+(BL18*BN18) -> 0 | BP18: =AD18+BC18+BF18+BI18+BL18 -> 0 | BQ18: =N18*BP18 -> 0 | BR18: 1957
A19: ="LA3"&REPT(0,4-LEN(BR19))&BR19 -> LA31987 | B19: Balls | C19: Balls 12 | D19: Holds | F19: Open-Handed,Mixed | G19: Mondo | H19: Negative | I19: Classic | J19: Advanced Beginner,Intermediate,Expert,Competition | K19: Bouldering,Lead,Competition | L19: Medium | M19: 5.4 | N19: 2 | AD19: =SUM(Q19:AC19) -> 0 | AE19: =N19*AD19 -> 0 | AN19: 149 | AR19: 119 | AV19: =IF(OrderFormType="Wholesale",CEILING(AR19*ExchRate,ExchRateRoundUpTo),CEILING(AN19*ExchRate,ExchRateRoundUpTo)/1.22) -> 119 | AW19: =AV19*(1+AO19+AP19) -> 119 | BC19: =SUM(AX19:BB19) -> 0 | BD19: =N19*BC19 -> 0 | BE19: =AV19*(1.05+AO19+AP19) -> 124.95 | BG19: =$N19*BF19 -> 0 | BH19: =$AV19*(1.1+$AO19+$AP19) -> 130.9 | BJ19: =N19*BI19 -> 0 | BK19: =AV19*(1.15+AO19+AP19) -> 136.85 | BM19: =N19*BL19 -> 0 | BN19: =AV19*(1.2+AO19+AP19) -> 142.8 | BO19: =(AD19*AW19)+(BC19*BE19)+(BF19*BH19)+(BI19*BK19)+(BL19*BN19) -> 0 | BP19: =AD19+BC19+BF19+BI19+BL19 -> 0 | BQ19: =N19*BP19 -> 0 | BR19: 1987
... A22: ="LA3"&REPT(0,4-LEN(BR22))&BR22 -> LA32681 | B22: Balls | C22: Balls 15 | D22: Macros | F22: Slopers | G22: 400x400x200 | H22: Negative | I22: Classic | J22: Advanced Beginner,Intermediate,Expert,Competition | K22: Bouldering,Lead,Competition | L22: Medium | M22: 1.375 | N22: 1 | AD22: =SUM(Q22:AC22) -> 0 | AE22: =N22*AD22 -> 0 | AN22: 274 | AR22: 224 | AV22: =IF(OrderFormType="Wholesale",CEILING(AR22*ExchRate,ExchRateRoundUpTo),CEILING(AN22*ExchRate,ExchRateRoundUpTo)/1.22) -> 224 | AW22: =AV22*(1+AO22+AP22) -> 224 | BC22: =SUM(AX22:BB22) -> 0 | BD22: =N22*BC22 -> 0 | BE22: =AV22*(1.05+AO22+AP22) -> 235.2 | BG22: =$N22*BF22 -> 0 | BH22: =$AV22*(1.1+$AO22+$AP22) -> 246.4 | BJ22: =N22*BI22 -> 0 | BK22: =AV22*(1.15+AO22+AP22) -> 257.6 | BM22: =N22*BL22 -> 0 | BN22: =AV22*(1.2+AO22+AP22) -> 268.8 | BO22: =(AD22*AW22)+(BC22*BE22)+(BF22*BH22)+(BI22*BK22)+(BL22*BN22) -> 0 | BP22: =AD22+BC22+BF22+BI22+BL22 -> 0 | BQ22: =N22*BP22 -> 0 | BR22: 2681
C23: Incut Balls
A24: ="LA3"&REPT(0,4-LEN(BR24))&BR24 -> LA31784 | B24: Incut Balls | C24: Incut Balls 01 | D24: Holds | F24: Jugs | G24: Standard | H24: Positive | I24: Classic | J24: Advanced Beginner,Intermediate,Expert,Competition | K24: Bouldering,Lead,Competition | L24: Medium | M24: 3.371 | N24: 5 | AD24: =SUM(Q24:AC24) -> 0 | AE24: =N24*AD24 -> 0 | AN24: 129 | AR24: 104 | AV24: =IF(OrderFormType="Wholesale",CEILING(AR24*ExchRate,ExchRateRoundUpTo),CEILING(AN24*ExchRate,ExchRateRoundUpTo)/1.22) -> 104 | AW24: =AV24*(1+AO24+AP24) -> 104 | BC24: =SUM(AX24:BB24) -> 0 | BD24: =N24*BC24 -> 0 | BE24: =AV24*(1.05+AO24+AP24) -> 109.2 | BG24: =$N24*BF24 -> 0 | BH24: =$AV24*(1.1+$AO24+$AP24) -> 114.4 | BJ24: =N24*BI24 -> 0 | BK24: =AV24*(1.15+AO24+AP24) -> 119.6 | BM24: =N24*BL24 -> 0 | BN24: =AV24*(1.2+AO24+AP24) -> 124.8 | BO24: =(AD24*AW24)+(BC24*BE24)+(BF24*BH24)+(BI24*BK24)+(BL24*BN24) -> 0 | BP24: =AD24+BC24+BF24+BI24+BL24 -> 0 | BQ24: =N24*BP24 -> 0 | BR24: 1784
A25: ="LA3"&REPT(0,4-LEN(BR25))&BR25 -> LA31785 | B25: Incut Balls | C25: Incut Balls 02 | D25: Holds | F25: Jugs | G25: Standard | H25: Positive | I25: Classic | J25: Advanced Beginner,Intermediate,Expert,Competition | K25: Bouldering,Lead,Competition | L25: Medium | M25: 3.218 | N25: 5 | AD25: =SUM(Q25:AC25) -> 0 | AE25: =N25*AD25 -> 0 | AN25: 129 | AR25: 104 | AV25: =IF(OrderFormType="Wholesale",CEILING(AR25*ExchRate,ExchRateRoundUpTo),CEILING(AN25*ExchRate,ExchRateRoundUpTo)/1.22) -> 104 | AW25: =AV25*(1+AO25+AP25) -> 104 | BC25: =SUM(AX25:BB25) -> 0 | BD25: =N25*BC25 -> 0 | BE25: =AV25*(1.05+AO25+AP25) -> 109.2 | BG25: =$N25*BF25 -> 0 | BH25: =$AV25*(1.1+$AO25+$AP25) -> 114.4 | BJ25: =N25*BI25 -> 0 | BK25: =AV25*(1.15+AO25+AP25) -> 119.6 | BM25: =N25*BL25 -> 0 | BN25: =AV25*(1.2+AO25+AP25) -> 124.8 | BO25: =(AD25*AW25)+(BC25*BE25)+(BF25*BH25)+(BI25*BK25)+(BL25*BN25) -> 0 | BP25: =AD25+BC25+BF25+BI25+BL25 -> 0 | BQ25: =N25*BP25 -> 0 | BR25: 1785
A26: ="LA3"&REPT(0,4-LEN(BR26))&BR26 -> LA31786 | B26: Incut Balls | C26: Incut Balls 03 | D26: Holds | F26: Jugs | G26: Standard | H26: Positive | I26: Classic | J26: Advanced Beginner,Intermediate,Expert,Competition | K26: Bouldering,Lead,Competition | L26: Medium | M26: 10.6 | N26: 5 | AD26: =SUM(Q26:AC26) -> 0 | AE26: =N26*AD26 -> 0 | AN26: 189 | AR26: 154 | AV26: =IF(OrderFormType="Wholesale",CEILING(AR26*ExchRate,ExchRateRoundUpTo),CEILING(AN26*ExchRate,ExchRateRoundUpTo)/1.22) -> 154 | AW26: =AV26*(1+AO26+AP26) -> 154 | BC26: =SUM(AX26:BB26) -> 0 | BD26: =N26*BC26 -> 0 | BE26: =AV26*(1.05+AO26+AP26) -> 161.7 | BG26: =$N26*BF26 -> 0 | BH26: =$AV26*(1.1+$AO26+$AP26) -> 169.4 | BJ26: =N26*BI26 -> 0 | BK26: =AV26*(1.15+AO26+AP26) -> 177.1 | BM26: =N26*BL26 -> 0 | BN26: =AV26*(1.2+AO26+AP26) -> 184.8 | BO26: =(AD26*AW26)+(BC26*BE26)+(BF26*BH26)+(BI26*BK26)+(BL26*BN26) -> 0 | BP26: =AD26+BC26+BF26+BI26+BL26 -> 0 | BQ26: =N26*BP26 -> 0 | BR26: 1786
A27: ="LA3"&REPT(0,4-LEN(BR27))&BR27 -> LA31787 | B27: Incut Balls | C27: Incut Balls 04 | D27: Holds | F27: Jugs | G27: Standard | H27: Positive | I27: Classic | J27: Advanced Beginner,Intermediate,Expert,Competition | K27: Bouldering,Lead,Competition | L27: Medium | M27: 10.332 | N27: 5 | AD27: =SUM(Q27:AC27) -> 0 | AE27: =N27*AD27 -> 0 | AN27: 184 | AR27: 149 | AV27: =IF(OrderFormType="Wholesale",CEILING(AR27*ExchRate,ExchRateRoundUpTo),CEILING(AN27*ExchRate,ExchRateRoundUpTo)/1.22) -> 149 | AW27: =AV27*(1+AO27+AP27) -> 149 | BC27: =SUM(AX27:BB27) -> 0 | BD27: =N27*BC27 -> 0 | BE27: =AV27*(1.05+AO27+AP27) -> 156.45 | BG27: =$N27*BF27 -> 0 | BH27: =$AV27*(1.1+$AO27+$AP27) -> 163.9 | BJ27: =N27*BI27 -> 0 | BK27: =AV27*(1.15+AO27+AP27) -> 171.35 | BM27: =N27*BL27 -> 0 | BN27: =AV27*(1.2+AO27+AP27) -> 178.8 | BO27: =(AD27*AW27)+(BC27*BE27)+(BF27*BH27)+(BI27*BK27)+(BL27*BN27) -> 0 | BP27: =AD27+BC27+BF27+BI27+BL27 -> 0 | BQ27: =N27*BP27 -> 0 | BR27: 1787
A28: ="LA3"&REPT(0,4-LEN(BR28))&BR28 -> LA31788 | B28: Incut Balls | C28: Incut Balls 05 | D28: Holds | F28: Jugs | G28: Mondo | H28: Positive | I28: Classic | J28: Advanced Beginner,Intermediate,Expert,Competition | K28: Bouldering,Lead,Competition | L28: Medium | M28: 5.46 | N28: 2 | AD28: =SUM(Q28:AC28) -> 0 | AE28: =N28*AD28 -> 0 | AN28: 139 | AR28: 114 | AV28: =IF(OrderFormType="Wholesale",CEILING(AR28*ExchRate,ExchRateRoundUpTo),CEILING(AN28*ExchRate,ExchRateRoundUpTo)/1.22) -> 114 | AW28: =AV28*(1+AO28+AP28) -> 114 | BC28: =SUM(AX28:BB28) -> 0 | BD28: =N28*BC28 -> 0 | BE28: =AV28*(1.05+AO28+AP28) -> 119.7 | BG28: =$N28*BF28 -> 0 | BH28: =$AV28*(1.1+$AO28+$AP28) -> 125.4 | BJ28: =N28*BI28 -> 0 | BK28: =AV28*(1.15+AO28+AP28) -> 131.1 | BM28: =N28*BL28 -> 0 | BN28: =AV28*(1.2+AO28+AP28) -> 136.8 | BO28: =(AD28*AW28)+(BC28*BE28)+(BF28*BH28)+(BI28*BK28)+(BL28*BN28) -> 0 | BP28: =AD28+BC28+BF28+BI28+BL28 -> 0 | BQ28: =N28*BP28 -> 0 | BR28: 1788
A29: ="LA3"&REPT(0,4-LEN(BR29))&BR29 -> LA32682 | B29: Balls | C29: Incut Balls 06 | D29: Macros | F29: Dual-Handed,Open-Handed,Jugs | G29: 450x400x200 | H29: Positive | I29: Classic | J29: Advanced Beginner,Intermediate,Expert,Competition | K29: Bouldering,Lead,Competition | L29: Medium | M29: 1.73 | N29: 1 | AD29: =SUM(Q29:AC29) -> 0 | AE29: =N29*AD29 -> 0 | AN29: 274 | AR29: 224 | AV29: =IF(OrderFormType="Wholesale",CEILING(AR29*ExchRate,ExchRateRoundUpTo),CEILING(AN29*ExchRate,ExchRateRoundUpTo)/1.22) -> 224 | AW29: =AV29*(1+AO29+AP29) -> 224 | BC29: =SUM(AX29:BB29) -> 0 | BD29: =N29*BC29 -> 0 | BE29: =AV29*(1.05+AO29+AP29) -> 235.2 | BG29: =$N29*BF29 -> 0 | BH29: =$AV29*(1.1+$AO29+$AP29) -> 246.4 | BJ29: =N29*BI29 -> 0 | BK29: =AV29*(1.15+AO29+AP29) -> 257.6 | BM29: =N29*BL29 -> 0 | BN29: =AV29*(1.2+AO29+AP29) -> 268.8 | BO29: =(AD29*AW29)+(BC29*BE29)+(BF29*BH29)+(BI29*BK29)+(BL29*BN29) -> 0 | BP29: =AD29+BC29+BF29+BI29+BL29 -> 0 | BQ29: =N29*BP29 -> 0 | BR29: 2682
A30: ="LA3"&REPT(0,4-LEN(BR30))&BR30 -> LA32683 | B30: Balls | C30: Incut Balls 07 | D30: Macros | F30: Dual-Handed,Open-Handed,Jugs | G30: 400x300x150 | H30: Positive | I30: Classic | J30: Advanced Beginner,Intermediate,Expert,Competition | K30: Bouldering,Lead,Competition | L30: Medium | M30: 1.242 | N30: 1 | AD30: =SUM(Q30:AC30) -> 0 | AE30: =N30*AD30 -> 0 | AN30: 289 | AR30: 234 | AV30: =IF(OrderFormType="Wholesale",CEILING(AR30*ExchRate,ExchRateRoundUpTo),CEILING(AN30*ExchRate,ExchRateRoundUpTo)/1.22) -> 234 | AW30: =AV30*(1+AO30+AP30) -> 234 | BC30: =SUM(AX30:BB30) -> 0 | BD30: =N30*BC30 -> 0 | BE30: =AV30*(1.05+AO30+AP30) -> 245.7 | BG30: =$N30*BF30 -> 0 | BH30: =$AV30*(1.1+$AO30+$AP30) -> 257.4 | BJ30: =N30*BI30 -> 0 | BK30: =AV30*(1.15+AO30+AP30) -> 269.1 | BM30: =N30*BL30 -> 0 | BN30: =AV30*(1.2+AO30+AP30) -> 280.8 | BO30: =(AD30*AW30)+(BC30*BE30)+(BF30*BH30)+(BI30*BK30)+(BL30*BN30) -> 0 | BP30: =AD30+BC30+BF30+BI30+BL30 -> 0 | BQ30: =N30*BP30 -> 0 | BR30: 2683
A31: ="LA3"&REPT(0,4-LEN(BR31))&BR31 -> LA32684 | B31: Balls | C31: Incut Balls 08 | D31: Macros | F31: Dual-Handed,Open-Handed,Jugs | G31: 400x300x250 | H31: Positive | I31: Classic | J31: Advanced Beginner,Intermediate,Expert,Competition | K31: Bouldering,Lead,Competition | L31: Medium | M31: 1.61 | N31: 1 | AD31: =SUM(Q31:AC31) -> 0 | AE31: =N31*AD31 -> 0 | AN31: 299 | AR31: 244 | AV31: =IF(OrderFormType="Wholesale",CEILING(AR31*ExchRate,ExchRateRoundUpTo),CEILING(AN31*ExchRate,ExchRateRoundUpTo)/1.22) -> 244 | AW31: =AV31*(1+AO31+AP31) -> 244 | BC31: =SUM(AX31:BB31) -> 0 | BD31: =N31*BC31 -> 0 | BE31: =AV31*(1.05+AO31+AP31) -> 256.2 | BG31: =$N31*BF31 -> 0 | BH31: =$AV31*(1.1+$AO31+$AP31) -> 268.4 | BJ31: =N31*BI31 -> 0 | BK31: =AV31*(1.15+AO31+AP31) -> 280.6 | BM31: =N31*BL31 -> 0 | BN31: =AV31*(1.2+AO31+AP31) -> 292.8 | BO31: =(AD31*AW31)+(BC31*BE31)+(BF31*BH31)+(BI31*BK31)+(BL31*BN31) -> 0 | BP31: =AD31+BC31+BF31+BI31+BL31 -> 0 | BQ31: =N31*BP31 -> 0 | BR31: 2684
A32: ="LA3"&REPT(0,4-LEN(BR32))&BR32 -> LA32685 | B32: Balls | C32: Incut Balls 09 | D32: Macros | F32: Dual-Handed,Open-Handed,Jugs | G32: 300x250x200 | H32: Positive | I32: Classic | J32: Advanced Beginner,Intermediate,Expert,Competition | K32: Bouldering,Lead,Competition | L32: Medium | M32: 1.004 | N32: 1 | AD32: =SUM(Q32:AC32) -> 0 | AE32: =N32*AD32 -> 0 | AN32: 304 | AR32: 249 | AV32: =IF(OrderFormType="Wholesale",CEILING(AR32*ExchRate,ExchRateRoundUpTo),CEILING(AN32*ExchRate,ExchRateRoundUpTo)/1.22) -> 249 | AW32: =AV32*(1+AO32+AP32) -> 249 | BC32: =SUM(AX32:BB32) -> 0 | BD32: =N32*BC32 -> 0 | BE32: =AV32*(1.05+AO32+AP32) -> 261.45 | BG32: =$N32*BF32 -> 0 | BH32: =$AV32*(1.1+$AO32+$AP32) -> 273.9 | BJ32: =N32*BI32 -> 0 | BK32: =AV32*(1.15+AO32+AP32) -> 286.35 | BM32: =N32*BL32 -> 0 | BN32: =AV32*(1.2+AO32+AP32) -> 298.8 | BO32: =(AD32*AW32)+(BC32*BE32)+(BF32*BH32)+(BI32*BK32)+(BL32*BN32) -> 0 | BP32: =AD32+BC32+BF32+BI32+BL32 -> 0 | BQ32: =N32*BP32 -> 0 | BR32: 2685
C33: Crimps
A34: ="LA3"&REPT(0,4-LEN(BR34))&BR34 -> LA30396 | B34: Crimps | C34: Crimps 01 | D34: Holds | F34: Crimps | G34: Mini | H34: Positive | I34: Classic | J34: Advanced Beginner,Intermediate,Expert,Competition | K34: Bouldering,Lead,Competition | L34: Medium | M34: 2.652 | N34: 10 | AD34: =SUM(Q34:AC34) -> 0 | AE34: =N34*AD34 -> 0 | AN34: 109 | AR34: 89 | AV34: =IF(OrderFormType="Wholesale",CEILING(AR34*ExchRate,ExchRateRoundUpTo),CEILING(AN34*ExchRate,ExchRateRoundUpTo)/1.22) -> 89 | AW34: =AV34*(1+AO34+AP34) -> 89 | BC34: =SUM(AX34:BB34) -> 0 | BD34: =N34*BC34 -> 0 | BE34: =AV34*(1.05+AO34+AP34) -> 93.45 | BG34: =$N34*BF34 -> 0 | BH34: =$AV34*(1.1+$AO34+$AP34) -> 97.9 | BJ34: =N34*BI34 -> 0 | BK34: =AV34*(1.15+AO34+AP34) -> 102.35 | BM34: =N34*BL34 -> 0 | BN34: =AV34*(1.2+AO34+AP34) -> 106.8 | BO34: =(AD34*AW34)+(BC34*BE34)+(BF34*BH34)+(BI34*BK34)+(BL34*BN34) -> 0 | BP34: =AD34+BC34+BF34+BI34+BL34 -> 0 | BQ34: =N34*BP34 -> 0 | BR34: 396
A35: ="LA3"&REPT(0,4-LEN(BR35))&BR35 -> LA30538 | B35: Crimps | C35: Crimps 02 | D35: Holds | F35: Crimps | G35: Mini | H35: Positive | I35: Classic | J35: Advanced Beginner,Intermediate,Expert,Competition | K35: Bouldering,Lead,Competition | L35: Medium | M35: 3.324 | N35: 20 | AD35: =SUM(Q35:AC35) -> 0 | AE35: =N35*AD35 -> 0 | AN35: 109 | AR35: 89 | AV35: =IF(OrderFormType="Wholesale",CEILING(AR35*ExchRate,ExchRateRoundUpTo),CEILING(AN35*ExchRate,ExchRateRoundUpTo)/1.22) -> 89 | AW35: =AV35*(1+AO35+AP35) -> 89 | BC35: =SUM(AX35:BB35) -> 0 | BD35: =N35*BC35 -> 0 | BE35: =AV35*(1.05+AO35+AP35) -> 93.45 | BG35: =$N35*BF35 -> 0 | BH35: =$AV35*(1.1+$AO35+$AP35) -> 97.9 | BJ35: =N35*BI35 -> 0 | BK35: =AV35*(1.15+AO35+AP35) -> 102.35 | BM35: =N35*BL35 -> 0 | BN35: =AV35*(1.2+AO35+AP35) -> 106.8 | BO35: =(AD35*AW35)+(BC35*BE35)+(BF35*BH35)+(BI35*BK35)+(BL35*BN35) -> 0 | BP35: =AD35+BC35+BF35+BI35+BL35 -> 0 | BQ35: =N35*BP35 -> 0 | BR35: 538
A36: ="LA3"&REPT(0,4-LEN(BR36))&BR36 -> LA30003 | B36: Crimps | C36: Crimps 03 | D36: Holds | F36: Crimps | G36: Mini | H36: Positive | I36: Classic | J36: Advanced Beginner,Intermediate,Expert,Competition | K36: Bouldering,Lead,Competition | L36: Medium | M36: 2.6486 | N36: 20 | AD36: =SUM(Q36:AC36) -> 0 | AE36: =N36*AD36 -> 0 | AN36: 109 | AR36: 89 | AV36: =IF(OrderFormType="Wholesale",CEILING(AR36*ExchRate,ExchRateRoundUpTo),CEILING(AN36*ExchRate,ExchRateRoundUpTo)/1.22) -> 89 | AW36: =AV36*(1+AO36+AP36) -> 89 | BC36: =SUM(AX36:BB36) -> 0 | BD36: =N36*BC36 -> 0 | BE36: =AV36*(1.05+AO36+AP36) -> 93.45 | BG36: =$N36*BF36 -> 0 | BH36: =$AV36*(1.1+$AO36+$AP36) -> 97.9 | BJ36: =N36*BI36 -> 0 | BK36: =AV36*(1.15+AO36+AP36) -> 102.35 | BM36: =N36*BL36 -> 0 | BN36: =AV36*(1.2+AO36+AP36) -> 106.8 | BO36: =(AD36*AW36)+(BC36*BE36)+(BF36*BH36)+(BI36*BK36)+(BL36*BN36) -> 0 | BP36: =AD36+BC36+BF36+BI36+BL36 -> 0 | BQ36: =N36*BP36 -> 0 | BR36: 3
A37: ="LA3"&REPT(0,4-LEN(BR37))&BR37 -> LA30405 | B37: Crimps | C37: Crimps 04 | D37: Holds | F37: Crimps | G37: Mini | H37: Positive | I37: Classic | J37: Advanced Beginner,Intermediate,Expert,Competition | K37: Bouldering,Lead,Competition | L37: Medium | M37: 2.525 | N37: 10 | AD37: =SUM(Q37:AC37) -> 0 | AE37: =N37*AD37 -> 0 | AN37: 109 | AR37: 89 | AV37: =IF(OrderFormType="Wholesale",CEILING(AR37*ExchRate,ExchRateRoundUpTo),CEILING(AN37*ExchRate,ExchRateRoundUpTo)/1.22) -> 89 | AW37: =AV37*(1+AO37+AP37) -> 89 | BC37: =SUM(AX37:BB37) -> 0 | BD37: =N37*BC37 -> 0 | BE37: =AV37*(1.05+AO37+AP37) -> 93.45 | BG37: =$N37*BF37 -> 0 | BH37: =$AV37*(1.1+$AO37+$AP37) -> 97.9 | BJ37: =N37*BI37 -> 0 | BK37: =AV37*(1.15+AO37+AP37) -> 102.35 | BM37: =N37*BL37 -> 0 | BN37: =AV37*(1.2+AO37+AP37) -> 106.8 | BO37: =(AD37*AW37)+(BC37*BE37)+(BF37*BH37)+(BI37*BK37)+(BL37*BN37) -> 0 | BP37: =AD37+BC37+BF37+BI37+BL37 -> 0 | BQ37: =N37*BP37 -> 0 | BR37: 405
A38: ="LA3"&REPT(0,4-LEN(BR38))&BR38 -> LA30537 | B38: Crimps | C38: Crimps 05 | D38: Holds | F38: Crimps | G38: Mini | H38: Positive | I38: Classic | J38: Advanced Beginner,Intermediate,Expert,Competition | K38: Bouldering,Lead,Competition | L38: Medium | M38: 3.472 | N38: 15 | AD38: =SUM(Q38:AC38) -> 0 | AE38: =N38*AD38 -> 0 | AN38: 109 | AR38: 89 | AV38: =IF(OrderFormType="Wholesale",CEILING(AR38*ExchRate,ExchRateRoundUpTo),CEILING(AN38*ExchRate,ExchRateRoundUpTo)/1.22) -> 89 | AW38: =AV38*(1+AO38+AP38) -> 89 | BC38: =SUM(AX38:BB38) -> 0 | BD38: =N38*BC38 -> 0 | BE38: =AV38*(1.05+AO38+AP38) -> 93.45 | BG38: =$N38*BF38 -> 0 | BH38: =$AV38*(1.1+$AO38+$AP38) -> 97.9 | BJ38: =N38*BI38 -> 0 | BK38: =AV38*(1.15+AO38+AP38) -> 102.35 | BM38: =N38*BL38 -> 0 | BN38: =AV38*(1.2+AO38+AP38) -> 106.8 | BO38: =(AD38*AW38)+(BC38*BE38)+(BF38*BH38)+(BI38*BK38)+(BL38*BN38) -> 0 | BP38: =AD38+BC38+BF38+BI38+BL38 -> 0 | BQ38: =N38*BP38 -> 0 | BR38: 537
A39: ="LA3"&REPT(0,4-LEN(BR39))&BR39 -> LA30002 | B39: Crimps | C39: Crimps 06 | D39: Holds | F39: Crimps | G39: Mini | H39: Positive | I39: Classic | J39: Advanced Beginner,Intermediate,Expert,Competition | K39: Bouldering,Lead,Competition | L39: Medium | M39: 1.9924 | N39: 15 | AD39: =SUM(Q39:AC39) -> 0 | AE39: =N39*AD39 -> 0 | AN39: 109 | AR39: 89 | AV39: =IF(OrderFormType="Wholesale",CEILING(AR39*ExchRate,ExchRateRoundUpTo),CEILING(AN39*ExchRate,ExchRateRoundUpTo)/1.22) -> 89 | AW39: =AV39*(1+AO39+AP39) -> 89 | BC39: =SUM(AX39:BB39) -> 0 | BD39: =N39*BC39 -> 0 | BE39: =AV39*(1.05+AO39+AP39) -> 93.45 | BG39: =$N39*BF39 -> 0 | BH39: =$AV39*(1.1+$AO39+$AP39) -> 97.9 | BJ39: =N39*BI39 -> 0 | BK39: =AV39*(1.15+AO39+AP39) -> 102.35 | BM39: =N39*BL39 -> 0 | BN39: =AV39*(1.2+AO39+AP39) -> 106.8 | BO39: =(AD39*AW39)+(BC39*BE39)+(BF39*BH39)+(BI39*BK39)+(BL39*BN39) -> 0 | BP39: =AD39+BC39+BF39+BI39+BL39 -> 0 | BQ39: =N39*BP39 -> 0 | BR39: 2
A40: ="LA3"&REPT(0,4-LEN(BR40))&BR40 -> LA31119 | B40: Crimps | C40: Crimps 07 | D40: Holds | F40: Crimps | G40: Mini | H40: Positive | I40: Classic | J40: Advanced Beginner,Intermediate,Expert,Competition | K40: Bouldering,Lead,Competition | L40: Medium | M40: 2.3 | N40: 10 | AD40: =SUM(Q40:AC40) -> 0 | AE40: =N40*AD40 -> 0 | AN40: 109 | AR40: 89 | AV40: =IF(OrderFormType="Wholesale",CEILING(AR40*ExchRate,ExchRateRoundUpTo),CEILING(AN40*ExchRate,ExchRateRoundUpTo)/1.22) -> 89 | AW40: =AV40*(1+AO40+AP40) -> 89 | BC40: =SUM(AX40:BB40) -> 0 | BD40: =N40*BC40 -> 0 | BE40: =AV40*(1.05+AO40+AP40) -> 93.45 | BG40: =$N40*BF40 -> 0 | BH40: =$AV40*(1.1+$AO40+$AP40) -> 97.9 | BJ40: =N40*BI40 -> 0 | BK40: =AV40*(1.15+AO40+AP40) -> 102.35 | BM40: =N40*BL40 -> 0 | BN40: =AV40*(1.2+AO40+AP40) -> 106.8 | BO40: =(AD40*AW40)+(BC40*BE40)+(BF40*BH40)+(BI40*BK40)+(BL40*BN40) -> 0 | BP40: =AD40+BC40+BF40+BI40+BL40 -> 0 | BQ40: =N40*BP40 -> 0 | BR40: 1119
C41: Edges
A42: ="LA3"&REPT(0,4-LEN(BR42))&BR42 -> LA31402 | B42: Flat Edges | C42: Flat Edges 01 | D42: Holds | F42: Edges,Screw-ons | G42: Nano | H42: Positive | I42: Classic | J42: Advanced Beginner,Intermediate,Expert,Competition | K42: Bouldering,Lead,Competition | L42: Medium | M42: 1.138 | N42: 10 | AD42: =SUM(Q42:AC42) -> 0 | AE42: =N42*AD42 -> 0 | AN42: 119 | AR42: 95 | AV42: =IF(OrderFormType="Wholesale",CEILING(AR42*ExchRate,ExchRateRoundUpTo),CEILING(AN42*ExchRate,ExchRateRoundUpTo)/1.22) -> 95 | AW42: =AV42*(1+AO42+AP42) -> 95 | BC42: =SUM(AX42:BB42) -> 0 | BD42: =N42*BC42 -> 0 | BE42: =AV42*(1.05+AO42+AP42) -> 99.75 | BG42: =$N42*BF42 -> 0 | BH42: =$AV42*(1.1+$AO42+$AP42) -> 104.5 | BJ42: =N42*BI42 -> 0 | BK42: =AV42*(1.15+AO42+AP42) -> 109.25 | BM42: =N42*BL42 -> 0 | BN42: =AV42*(1.2+AO42+AP42) -> 114 | BO42: =(AD42*AW42)+(BC42*BE42)+(BF42*BH42)+(BI42*BK42)+(BL42*BN42) -> 0 | BP42: =AD42+BC42+BF42+BI42+BL42 -> 0 | BQ42: =N42*BP42 -> 0 | BR42: 1402
A43: ="LA3"&REPT(0,4-LEN(BR43))&BR43 -> LA31403 | B43: Flat Edges | C43: Flat Edges 02 | D43: Holds | F43: Edges,Screw-ons | G43: Nano | H43: Positive | I43: Classic | J43: Advanced Beginner,Intermediate,Expert,Competition | K43: Bouldering,Lead,Competition | L43: Medium | M43: 0.55 | N43: 10 | AD43: =SUM(Q43:AC43) -> 0 | AE43: =N43*AD43 -> 0 | AN43: 109 | AR43: 89 | AV43: =IF(OrderFormType="Wholesale",CEILING(AR43*ExchRate,ExchRateRoundUpTo),CEILING(AN43*ExchRate,ExchRateRoundUpTo)/1.22) -> 89 | AW43: =AV43*(1+AO43+AP43) -> 89 | BC43: =SUM(AX43:BB43) -> 0 | BD43: =N43*BC43 -> 0 | BE43: =AV43*(1.05+AO43+AP43) -> 93.45 | BG43: =$N43*BF43 -> 0 | BH43: =$AV43*(1.1+$AO43+$AP43) -> 97.9 | BJ43: =N43*BI43 -> 0 | BK43: =AV43*(1.15+AO43+AP43) -> 102.35 | BM43: =N43*BL43 -> 0 | BN43: =AV43*(1.2+AO43+AP43) -> 106.8 | BO43: =(AD43*AW43)+(BC43*BE43)+(BF43*BH43)+(BI43*BK43)+(BL43*BN43) -> 0 | BP43: =AD43+BC43+BF43+BI43+BL43 -> 0 | BQ43: =N43*BP43 -> 0 | BR43: 1403
A44: ="LA3"&REPT(0,4-LEN(BR44))&BR44 -> LA30463 | B44: Flat Edges | C44: Flat Edges 03 | D44: Holds | F44: Edges | G44: Standard | H44: Positive | I44: Classic | J44: Advanced Beginner,Intermediate,Expert,Competition | K44: Bouldering,Lead,Competition | L44: Medium | M44: 2.225 | N44: 10 | AD44: =SUM(Q44:AC44) -> 0 | AE44: =N44*AD44 -> 0 | AN44: 149 | AR44: 119 | AV44: =IF(OrderFormType="Wholesale",CEILING(AR44*ExchRate,ExchRateRoundUpTo),CEILING(AN44*ExchRate,ExchRateRoundUpTo)/1.22) -> 119 | AW44: =AV44*(1+AO44+AP44) -> 119 | BC44: =SUM(AX44:BB44) -> 0 | BD44: =N44*BC44 -> 0 | BE44: =AV44*(1.05+AO44+AP44) -> 124.95 | BG44: =$N44*BF44 -> 0 | BH44: =$AV44*(1.1+$AO44+$AP44) -> 130.9 | BJ44: =N44*BI44 -> 0 | BK44: =AV44*(1.15+AO44+AP44) -> 136.85 | BM44: =N44*BL44 -> 0 | BN44: =AV44*(1.2+AO44+AP44) -> 142.8 | BO44: =(AD44*AW44)+(BC44*BE44)+(BF44*BH44)+(BI44*BK44)+(BL44*BN44) -> 0 | BP44: =AD44+BC44+BF44+BI44+BL44 -> 0 | BQ44: =N44*BP44 -> 0 | BR44: 463
A45: ="LA3"&REPT(0,4-LEN(BR45))&BR45 -> LA31395 | B45: Flat Edges | C45: Flat Edges 04 | D45: Holds | F45: Edges | G45: Mini | H45: Positive | I45: Classic | J45: Advanced Beginner,Intermediate,Expert,Competition | K45: Bouldering,Lead,Competition | L45: Medium | M45: 2.704 | N45: 10 | AD45: =SUM(Q45:AC45) -> 0 | AE45: =N45*AD45 -> 0 | AN45: 149 | AR45: 119 | AV45: =IF(OrderFormType="Wholesale",CEILING(AR45*ExchRate,ExchRateRoundUpTo),CEILING(AN45*ExchRate,ExchRateRoundUpTo)/1.22) -> 119 | AW45: =AV45*(1+AO45+AP45) -> 119 | BC45: =SUM(AX45:BB45) -> 0 | BD45: =N45*BC45 -> 0 | BE45: =AV45*(1.05+AO45+AP45) -> 124.95 | BG45: =$N45*BF45 -> 0 | BH45: =$AV45*(1.1+$AO45+$AP45) -> 130.9 | BJ45: =N45*BI45 -> 0 | BK45: =AV45*(1.15+AO45+AP45) -> 136.85 | BM45: =N45*BL45 -> 0 | BN45: =AV45*(1.2+AO45+AP45) -> 142.8 | BO45: =(AD45*AW45)+(BC45*BE45)+(BF45*BH45)+(BI45*BK45)+(BL45*BN45) -> 0 | BP45: =AD45+BC45+BF45+BI45+BL45 -> 0 | BQ45: =N45*BP45 -> 0 | BR45: 1395
A46: ="LA3"&REPT(0,4-LEN(BR46))&BR46 -> LA31396 | B46: Flat Edges | C46: Flat Edges 05 | D46: Holds | F46: Edges | G46: Mini | H46: Positive | I46: Classic | J46: Advanced Beginner,Intermediate,Expert,Competition | K46: Bouldering,Lead,Competition | L46: Medium | M46: 1.833 | N46: 10 | AD46: =SUM(Q46:AC46) -> 0 | AE46: =N46*AD46 -> 0 | AN46: 154 | AR46: 124 | AV46: =IF(OrderFormType="Wholesale",CEILING(AR46*ExchRate,ExchRateRoundUpTo),CEILING(AN46*ExchRate,ExchRateRoundUpTo)/1.22) -> 124 | AW46: =AV46*(1+AO46+AP46) -> 124 | BC46: =SUM(AX46:BB46) -> 0 | BD46: =N46*BC46 -> 0 | BE46: =AV46*(1.05+AO46+AP46) -> 130.2 | BG46: =$N46*BF46 -> 0 | BH46: =$AV46*(1.1+$AO46+$AP46) -> 136.4 | BJ46: =N46*BI46 -> 0 | BK46: =AV46*(1.15+AO46+AP46) -> 142.6 | BM46: =N46*BL46 -> 0 | BN46: =AV46*(1.2+AO46+AP46) -> 148.8 | BO46: =(AD46*AW46)+(BC46*BE46)+(BF46*BH46)+(BI46*BK46)+(BL46*BN46) -> 0 | BP46: =AD46+BC46+BF46+BI46+BL46 -> 0 | BQ46: =N46*BP46 -> 0 | BR46: 1396
A47: ="LA3"&REPT(0,4-LEN(BR47))&BR47 -> LA31397 | B47: Flat Edges | C47: Flat Edges 06 | D47: Holds | F47: Edges | G47: Standard | H47: Positive | I47: Classic | J47: Advanced Beginner,Intermediate,Expert,Competition | K47: Bouldering,Lead,Competition | L47: Medium | M47: 2.776 | N47: 5 | AD47: =SUM(Q47:AC47) -> 0 | AE47: =N47*AD47 -> 0 | AN47: 139 | AR47: 114 | AV47: =IF(OrderFormType="Wholesale",CEILING(AR47*ExchRate,ExchRateRoundUpTo),CEILING(AN47*ExchRate,ExchRateRoundUpTo)/1.22) -> 114 | AW47: =AV47*(1+AO47+AP47) -> 114 | BC47: =SUM(AX47:BB47) -> 0 | BD47: =N47*BC47 -> 0 | BE47: =AV47*(1.05+AO47+AP47) -> 119.7 | BG47: =$N47*BF47 -> 0 | BH47: =$AV47*(1.1+$AO47+$AP47) -> 125.4 | BJ47: =N47*BI47 -> 0 | BK47: =AV47*(1.15+AO47+AP47) -> 131.1 | BM47: =N47*BL47 -> 0 | BN47: =AV47*(1.2+AO47+AP47) -> 136.8 | BO47: =(AD47*AW47)+(BC47*BE47)+(BF47*BH47)+(BI47*BK47)+(BL47*BN47) -> 0 | BP47: =AD47+BC47+BF47+BI47+BL47 -> 0 | BQ47: =N47*BP47 -> 0 | BR47: 1397
A48: ="LA3"&REPT(0,4-LEN(BR48))&BR48 -> LA31398 | B48: Flat Edges | C48: Flat Edges 07 | D48: Holds | F48: Edges | G48: Mondo | H48: Positive | I48: Classic | J48: Advanced Beginner,Intermediate,Expert,Competition | K48: Bouldering,Lead,Competition | L48: Medium | M48: 4.7 | N48: 3 | AD48: =SUM(Q48:AC48) -> 0 | AE48: =N48*AD48 -> 0 | AN48: 149 | AR48: 119 | AV48: =IF(OrderFormType="Wholesale",CEILING(AR48*ExchRate,ExchRateRoundUpTo),CEILING(AN48*ExchRate,ExchRateRoundUpTo)/1.22) -> 119 | AW48: =AV48*(1+AO48+AP48) -> 119 | BC48: =SUM(AX48:BB48) -> 0 | BD48: =N48*BC48 -> 0 | BE48: =AV48*(1.05+AO48+AP48) -> 124.95 | BG48: =$N48*BF48 -> 0 | BH48: =$AV48*(1.1+$AO48+$AP48) -> 130.9 | BJ48: =N48*BI48 -> 0 | BK48: =AV48*(1.15+AO48+AP48) -> 136.85 | BM48: =N48*BL48 -> 0 | BN48: =AV48*(1.2+AO48+AP48) -> 142.8 | BO48: =(AD48*AW48)+(BC48*BE48)+(BF48*BH48)+(BI48*BK48)+(BL48*BN48) -> 0 | BP48: =AD48+BC48+BF48+BI48+BL48 -> 0 | BQ48: =N48*BP48 -> 0 | BR48: 1398
A49: ="LA3"&REPT(0,4-LEN(BR49))&BR49 -> LA30752 | B49: Flat Edges | C49: Flat Edges 08 | D49: Holds | F49: Edges | G49: Mondo | H49: Positive | I49: Classic | J49: Advanced Beginner,Intermediate,Expert,Competition | K49: Bouldering,Lead,Competition | L49: Medium | M49: 8.1 | N49: 3 | AD49: =SUM(Q49:AC49) -> 0 | AE49: =N49*AD49 -> 0 | AN49: 159 | AR49: 129 | AV49: =IF(OrderFormType="Wholesale",CEILING(AR49*ExchRate,ExchRateRoundUpTo),CEILING(AN49*ExchRate,ExchRateRoundUpTo)/1.22) -> 129 | AW49: =AV49*(1+AO49+AP49) -> 129 | BC49: =SUM(AX49:BB49) -> 0 | BD49: =N49*BC49 -> 0 | BE49: =AV49*(1.05+AO49+AP49) -> 135.45 | BG49: =$N49*BF49 -> 0 | BH49: =$AV49*(1.1+$AO49+$AP49) -> 141.9 | BJ49: =N49*BI49 -> 0 | BK49: =AV49*(1.15+AO49+AP49) -> 148.35 | BM49: =N49*BL49 -> 0 | BN49: =AV49*(1.2+AO49+AP49) -> 154.8 | BO49: =(AD49*AW49)+(BC49*BE49)+(BF49*BH49)+(BI49*BK49)+(BL49*BN49) -> 0 | BP49: =AD49+BC49+BF49+BI49+BL49 -> 0 | BQ49: =N49*BP49 -> 0 | BR49: 752
A50: ="LA3"&REPT(0,4-LEN(BR50))&BR50 -> LA30892 | B50: Flat Edges | C50: Flat Edges 09 | D50: Holds | F50: Edges | G50: Giga | H50: Negative | I50: Classic | J50: Advanced Beginner,Intermediate,Expert,Competition | K50: Bouldering,Lead,Competition | L50: Medium | M50: 5.914 | N50: 2 | AD50: =SUM(Q50:AC50) -> 0 | AE50: =N50*AD50 -> 0 | AN50: 149 | AR50: 119 | AV50: =IF(OrderFormType="Wholesale",CEILING(AR50*ExchRate,ExchRateRoundUpTo),CEILING(AN50*ExchRate,ExchRateRoundUpTo)/1.22) -> 119 | AW50: =AV50*(1+AO50+AP50) -> 119 | BC50: =SUM(AX50:BB50) -> 0 | BD50: =N50*BC50 -> 0 | BE50: =AV50*(1.05+AO50+AP50) -> 124.95 | BG50: =$N50*BF50 -> 0 | BH50: =$AV50*(1.1+$AO50+$AP50) -> 130.9 | BJ50: =N50*BI50 -> 0 | BK50: =AV50*(1.15+AO50+AP50) -> 136.85 | BM50: =N50*BL50 -> 0 | BN50: =AV50*(1.2+AO50+AP50) -> 142.8 | BO50: =(AD50*AW50)+(BC50*BE50)+(BF50*BH50)+(BI50*BK50)+(BL50*BN50) -> 0 | BP50: =AD50+BC50+BF50+BI50+BL50 -> 0 | BQ50: =N50*BP50 -> 0 | BR50: 892
A51: ="LA3"&REPT(0,4-LEN(BR51))&BR51 -> LA30893 | B51: Flat Edges | C51: Flat Edges 10 | D51: Holds | F51: Edges | G51: Giga | H51: Flat | I51: Classic | J51: Advanced Beginner,Intermediate,Expert,Competition | K51: Bouldering,Lead,Competition | L51: Medium | M51: 4.475 | N51: 2 | AD51: =SUM(Q51:AC51) -> 0 | AE51: =N51*AD51 -> 0 | AN51: 139 | AR51: 114 | AV51: =IF(OrderFormType="Wholesale",CEILING(AR51*ExchRate,ExchRateRoundUpTo),CEILING(AN51*ExchRate,ExchRateRoundUpTo)/1.22) -> 114 | AW51: =AV51*(1+AO51+AP51) -> 114 | BC51: =SUM(AX51:BB51) -> 0 | BD51: =N51*BC51 -> 0 | BE51: =AV51*(1.05+AO51+AP51) -> 119.7 | BG51: =$N51*BF51 -> 0 | BH51: =$AV51*(1.1+$AO51+$AP51) -> 125.4 | BJ51: =N51*BI51 -> 0 | BK51: =AV51*(1.15+AO51+AP51) -> 131.1 | BM51: =N51*BL51 -> 0 | BN51: =AV51*(1.2+AO51+AP51) -> 136.8 | BO51: =(AD51*AW51)+(BC51*BE51)+(BF51*BH51)+(BI51*BK51)+(BL51*BN51) -> 0 | BP51: =AD51+BC51+BF51+BI51+BL51 -> 0 | BQ51: =N51*BP51 -> 0 | BR51: 893
A52: ="LA3"&REPT(0,4-LEN(BR52))&BR52 -> LA30234 | B52: Flat Edges | C52: Flat Edges 11 | D52: Holds | F52: Edges | G52: Giga | H52: Negative | I52: Classic | J52: Advanced Beginner,Intermediate,Expert,Competition | K52: Bouldering,Lead,Competition | L52: Medium | M52: 2.42 | N52: 1 | AD52: =SUM(Q52:AC52) -> 0 | AE52: =N52*AD52 -> 0 | AN52: 129 | AR52: 104 | AV52: =IF(OrderFormType="Wholesale",CEILING(AR52*ExchRate,ExchRateRoundUpTo),CEILING(AN52*ExchRate,ExchRateRoundUpTo)/1.22) -> 104 | AW52: =AV52*(1+AO52+AP52) -> 104 | BC52: =SUM(AX52:BB52) -> 0 | BD52: =N52*BC52 -> 0 | BE52: =AV52*(1.05+AO52+AP52) -> 109.2 | BG52: =$N52*BF52 -> 0 | BH52: =$AV52*(1.1+$AO52+$AP52) -> 114.4 | BJ52: =N52*BI52 -> 0 | BK52: =AV52*(1.15+AO52+AP52) -> 119.6 | BM52: =N52*BL52 -> 0 | BN52: =AV52*(1.2+AO52+AP52) -> 124.8 | BO52: =(AD52*AW52)+(BC52*BE52)+(BF52*BH52)+(BI52*BK52)+(BL52*BN52) -> 0 | BP52: =AD52+BC52+BF52+BI52+BL52 -> 0 | BQ52: =N52*BP52 -> 0 | BR52: 234
A53: ="LA3"&REPT(0,4-LEN(BR53))&BR53 -> LA31400 | B53: Flat Edges | C53: Flat Edges 12 | D53: Macros | F53: Dual-Handed,Edges | G53: 450x360x110 | H53: Positive | I53: Classic | J53: Advanced Beginner,Intermediate,Expert,Competition | K53: Bouldering,Lead,Competition | L53: Medium | M53: 3 | N53: 1 | AD53: =SUM(Q53:AC53) -> 0 | AE53: =N53*AD53 -> 0 | AN53: 234 | AR53: 189 | AV53: =IF(OrderFormType="Wholesale",CEILING(AR53*ExchRate,ExchRateRoundUpTo),CEILING(AN53*ExchRate,ExchRateRoundUpTo)/1.22) -> 189 | AW53: =AV53*(1+AO53+AP53) -> 189 | BC53: =SUM(AX53:BB53) -> 0 | BD53: =N53*BC53 -> 0 | BE53: =AV53*(1.05+AO53+AP53) -> 198.45 | BG53: =$N53*BF53 -> 0 | BH53: =$AV53*(1.1+$AO53+$AP53) -> 207.9 | BJ53: =N53*BI53 -> 0 | BK53: =AV53*(1.15+AO53+AP53) -> 217.35 | BM53: =N53*BL53 -> 0 | BN53: =AV53*(1.2+AO53+AP53) -> 226.8 | BO53: =(AD53*AW53)+(BC53*BE53)+(BF53*BH53)+(BI53*BK53)+(BL53*BN53) -> 0 | BP53: =AD53+BC53+BF53+BI53+BL53 -> 0 | BQ53: =N53*BP53 -> 0 | BR53: 1400
... A67: ="LA3"&REPT(0,4-LEN(BR67))&BR67 -> LA31399 | B67: Positive Edges | C67: Positive Edges 14 | D67: Macros | F67: Dual-Handed,Edges | G67: 440x360x130 | H67: Positive | I67: Classic | J67: Beginner,Advanced Beginner,Intermediate,Expert,Competition | K67: Bouldering,Lead,Competition | L67: Medium | M67: 3 | N67: 1 | AD67: =SUM(Q67:AC67) -> 0 | AE67: =N67*AD67 -> 0 | AN67: 234 | AR67: 189 | AV67: =IF(OrderFormType="Wholesale",CEILING(AR67*ExchRate,ExchRateRoundUpTo),CEILING(AN67*ExchRate,ExchRateRoundUpTo)/1.22) -> 189 | AW67: =AV67*(1+AO67+AP67) -> 189 | BC67: =SUM(AX67:BB67) -> 0 | BD67: =N67*BC67 -> 0 | BE67: =AV67*(1.05+AO67+AP67) -> 198.45 | BG67: =$N67*BF67 -> 0 | BH67: =$AV67*(1.1+$AO67+$AP67) -> 207.9 | BJ67: =N67*BI67 -> 0 | BK67: =AV67*(1.15+AO67+AP67) -> 217.35 | BM67: =N67*BL67 -> 0 | BN67: =AV67*(1.2+AO67+AP67) -> 226.8 | BO67: =(AD67*AW67)+(BC67*BE67)+(BF67*BH67)+(BI67*BK67)+(BL67*BN67) -> 0 | BP67: =AD67+BC67+BF67+BI67+BL67 -> 0 | BQ67: =N67*BP67 -> 0 | BR67: 1399
C68: Elica
A69: ="LA3"&REPT(0,4-LEN(BR69))&BR69 -> LA31798 | B69: Elica | C69: Elica 01 | D69: Holds | F69: Pinches | G69: Footholds | H69: Positive | I69: Classic | J69: Advanced Beginner,Intermediate,Expert,Competition | K69: Bouldering,Lead,Competition | L69: Medium | M69: 2.222 | N69: 10 | AD69: =SUM(Q69:AC69) -> 0 | AE69: =N69*AD69 -> 0 | AN69: 109 | AR69: 89 | AV69: =IF(OrderFormType="Wholesale",CEILING(AR69*ExchRate,ExchRateRoundUpTo),CEILING(AN69*ExchRate,ExchRateRoundUpTo)/1.22) -> 89 | AW69: =AV69*(1+AO69+AP69) -> 89 | BC69: =SUM(AX69:BB69) -> 0 | BD69: =N69*BC69 -> 0 | BE69: =AV69*(1.05+AO69+AP69) -> 93.45 | BG69: =$N69*BF69 -> 0 | BH69: =$AV69*(1.1+$AO69+$AP69) -> 97.9 | BJ69: =N69*BI69 -> 0 | BK69: =AV69*(1.15+AO69+AP69) -> 102.35 | BM69: =N69*BL69 -> 0 | BN69: =AV69*(1.2+AO69+AP69) -> 106.8 | BO69: =(AD69*AW69)+(BC69*BE69)+(BF69*BH69)+(BI69*BK69)+(BL69*BN69) -> 0 | BP69: =AD69+BC69+BF69+BI69+BL69 -> 0 | BQ69: =N69*BP69 -> 0 | BR69: 1798
A70: ="LA3"&REPT(0,4-LEN(BR70))&BR70 -> LA31791 | B70: Elica | C70: Elica 02 | D70: Holds | F70: Pinches | G70: Standard | H70: Positive | I70: Classic | J70: Advanced Beginner,Intermediate,Expert,Competition | K70: Bouldering,Lead,Competition | L70: Medium | M70: 5.686 | N70: 4 | AD70: =SUM(Q70:AC70) -> 0 | AE70: =N70*AD70 -> 0 | AN70: 149 | AR70: 119 | AV70: =IF(OrderFormType="Wholesale",CEILING(AR70*ExchRate,ExchRateRoundUpTo),CEILING(AN70*ExchRate,ExchRateRoundUpTo)/1.22) -> 119 | AW70: =AV70*(1+AO70+AP70) -> 119 | BC70: =SUM(AX70:BB70) -> 0 | BD70: =N70*BC70 -> 0 | BE70: =AV70*(1.05+AO70+AP70) -> 124.95 | BG70: =$N70*BF70 -> 0 | BH70: =$AV70*(1.1+$AO70+$AP70) -> 130.9 | BJ70: =N70*BI70 -> 0 | BK70: =AV70*(1.15+AO70+AP70) -> 136.85 | BM70: =N70*BL70 -> 0 | BN70: =AV70*(1.2+AO70+AP70) -> 142.8 | BO70: =(AD70*AW70)+(BC70*BE70)+(BF70*BH70)+(BI70*BK70)+(BL70*BN70) -> 0 | BP70: =AD70+BC70+BF70+BI70+BL70 -> 0 | BQ70: =N70*BP70 -> 0 | BR70: 1791
A71: ="LA3"&REPT(0,4-LEN(BR71))&BR71 -> LA31792 | B71: Elica | C71: Elica 03 | D71: Holds | F71: Pinches | G71: Standard | H71: Positive | I71: Classic | J71: Advanced Beginner,Intermediate,Expert,Competition | K71: Bouldering,Lead,Competition | L71: Medium | M71: 3.72 | N71: 2 | AD71: =SUM(Q71:AC71) -> 0 | AE71: =N71*AD71 -> 0 | AN71: 134 | AR71: 109 | AV71: =IF(OrderFormType="Wholesale",CEILING(AR71*ExchRate,ExchRateRoundUpTo),CEILING(AN71*ExchRate,ExchRateRoundUpTo)/1.22) -> 109 | AW71: =AV71*(1+AO71+AP71) -> 109 | BC71: =SUM(AX71:BB71) -> 0 | BD71: =N71*BC71 -> 0 | BE71: =AV71*(1.05+AO71+AP71) -> 114.45 | BG71: =$N71*BF71 -> 0 | BH71: =$AV71*(1.1+$AO71+$AP71) -> 119.9 | BJ71: =N71*BI71 -> 0 | BK71: =AV71*(1.15+AO71+AP71) -> 125.35 | BM71: =N71*BL71 -> 0 | BN71: =AV71*(1.2+AO71+AP71) -> 130.8 | BO71: =(AD71*AW71)+(BC71*BE71)+(BF71*BH71)+(BI71*BK71)+(BL71*BN71) -> 0 | BP71: =AD71+BC71+BF71+BI71+BL71 -> 0 | BQ71: =N71*BP71 -> 0 | BR71: 1792
A72: ="LA3"&REPT(0,4-LEN(BR72))&BR72 -> LA31793 | B72: Elica | C72: Elica 04 | D72: Holds | F72: Pinches | G72: Mondo | H72: Positive | I72: Classic | J72: Advanced Beginner,Intermediate,Expert,Competition | K72: Bouldering,Lead,Competition | L72: Medium | M72: 4.512 | N72: 2 | AD72: =SUM(Q72:AC72) -> 0 | AE72: =N72*AD72 -> 0 | AN72: 139 | AR72: 114 | AV72: =IF(OrderFormType="Wholesale",CEILING(AR72*ExchRate,ExchRateRoundUpTo),CEILING(AN72*ExchRate,ExchRateRoundUpTo)/1.22) -> 114 | AW72: =AV72*(1+AO72+AP72) -> 114 | BC72: =SUM(AX72:BB72) -> 0 | BD72: =N72*BC72 -> 0 | BE72: =AV72*(1.05+AO72+AP72) -> 119.7 | BG72: =$N72*BF72 -> 0 | BH72: =$AV72*(1.1+$AO72+$AP72) -> 125.4 | BJ72: =N72*BI72 -> 0 | BK72: =AV72*(1.15+AO72+AP72) -> 131.1 | BM72: =N72*BL72 -> 0 | BN72: =AV72*(1.2+AO72+AP72) -> 136.8 | BO72: =(AD72*AW72)+(BC72*BE72)+(BF72*BH72)+(BI72*BK72)+(BL72*BN72) -> 0 | BP72: =AD72+BC72+BF72+BI72+BL72 -> 0 | BQ72: =N72*BP72 -> 0 | BR72: 1793
A73: ="LA3"&REPT(0,4-LEN(BR73))&BR73 -> LA31794 | B73: Elica | C73: Elica 05 | D73: Holds | F73: Pinches | G73: Mondo | H73: Positive | I73: Classic | J73: Advanced Beginner,Intermediate,Expert,Competition | K73: Bouldering,Lead,Competition | L73: Medium | M73: 4.083 | N73: 2 | AD73: =SUM(Q73:AC73) -> 0 | AE73: =N73*AD73 -> 0 | AN73: 134 | AR73: 109 | AV73: =IF(OrderFormType="Wholesale",CEILING(AR73*ExchRate,ExchRateRoundUpTo),CEILING(AN73*ExchRate,ExchRateRoundUpTo)/1.22) -> 109 | AW73: =AV73*(1+AO73+AP73) -> 109 | BC73: =SUM(AX73:BB73) -> 0 | BD73: =N73*BC73 -> 0 | BE73: =AV73*(1.05+AO73+AP73) -> 114.45 | BG73: =$N73*BF73 -> 0 | BH73: =$AV73*(1.1+$AO73+$AP73) -> 119.9 | BJ73: =N73*BI73 -> 0 | BK73: =AV73*(1.15+AO73+AP73) -> 125.35 | BM73: =N73*BL73 -> 0 | BN73: =AV73*(1.2+AO73+AP73) -> 130.8 | BO73: =(AD73*AW73)+(BC73*BE73)+(BF73*BH73)+(BI73*BK73)+(BL73*BN73) -> 0 | BP73: =AD73+BC73+BF73+BI73+BL73 -> 0 | BQ73: =N73*BP73 -> 0 | BR73: 1794
A74: ="LA3"&REPT(0,4-LEN(BR74))&BR74 -> LA31795 | B74: Elica | C74: Elica 06 | D74: Holds | F74: Pinches | G74: Mondo | H74: Positive | I74: Classic | J74: Advanced Beginner,Intermediate,Expert,Competition | K74: Bouldering,Lead,Competition | L74: Medium | M74: 6.83 | N74: 2 | AD74: =SUM(Q74:AC74) -> 0 | AE74: =N74*AD74 -> 0 | AN74: 154 | AR74: 124 | AV74: =IF(OrderFormType="Wholesale",CEILING(AR74*ExchRate,ExchRateRoundUpTo),CEILING(AN74*ExchRate,ExchRateRoundUpTo)/1.22) -> 124 | AW74: =AV74*(1+AO74+AP74) -> 124 | BC74: =SUM(AX74:BB74) -> 0 | BD74: =N74*BC74 -> 0 | BE74: =AV74*(1.05+AO74+AP74) -> 130.2 | BG74: =$N74*BF74 -> 0 | BH74: =$AV74*(1.1+$AO74+$AP74) -> 136.4 | BJ74: =N74*BI74 -> 0 | BK74: =AV74*(1.15+AO74+AP74) -> 142.6 | BM74: =N74*BL74 -> 0 | BN74: =AV74*(1.2+AO74+AP74) -> 148.8 | BO74: =(AD74*AW74)+(BC74*BE74)+(BF74*BH74)+(BI74*BK74)+(BL74*BN74) -> 0 | BP74: =AD74+BC74+BF74+BI74+BL74 -> 0 | BQ74: =N74*BP74 -> 0 | BR74: 1795
A75: ="LA3"&REPT(0,4-LEN(BR75))&BR75 -> LA31796 | B75: Elica | C75: Elica 07 | D75: Holds | F75: Pinches | G75: Mondo | H75: Positive | I75: Classic | J75: Advanced Beginner,Intermediate,Expert,Competition | K75: Bouldering,Lead,Competition | L75: Medium | M75: 6.902 | N75: 2 | AD75: =SUM(Q75:AC75) -> 0 | AE75: =N75*AD75 -> 0 | AN75: 154 | AR75: 124 | AV75: =IF(OrderFormType="Wholesale",CEILING(AR75*ExchRate,ExchRateRoundUpTo),CEILING(AN75*ExchRate,ExchRateRoundUpTo)/1.22) -> 124 | AW75: =AV75*(1+AO75+AP75) -> 124 | BC75: =SUM(AX75:BB75) -> 0 | BD75: =N75*BC75 -> 0 | BE75: =AV75*(1.05+AO75+AP75) -> 130.2 | BG75: =$N75*BF75 -> 0 | BH75: =$AV75*(1.1+$AO75+$AP75) -> 136.4 | BJ75: =N75*BI75 -> 0 | BK75: =AV75*(1.15+AO75+AP75) -> 142.6 | BM75: =N75*BL75 -> 0 | BN75: =AV75*(1.2+AO75+AP75) -> 148.8 | BO75: =(AD75*AW75)+(BC75*BE75)+(BF75*BH75)+(BI75*BK75)+(BL75*BN75) -> 0 | BP75: =AD75+BC75+BF75+BI75+BL75 -> 0 | BQ75: =N75*BP75 -> 0 | BR75: 1796
A76: ="LA3"&REPT(0,4-LEN(BR76))&BR76 -> LA31799 | B76: Elica | C76: Elica 08 | D76: Holds | F76: Pinches | G76: Mondo | H76: Positive | I76: Classic | J76: Advanced Beginner,Intermediate,Expert,Competition | K76: Bouldering,Lead,Competition | L76: Medium | M76: 7.57 | N76: 2 | AD76: =SUM(Q76:AC76) -> 0 | AE76: =N76*AD76 -> 0 | AN76: 159 | AR76: 129 | AV76: =IF(OrderFormType="Wholesale",CEILING(AR76*ExchRate,ExchRateRoundUpTo),CEILING(AN76*ExchRate,ExchRateRoundUpTo)/1.22) -> 129 | AW76: =AV76*(1+AO76+AP76) -> 129 | BC76: =SUM(AX76:BB76) -> 0 | BD76: =N76*BC76 -> 0 | BE76: =AV76*(1.05+AO76+AP76) -> 135.45 | BG76: =$N76*BF76 -> 0 | BH76: =$AV76*(1.1+$AO76+$AP76) -> 141.9 | BJ76: =N76*BI76 -> 0 | BK76: =AV76*(1.15+AO76+AP76) -> 148.35 | BM76: =N76*BL76 -> 0 | BN76: =AV76*(1.2+AO76+AP76) -> 154.8 | BO76: =(AD76*AW76)+(BC76*BE76)+(BF76*BH76)+(BI76*BK76)+(BL76*BN76) -> 0 | BP76: =AD76+BC76+BF76+BI76+BL76 -> 0 | BQ76: =N76*BP76 -> 0 | BR76: 1799
A77: ="LA3"&REPT(0,4-LEN(BR77))&BR77 -> LA31824 | B77: Elica | C77: Elica 09 | D77: Macros | F77: Pinches | G77: 640x290x190 | H77: Positive | I77: Classic | J77: Advanced Beginner,Intermediate,Expert,Competition | K77: Bouldering,Lead,Competition | L77: Medium | M77: 3 | N77: 1 | AD77: =SUM(Q77:AC77) -> 0 | AE77: =N77*AD77 -> 0 | AN77: 319 | AR77: 259 | AV77: =IF(OrderFormType="Wholesale",CEILING(AR77*ExchRate,ExchRateRoundUpTo),CEILING(AN77*ExchRate,ExchRateRoundUpTo)/1.22) -> 259 | AW77: =AV77*(1+AO77+AP77) -> 259 | BC77: =SUM(AX77:BB77) -> 0 | BD77: =N77*BC77 -> 0 | BE77: =AV77*(1.05+AO77+AP77) -> 271.95 | BG77: =$N77*BF77 -> 0 | BH77: =$AV77*(1.1+$AO77+$AP77) -> 284.9 | BJ77: =N77*BI77 -> 0 | BK77: =AV77*(1.15+AO77+AP77) -> 297.85 | BM77: =N77*BL77 -> 0 | BN77: =AV77*(1.2+AO77+AP77) -> 310.8 | BO77: =(AD77*AW77)+(BC77*BE77)+(BF77*BH77)+(BI77*BK77)+(BL77*BN77) -> 0 | BP77: =AD77+BC77+BF77+BI77+BL77 -> 0 | BQ77: =N77*BP77 -> 0 | BR77: 1824
A78: ="LA3"&REPT(0,4-LEN(BR78))&BR78 -> LA31825 | B78: Elica | C78: Elica 10 | D78: Macros | F78: Pinches | G78: 620x270x250 | H78: Positive | I78: Classic | J78: Advanced Beginner,Intermediate,Expert,Competition | K78: Bouldering,Lead,Competition | L78: Medium | M78: 3.2 | N78: 1 | AD78: =SUM(Q78:AC78) -> 0 | AE78: =N78*AD78 -> 0 | AN78: 329 | AR78: 269 | AV78: =IF(OrderFormType="Wholesale",CEILING(AR78*ExchRate,ExchRateRoundUpTo),CEILING(AN78*ExchRate,ExchRateRoundUpTo)/1.22) -> 269 | AW78: =AV78*(1+AO78+AP78) -> 269 | BC78: =SUM(AX78:BB78) -> 0 | BD78: =N78*BC78 -> 0 | BE78: =AV78*(1.05+AO78+AP78) -> 282.45 | BG78: =$N78*BF78 -> 0 | BH78: =$AV78*(1.1+$AO78+$AP78) -> 295.9 | BJ78: =N78*BI78 -> 0 | BK78: =AV78*(1.15+AO78+AP78) -> 309.35 | BM78: =N78*BL78 -> 0 | BN78: =AV78*(1.2+AO78+AP78) -> 322.8 | BO78: =(AD78*AW78)+(BC78*BE78)+(BF78*BH78)+(BI78*BK78)+(BL78*BN78) -> 0 | BP78: =AD78+BC78+BF78+BI78+BL78 -> 0 | BQ78: =N78*BP78 -> 0 | BR78: 1825
C79: Footholds
A80: ="LA3"&REPT(0,4-LEN(BR80))&BR80 -> LA30086 | B80: Footholds | C80: Footholds 01 | D80: Holds | F80: Footholds | G80: Footholds | H80: Positive | I80: Classic | J80: Advanced Beginner,Intermediate,Expert,Competition | K80: Bouldering,Lead,Competition | L80: Medium | M80: 1.6221 | N80: 35 | AD80: =SUM(Q80:AC80) -> 0 | AE80: =N80*AD80 -> 0 | AN80: 99 | AR80: 79 | AV80: =IF(OrderFormType="Wholesale",CEILING(AR80*ExchRate,ExchRateRoundUpTo),CEILING(AN80*ExchRate,ExchRateRoundUpTo)/1.22) -> 79 | AW80: =AV80*(1+AO80+AP80) -> 79 | BC80: =SUM(AX80:BB80) -> 0 | BD80: =N80*BC80 -> 0 | BE80: =AV80*(1.05+AO80+AP80) -> 82.95 | BG80: =$N80*BF80 -> 0 | BH80: =$AV80*(1.1+$AO80+$AP80) -> 86.9 | BJ80: =N80*BI80 -> 0 | BK80: =AV80*(1.15+AO80+AP80) -> 90.85 | BM80: =N80*BL80 -> 0 | BN80: =AV80*(1.2+AO80+AP80) -> 94.8 | BO80: =(AD80*AW80)+(BC80*BE80)+(BF80*BH80)+(BI80*BK80)+(BL80*BN80) -> 0 | BP80: =AD80+BC80+BF80+BI80+BL80 -> 0 | BQ80: =N80*BP80 -> 0 | BR80: 86
A81: ="LA3"&REPT(0,4-LEN(BR81))&BR81 -> LA30087 | B81: Footholds | C81: Footholds 02 | D81: Holds | F81: Footholds | G81: Footholds | H81: Positive | I81: Classic | J81: Advanced Beginner,Intermediate,Expert,Competition | K81: Bouldering,Lead,Competition | L81: Medium | M81: 1.7111 | N81: 35 | AD81: =SUM(Q81:AC81) -> 0 | AE81: =N81*AD81 -> 0 | AN81: 99 | AR81: 79 | AV81: =IF(OrderFormType="Wholesale",CEILING(AR81*ExchRate,ExchRateRoundUpTo),CEILING(AN81*ExchRate,ExchRateRoundUpTo)/1.22) -> 79 | AW81: =AV81*(1+AO81+AP81) -> 79 | BC81: =SUM(AX81:BB81) -> 0 | BD81: =N81*BC81 -> 0 | BE81: =AV81*(1.05+AO81+AP81) -> 82.95 | BG81: =$N81*BF81 -> 0 | BH81: =$AV81*(1.1+$AO81+$AP81) -> 86.9 | BJ81: =N81*BI81 -> 0 | BK81: =AV81*(1.15+AO81+AP81) -> 90.85 | BM81: =N81*BL81 -> 0 | BN81: =AV81*(1.2+AO81+AP81) -> 94.8 | BO81: =(AD81*AW81)+(BC81*BE81)+(BF81*BH81)+(BI81*BK81)+(BL81*BN81) -> 0 | BP81: =AD81+BC81+BF81+BI81+BL81 -> 0 | BQ81: =N81*BP81 -> 0 | BR81: 87
A82: ="LA3"&REPT(0,4-LEN(BR82))&BR82 -> LA30088 | B82: Footholds | C82: Footholds 03 | D82: Holds | F82: Footholds | G82: Footholds | H82: Negative | I82: Classic | J82: Beginner,Advanced Beginner,Intermediate,Expert,Competition | K82: Bouldering,Lead,Competition | L82: Medium | M82: 1.5783 | N82: 15 | AD82: =SUM(Q82:AC82) -> 0 | AE82: =N82*AD82 -> 0 | AN82: 99 | AR82: 79 | AV82: =IF(OrderFormType="Wholesale",CEILING(AR82*ExchRate,ExchRateRoundUpTo),CEILING(AN82*ExchRate,ExchRateRoundUpTo)/1.22) -> 79 | AW82: =AV82*(1+AO82+AP82) -> 79 | BC82: =SUM(AX82:BB82) -> 0 | BD82: =N82*BC82 -> 0 | BE82: =AV82*(1.05+AO82+AP82) -> 82.95 | BG82: =$N82*BF82 -> 0 | BH82: =$AV82*(1.1+$AO82+$AP82) -> 86.9 | BJ82: =N82*BI82 -> 0 | BK82: =AV82*(1.15+AO82+AP82) -> 90.85 | BM82: =N82*BL82 -> 0 | BN82: =AV82*(1.2+AO82+AP82) -> 94.8 | BO82: =(AD82*AW82)+(BC82*BE82)+(BF82*BH82)+(BI82*BK82)+(BL82*BN82) -> 0 | BP82: =AD82+BC82+BF82+BI82+BL82 -> 0 | BQ82: =N82*BP82 -> 0 | BR82: 88
A83: ="LA3"&REPT(0,4-LEN(BR83))&BR83 -> LA30448 | B83: Footholds | C83: Footholds 04 | D83: Holds | F83: Footholds | G83: Footholds | H83: Positive | I83: Classic | J83: Beginner,Advanced Beginner,Intermediate,Expert,Competition | K83: Bouldering,Lead,Competition | L83: Medium | M83: 2.306 | N83: 20 | AD83: =SUM(Q83:AC83) -> 0 | AE83: =N83*AD83 -> 0 | AN83: 109 | AR83: 89 | AV83: =IF(OrderFormType="Wholesale",CEILING(AR83*ExchRate,ExchRateRoundUpTo),CEILING(AN83*ExchRate,ExchRateRoundUpTo)/1.22) -> 89 | AW83: =AV83*(1+AO83+AP83) -> 89 | BC83: =SUM(AX83:BB83) -> 0 | BD83: =N83*BC83 -> 0 | BE83: =AV83*(1.05+AO83+AP83) -> 93.45 | BG83: =$N83*BF83 -> 0 | BH83: =$AV83*(1.1+$AO83+$AP83) -> 97.9 | BJ83: =N83*BI83 -> 0 | BK83: =AV83*(1.15+AO83+AP83) -> 102.35 | BM83: =N83*BL83 -> 0 | BN83: =AV83*(1.2+AO83+AP83) -> 106.8 | BO83: =(AD83*AW83)+(BC83*BE83)+(BF83*BH83)+(BI83*BK83)+(BL83*BN83) -> 0 | BP83: =AD83+BC83+BF83+BI83+BL83 -> 0 | BQ83: =N83*BP83 -> 0 | BR83: 448
A84: ="LA3"&REPT(0,4-LEN(BR84))&BR84 -> LA30449 | B84: Footholds | C84: Footholds 05 | D84: Holds | F84: Footholds | G84: Footholds | H84: Positive | I84: Classic | J84: Beginner,Advanced Beginner,Intermediate,Expert,Competition | K84: Bouldering,Lead,Competition | L84: Medium | M84: 2.173 | N84: 20 | AD84: =SUM(Q84:AC84) -> 0 | AE84: =N84*AD84 -> 0 | AN84: 109 | AR84: 89 | AV84: =IF(OrderFormType="Wholesale",CEILING(AR84*ExchRate,ExchRateRoundUpTo),CEILING(AN84*ExchRate,ExchRateRoundUpTo)/1.22) -> 89 | AW84: =AV84*(1+AO84+AP84) -> 89 | BC84: =SUM(AX84:BB84) -> 0 | BD84: =N84*BC84 -> 0 | BE84: =AV84*(1.05+AO84+AP84) -> 93.45 | BG84: =$N84*BF84 -> 0 | BH84: =$AV84*(1.1+$AO84+$AP84) -> 97.9 | BJ84: =N84*BI84 -> 0 | BK84: =AV84*(1.15+AO84+AP84) -> 102.35 | BM84: =N84*BL84 -> 0 | BN84: =AV84*(1.2+AO84+AP84) -> 106.8 | BO84: =(AD84*AW84)+(BC84*BE84)+(BF84*BH84)+(BI84*BK84)+(BL84*BN84) -> 0 | BP84: =AD84+BC84+BF84+BI84+BL84 -> 0 | BQ84: =N84*BP84 -> 0 | BR84: 449
A85: ="LA3"&REPT(0,4-LEN(BR85))&BR85 -> LA30513 | B85: Footholds | C85: Footholds 06 | D85: Holds | F85: Footholds | G85: Footholds | H85: Positive | I85: Classic | J85: Beginner,Advanced Beginner,Intermediate,Expert,Competition | K85: Bouldering,Lead,Competition | L85: Medium | M85: 2.192 | N85: 20 | AD85: =SUM(Q85:AC85) -> 0 | AE85: =N85*AD85 -> 0 | AN85: 109 | AR85: 89 | AV85: =IF(OrderFormType="Wholesale",CEILING(AR85*ExchRate,ExchRateRoundUpTo),CEILING(AN85*ExchRate,ExchRateRoundUpTo)/1.22) -> 89 | AW85: =AV85*(1+AO85+AP85) -> 89 | BC85: =SUM(AX85:BB85) -> 0 | BD85: =N85*BC85 -> 0 | BE85: =AV85*(1.05+AO85+AP85) -> 93.45 | BG85: =$N85*BF85 -> 0 | BH85: =$AV85*(1.1+$AO85+$AP85) -> 97.9 | BJ85: =N85*BI85 -> 0 | BK85: =AV85*(1.15+AO85+AP85) -> 102.35 | BM85: =N85*BL85 -> 0 | BN85: =AV85*(1.2+AO85+AP85) -> 106.8 | BO85: =(AD85*AW85)+(BC85*BE85)+(BF85*BH85)+(BI85*BK85)+(BL85*BN85) -> 0 | BP85: =AD85+BC85+BF85+BI85+BL85 -> 0 | BQ85: =N85*BP85 -> 0 | BR85: 513
A86: ="LA3"&REPT(0,4-LEN(BR86))&BR86 -> LA30629 | B86: Footholds | C86: Footholds 07 | D86: Holds | F86: Footholds | G86: Footholds | H86: Positive | I86: Classic | J86: Beginner,Advanced Beginner,Intermediate,Expert,Competition | K86: Bouldering,Lead,Competition | L86: Medium | M86: 2.12 | N86: 20 | AD86: =SUM(Q86:AC86) -> 0 | AE86: =N86*AD86 -> 0 | AN86: 109 | AR86: 89 | AV86: =IF(OrderFormType="Wholesale",CEILING(AR86*ExchRate,ExchRateRoundUpTo),CEILING(AN86*ExchRate,ExchRateRoundUpTo)/1.22) -> 89 | AW86: =AV86*(1+AO86+AP86) -> 89 | BC86: =SUM(AX86:BB86) -> 0 | BD86: =N86*BC86 -> 0 | BE86: =AV86*(1.05+AO86+AP86) -> 93.45 | BG86: =$N86*BF86 -> 0 | BH86: =$AV86*(1.1+$AO86+$AP86) -> 97.9 | BJ86: =N86*BI86 -> 0 | BK86: =AV86*(1.15+AO86+AP86) -> 102.35 | BM86: =N86*BL86 -> 0 | BN86: =AV86*(1.2+AO86+AP86) -> 106.8 | BO86: =(AD86*AW86)+(BC86*BE86)+(BF86*BH86)+(BI86*BK86)+(BL86*BN86) -> 0 | BP86: =AD86+BC86+BF86+BI86+BL86 -> 0 | BQ86: =N86*BP86 -> 0 | BR86: 629
C87: Incut Edges
A88: ="LA3"&REPT(0,4-LEN(BR88))&BR88 -> LA30825 | B88: Incut Edges | C88: Dual Handed Incut Edges | D88: Holds | F88: Dual-Handed,Incut,Edges | G88: Standard | H88: Positive | I88: Classic | J88: Beginner,Advanced Beginner,Intermediate,Expert,Competition | K88: Bouldering,Lead,Competition | L88: Medium | M88: 2.361 | N88: 10 | AD88: =SUM(Q88:AC88) -> 0 | AE88: =N88*AD88 -> 0 | AN88: 124 | AR88: 99 | AV88: =IF(OrderFormType="Wholesale",CEILING(AR88*ExchRate,ExchRateRoundUpTo),CEILING(AN88*ExchRate,ExchRateRoundUpTo)/1.22) -> 99 | AW88: =AV88*(1+AO88+AP88) -> 99 | BC88: =SUM(AX88:BB88) -> 0 | BD88: =N88*BC88 -> 0 | BE88: =AV88*(1.05+AO88+AP88) -> 103.95 | BG88: =$N88*BF88 -> 0 | BH88: =$AV88*(1.1+$AO88+$AP88) -> 108.9 | BJ88: =N88*BI88 -> 0 | BK88: =AV88*(1.15+AO88+AP88) -> 113.85 | BM88: =N88*BL88 -> 0 | BN88: =AV88*(1.2+AO88+AP88) -> 118.8 | BO88: =(AD88*AW88)+(BC88*BE88)+(BF88*BH88)+(BI88*BK88)+(BL88*BN88) -> 0 | BP88: =AD88+BC88+BF88+BI88+BL88 -> 0 | BQ88: =N88*BP88 -> 0 | BR88: 825
A89: ="LA3"&REPT(0,4-LEN(BR89))&BR89 -> LA30387 | B89: Incut Edges | C89: Incut Edges 01 | D89: Holds | F89: Incut,Edges | G89: Mini | H89: Positive | I89: Classic | J89: Beginner,Advanced Beginner,Intermediate,Expert,Competition | K89: Bouldering,Lead,Competition | L89: Medium | M89: 3.0972 | N89: 20 | AD89: =SUM(Q89:AC89) -> 0 | AE89: =N89*AD89 -> 0 | AN89: 124 | AR89: 99 | AV89: =IF(OrderFormType="Wholesale",CEILING(AR89*ExchRate,ExchRateRoundUpTo),CEILING(AN89*ExchRate,ExchRateRoundUpTo)/1.22) -> 99 | AW89: =AV89*(1+AO89+AP89) -> 99 | BC89: =SUM(AX89:BB89) -> 0 | BD89: =N89*BC89 -> 0 | BE89: =AV89*(1.05+AO89+AP89) -> 103.95 | BG89: =$N89*BF89 -> 0 | BH89: =$AV89*(1.1+$AO89+$AP89) -> 108.9 | BJ89: =N89*BI89 -> 0 | BK89: =AV89*(1.15+AO89+AP89) -> 113.85 | BM89: =N89*BL89 -> 0 | BN89: =AV89*(1.2+AO89+AP89) -> 118.8 | BO89: =(AD89*AW89)+(BC89*BE89)+(BF89*BH89)+(BI89*BK89)+(BL89*BN89) -> 0 | BP89: =AD89+BC89+BF89+BI89+BL89 -> 0 | BQ89: =N89*BP89 -> 0 | BR89: 387
A90: ="LA3"&REPT(0,4-LEN(BR90))&BR90 -> LA30417 | B90: Incut Edges | C90: Incut Edges 02 | D90: Holds | F90: Incut,Edges | G90: Mini | H90: Positive | I90: Classic | J90: Beginner,Advanced Beginner,Intermediate,Expert,Competition | K90: Bouldering,Lead,Competition | L90: Medium | M90: 3.6312 | N90: 20 | AD90: =SUM(Q90:AC90) -> 0 | AE90: =N90*AD90 -> 0 | AN90: 124 | AR90: 99 | AV90: =IF(OrderFormType="Wholesale",CEILING(AR90*ExchRate,ExchRateRoundUpTo),CEILING(AN90*ExchRate,ExchRateRoundUpTo)/1.22) -> 99 | AW90: =AV90*(1+AO90+AP90) -> 99 | BC90: =SUM(AX90:BB90) -> 0 | BD90: =N90*BC90 -> 0 | BE90: =AV90*(1.05+AO90+AP90) -> 103.95 | BG90: =$N90*BF90 -> 0 | BH90: =$AV90*(1.1+$AO90+$AP90) -> 108.9 | BJ90: =N90*BI90 -> 0 | BK90: =AV90*(1.15+AO90+AP90) -> 113.85 | BM90: =N90*BL90 -> 0 | BN90: =AV90*(1.2+AO90+AP90) -> 118.8 | BO90: =(AD90*AW90)+(BC90*BE90)+(BF90*BH90)+(BI90*BK90)+(BL90*BN90) -> 0 | BP90: =AD90+BC90+BF90+BI90+BL90 -> 0 | BQ90: =N90*BP90 -> 0 | BR90: 417
A91: ="LA3"&REPT(0,4-LEN(BR91))&BR91 -> LA30412 | B91: Incut Edges | C91: Incut Edges 03 | D91: Holds | F91: Incut,Edges | G91: Mini | H91: Positive | I91: Classic | J91: Beginner,Advanced Beginner,Intermediate,Expert,Competition | K91: Bouldering,Lead,Competition | L91: Medium | M91: 3.4888 | N91: 20 | AD91: =SUM(Q91:AC91) -> 0 | AE91: =N91*AD91 -> 0 | AN91: 124 | AR91: 99 | AV91: =IF(OrderFormType="Wholesale",CEILING(AR91*ExchRate,ExchRateRoundUpTo),CEILING(AN91*ExchRate,ExchRateRoundUpTo)/1.22) -> 99 | AW91: =AV91*(1+AO91+AP91) -> 99 | BC91: =SUM(AX91:BB91) -> 0 | BD91: =N91*BC91 -> 0 | BE91: =AV91*(1.05+AO91+AP91) -> 103.95 | BG91: =$N91*BF91 -> 0 | BH91: =$AV91*(1.1+$AO91+$AP91) -> 108.9 | BJ91: =N91*BI91 -> 0 | BK91: =AV91*(1.15+AO91+AP91) -> 113.85 | BM91: =N91*BL91 -> 0 | BN91: =AV91*(1.2+AO91+AP91) -> 118.8 | BO91: =(AD91*AW91)+(BC91*BE91)+(BF91*BH91)+(BI91*BK91)+(BL91*BN91) -> 0 | BP91: =AD91+BC91+BF91+BI91+BL91 -> 0 | BQ91: =N91*BP91 -> 0 | BR91: 412
A92: ="LA3"&REPT(0,4-LEN(BR92))&BR92 -> LA30388 | B92: Incut Edges | C92: Incut Edges 04 | D92: Holds | F92: Incut,Edges | G92: Mini | H92: Positive | I92: Classic | J92: Beginner,Advanced Beginner,Intermediate,Expert,Competition | K92: Bouldering,Lead,Competition | L92: Medium | M92: 2.8302 | N92: 20 | AD92: =SUM(Q92:AC92) -> 0 | AE92: =N92*AD92 -> 0 | AN92: 124 | AR92: 99 | AV92: =IF(OrderFormType="Wholesale",CEILING(AR92*ExchRate,ExchRateRoundUpTo),CEILING(AN92*ExchRate,ExchRateRoundUpTo)/1.22) -> 99 | AW92: =AV92*(1+AO92+AP92) -> 99 | BC92: =SUM(AX92:BB92) -> 0 | BD92: =N92*BC92 -> 0 | BE92: =AV92*(1.05+AO92+AP92) -> 103.95 | BG92: =$N92*BF92 -> 0 | BH92: =$AV92*(1.1+$AO92+$AP92) -> 108.9 | BJ92: =N92*BI92 -> 0 | BK92: =AV92*(1.15+AO92+AP92) -> 113.85 | BM92: =N92*BL92 -> 0 | BN92: =AV92*(1.2+AO92+AP92) -> 118.8 | BO92: =(AD92*AW92)+(BC92*BE92)+(BF92*BH92)+(BI92*BK92)+(BL92*BN92) -> 0 | BP92: =AD92+BC92+BF92+BI92+BL92 -> 0 | BQ92: =N92*BP92 -> 0 | BR92: 388
A93: ="LA3"&REPT(0,4-LEN(BR93))&BR93 -> LA30419 | B93: Incut Edges | C93: Incut Edges 05 | D93: Holds | F93: Incut,Edges | G93: Mini | H93: Positive | I93: Classic | J93: Beginner,Advanced Beginner,Intermediate,Expert,Competition | K93: Bouldering,Lead,Competition | L93: Medium | M93: 3.275 | N93: 20 | AD93: =SUM(Q93:AC93) -> 0 | AE93: =N93*AD93 -> 0 | AN93: 124 | AR93: 99 | AV93: =IF(OrderFormType="Wholesale",CEILING(AR93*ExchRate,ExchRateRoundUpTo),CEILING(AN93*ExchRate,ExchRateRoundUpTo)/1.22) -> 99 | AW93: =AV93*(1+AO93+AP93) -> 99 | BC93: =SUM(AX93:BB93) -> 0 | BD93: =N93*BC93 -> 0 | BE93: =AV93*(1.05+AO93+AP93) -> 103.95 | BG93: =$N93*BF93 -> 0 | BH93: =$AV93*(1.1+$AO93+$AP93) -> 108.9 | BJ93: =N93*BI93 -> 0 | BK93: =AV93*(1.15+AO93+AP93) -> 113.85 | BM93: =N93*BL93 -> 0 | BN93: =AV93*(1.2+AO93+AP93) -> 118.8 | BO93: =(AD93*AW93)+(BC93*BE93)+(BF93*BH93)+(BI93*BK93)+(BL93*BN93) -> 0 | BP93: =AD93+BC93+BF93+BI93+BL93 -> 0 | BQ93: =N93*BP93 -> 0 | BR93: 419
C94: Mini Goodies
A95: ="LA3"&REPT(0,4-LEN(BR95))&BR95 -> LA30824 | B95: Mini Goodies | C95: Dual Handed Mini Goody | D95: Holds | F95: Dual-Handed,Jugs | G95: Standard | H95: Positive | I95: Classic | J95: Beginner,Advanced Beginner,Intermediate,Expert | K95: Bouldering,Lead | L95: Medium | M95: 5.374 | N95: 10 | AD95: =SUM(Q95:AC95) -> 0 | AE95: =N95*AD95 -> 0 | AN95: 149 | AR95: 119 | AV95: =IF(OrderFormType="Wholesale",CEILING(AR95*ExchRate,ExchRateRoundUpTo),CEILING(AN95*ExchRate,ExchRateRoundUpTo)/1.22) -> 119 | AW95: =AV95*(1+AO95+AP95) -> 119 | BC95: =SUM(AX95:BB95) -> 0 | BD95: =N95*BC95 -> 0 | BE95: =AV95*(1.05+AO95+AP95) -> 124.95 | BG95: =$N95*BF95 -> 0 | BH95: =$AV95*(1.1+$AO95+$AP95) -> 130.9 | BJ95: =N95*BI95 -> 0 | BK95: =AV95*(1.15+AO95+AP95) -> 136.85 | BM95: =N95*BL95 -> 0 | BN95: =AV95*(1.2+AO95+AP95) -> 142.8 | BO95: =(AD95*AW95)+(BC95*BE95)+(BF95*BH95)+(BI95*BK95)+(BL95*BN95) -> 0 | BP95: =AD95+BC95+BF95+BI95+BL95 -> 0 | BQ95: =N95*BP95 -> 0 | BR95: 824
A96: ="LA3"&REPT(0,4-LEN(BR96))&BR96 -> LA30375 | B96: Mini Goodies | C96: Mini Goody 01 | D96: Holds | F96: Jugs | G96: Mini | H96: Positive | I96: Classic | J96: Beginner,Advanced Beginner,Intermediate,Expert | K96: Bouldering,Lead | L96: Medium | M96: 4.072 | N96: 15 | AD96: =SUM(Q96:AC96) -> 0 | AE96: =N96*AD96 -> 0 | AN96: 109 | AR96: 89 | AV96: =IF(OrderFormType="Wholesale",CEILING(AR96*ExchRate,ExchRateRoundUpTo),CEILING(AN96*ExchRate,ExchRateRoundUpTo)/1.22) -> 89 | AW96: =AV96*(1+AO96+AP96) -> 89 | BC96: =SUM(AX96:BB96) -> 0 | BD96: =N96*BC96 -> 0 | BE96: =AV96*(1.05+AO96+AP96) -> 93.45 | BG96: =$N96*BF96 -> 0 | BH96: =$AV96*(1.1+$AO96+$AP96) -> 97.9 | BJ96: =N96*BI96 -> 0 | BK96: =AV96*(1.15+AO96+AP96) -> 102.35 | BM96: =N96*BL96 -> 0 | BN96: =AV96*(1.2+AO96+AP96) -> 106.8 | BO96: =(AD96*AW96)+(BC96*BE96)+(BF96*BH96)+(BI96*BK96)+(BL96*BN96) -> 0 | BP96: =AD96+BC96+BF96+BI96+BL96 -> 0 | BQ96: =N96*BP96 -> 0 | BR96: 375
A97: ="LA3"&REPT(0,4-LEN(BR97))&BR97 -> LA30376 | B97: Mini Goodies | C97: Mini Goody 02 | D97: Holds | F97: Jugs | G97: Mini | H97: Positive | I97: Classic | J97: Beginner,Advanced Beginner,Intermediate,Expert | K97: Bouldering,Lead | L97: Medium | M97: 3.9753 | N97: 15 | AD97: =SUM(Q97:AC97) -> 0 | AE97: =N97*AD97 -> 0 | AN97: 109 | AR97: 89 | AV97: =IF(OrderFormType="Wholesale",CEILING(AR97*ExchRate,ExchRateRoundUpTo),CEILING(AN97*ExchRate,ExchRateRoundUpTo)/1.22) -> 89 | AW97: =AV97*(1+AO97+AP97) -> 89 | BC97: =SUM(AX97:BB97) -> 0 | BD97: =N97*BC97 -> 0 | BE97: =AV97*(1.05+AO97+AP97) -> 93.45 | BG97: =$N97*BF97 -> 0 | BH97: =$AV97*(1.1+$AO97+$AP97) -> 97.9 | BJ97: =N97*BI97 -> 0 | BK97: =AV97*(1.15+AO97+AP97) -> 102.35 | BM97: =N97*BL97 -> 0 | BN97: =AV97*(1.2+AO97+AP97) -> 106.8 | BO97: =(AD97*AW97)+(BC97*BE97)+(BF97*BH97)+(BI97*BK97)+(BL97*BN97) -> 0 | BP97: =AD97+BC97+BF97+BI97+BL97 -> 0 | BQ97: =N97*BP97 -> 0 | BR97: 376
A98: ="LA3"&REPT(0,4-LEN(BR98))&BR98 -> LA30377 | B98: Mini Goodies | C98: Mini Goody 03 | D98: Holds | F98: Jugs | G98: Mini | H98: Positive | I98: Classic | J98: Beginner,Advanced Beginner,Intermediate,Expert | K98: Bouldering,Lead | L98: Medium | M98: 4.41 | N98: 15 | AD98: =SUM(Q98:AC98) -> 0 | AE98: =N98*AD98 -> 0 | AN98: 109 | AR98: 89 | AV98: =IF(OrderFormType="Wholesale",CEILING(AR98*ExchRate,ExchRateRoundUpTo),CEILING(AN98*ExchRate,ExchRateRoundUpTo)/1.22) -> 89 | AW98: =AV98*(1+AO98+AP98) -> 89 | BC98: =SUM(AX98:BB98) -> 0 | BD98: =N98*BC98 -> 0 | BE98: =AV98*(1.05+AO98+AP98) -> 93.45 | BG98: =$N98*BF98 -> 0 | BH98: =$AV98*(1.1+$AO98+$AP98) -> 97.9 | BJ98: =N98*BI98 -> 0 | BK98: =AV98*(1.15+AO98+AP98) -> 102.35 | BM98: =N98*BL98 -> 0 | BN98: =AV98*(1.2+AO98+AP98) -> 106.8 | BO98: =(AD98*AW98)+(BC98*BE98)+(BF98*BH98)+(BI98*BK98)+(BL98*BN98) -> 0 | BP98: =AD98+BC98+BF98+BI98+BL98 -> 0 | BQ98: =N98*BP98 -> 0 | BR98: 377
A99: ="LA3"&REPT(0,4-LEN(BR99))&BR99 -> LA30373 | B99: Mini Goodies | C99: Mini Goody 04 | D99: Holds | F99: Jugs | G99: Mini | H99: Positive | I99: Classic | J99: Beginner,Advanced Beginner,Intermediate,Expert | K99: Bouldering,Lead | L99: Medium | M99: 4.384 | N99: 15 | AD99: =SUM(Q99:AC99) -> 0 | AE99: =N99*AD99 -> 0 | AN99: 109 | AR99: 89 | AV99: =IF(OrderFormType="Wholesale",CEILING(AR99*ExchRate,ExchRateRoundUpTo),CEILING(AN99*ExchRate,ExchRateRoundUpTo)/1.22) -> 89 | AW99: =AV99*(1+AO99+AP99) -> 89 | BC99: =SUM(AX99:BB99) -> 0 | BD99: =N99*BC99 -> 0 | BE99: =AV99*(1.05+AO99+AP99) -> 93.45 | BG99: =$N99*BF99 -> 0 | BH99: =$AV99*(1.1+$AO99+$AP99) -> 97.9 | BJ99: =N99*BI99 -> 0 | BK99: =AV99*(1.15+AO99+AP99) -> 102.35 | BM99: =N99*BL99 -> 0 | BN99: =AV99*(1.2+AO99+AP99) -> 106.8 | BO99: =(AD99*AW99)+(BC99*BE99)+(BF99*BH99)+(BI99*BK99)+(BL99*BN99) -> 0 | BP99: =AD99+BC99+BF99+BI99+BL99 -> 0 | BQ99: =N99*BP99 -> 0 | BR99: 373
A100: ="LA3"&REPT(0,4-LEN(BR100))&BR100 -> LA30372 | B100: Mini Goodies | C100: Mini Goody 05 | D100: Holds | F100: Jugs | G100: Mini | H100: Positive | I100: Classic | J100: Beginner,Advanced Beginner,Intermediate,Expert | K100: Bouldering,Lead | L100: Medium | M100: 4.44 | N100: 15 | AD100: =SUM(Q100:AC100) -> 0 | AE100: =N100*AD100 -> 0 | AN100: 109 | AR100: 89 | AV100: =IF(OrderFormType="Wholesale",CEILING(AR100*ExchRate,ExchRateRoundUpTo),CEILING(AN100*ExchRate,ExchRateRoundUpTo)/1.22) -> 89 | AW100: =AV100*(1+AO100+AP100) -> 89 | BC100: =SUM(AX100:BB100) -> 0 | BD100: =N100*BC100 -> 0 | BE100: =AV100*(1.05+AO100+AP100) -> 93.45 | BG100: =$N100*BF100 -> 0 | BH100: =$AV100*(1.1+$AO100+$AP100) -> 97.9 | BJ100: =N100*BI100 -> 0 | BK100: =AV100*(1.15+AO100+AP100) -> 102.35 | BM100: =N100*BL100 -> 0 | BN100: =AV100*(1.2+AO100+AP100) -> 106.8 | BO100: =(AD100*AW100)+(BC100*BE100)+(BF100*BH100)+(BI100*BK100)+(BL100*BN100) -> 0 | BP100: =AD100+BC100+BF100+BI100+BL100 -> 0 | BQ100: =N100*BP100 -> 0 | BR100: 372
A101: ="LA3"&REPT(0,4-LEN(BR101))&BR101 -> LA30374 | B101: Mini Goodies | C101: Mini Goody 06 | D101: Holds | F101: Jugs | G101: Mini | H101: Positive | I101: Classic | J101: Beginner,Advanced Beginner,Intermediate,Expert | K101: Bouldering,Lead | L101: Medium | M101: 4.4322 | N101: 15 | AD101: =SUM(Q101:AC101) -> 0 | AE101: =N101*AD101 -> 0 | AN101: 109 | AR101: 89 | AV101: =IF(OrderFormType="Wholesale",CEILING(AR101*ExchRate,ExchRateRoundUpTo),CEILING(AN101*ExchRate,ExchRateRoundUpTo)/1.22) -> 89 | AW101: =AV101*(1+AO101+AP101) -> 89 | BC101: =SUM(AX101:BB101) -> 0 | BD101: =N101*BC101 -> 0 | BE101: =AV101*(1.05+AO101+AP101) -> 93.45 | BG101: =$N101*BF101 -> 0 | BH101: =$AV101*(1.1+$AO101+$AP101) -> 97.9 | BJ101: =N101*BI101 -> 0 | BK101: =AV101*(1.15+AO101+AP101) -> 102.35 | BM101: =N101*BL101 -> 0 | BN101: =AV101*(1.2+AO101+AP101) -> 106.8 | BO101: =(AD101*AW101)+(BC101*BE101)+(BF101*BH101)+(BI101*BK101)+(BL101*BN101) -> 0 | BP101: =AD101+BC101+BF101+BI101+BL101 -> 0 | BQ101: =N101*BP101 -> 0 | BR101: 374
C102: Goody
A103: ="LA3"&REPT(0,4-LEN(BR103))&BR103 -> LA30903 | B103: Goody | C103: Goody 01 | D103: Holds | F103: Jugs | G103: Standard | H103: Super Positive | I103: Classic | J103: Beginner,Advanced Beginner,Intermediate,Expert | K103: Bouldering,Lead | L103: Medium | M103: 6.247 | N103: 10 | AD103: =SUM(Q103:AC103) -> 0 | AE103: =N103*AD103 -> 0 | AN103: 149 | AR103: 119 | AV103: =IF(OrderFormType="Wholesale",CEILING(AR103*ExchRate,ExchRateRoundUpTo),CEILING(AN103*ExchRate,ExchRateRoundUpTo)/1.22) -> 119 | AW103: =AV103*(1+AO103+AP103) -> 119 | BC103: =SUM(AX103:BB103) -> 0 | BD103: =N103*BC103 -> 0 | BE103: =AV103*(1.05+AO103+AP103) -> 124.95 | BG103: =$N103*BF103 -> 0 | BH103: =$AV103*(1.1+$AO103+$AP103) -> 130.9 | BJ103: =N103*BI103 -> 0 | BK103: =AV103*(1.15+AO103+AP103) -> 136.85 | BM103: =N103*BL103 -> 0 | BN103: =AV103*(1.2+AO103+AP103) -> 142.8 | BO103: =(AD103*AW103)+(BC103*BE103)+(BF103*BH103)+(BI103*BK103)+(BL103*BN103) -> 0 | BP103: =AD103+BC103+BF103+BI103+BL103 -> 0 | BQ103: =N103*BP103 -> 0 | BR103: 903
A104: ="LA3"&REPT(0,4-LEN(BR104))&BR104 -> LA30942 | B104: Goody | C104: Goody 02 | D104: Holds | F104: Jugs | G104: Standard | H104: Super Positive | I104: Classic | J104: Beginner,Advanced Beginner,Intermediate,Expert | K104: Bouldering,Lead | L104: Medium | M104: 5.734 | N104: 10 | AD104: =SUM(Q104:AC104) -> 0 | AE104: =N104*AD104 -> 0 | AN104: 149 | AR104: 119 | AV104: =IF(OrderFormType="Wholesale",CEILING(AR104*ExchRate,ExchRateRoundUpTo),CEILING(AN104*ExchRate,ExchRateRoundUpTo)/1.22) -> 119 | AW104: =AV104*(1+AO104+AP104) -> 119 | BC104: =SUM(AX104:BB104) -> 0 | BD104: =N104*BC104 -> 0 | BE104: =AV104*(1.05+AO104+AP104) -> 124.95 | BG104: =$N104*BF104 -> 0 | BH104: =$AV104*(1.1+$AO104+$AP104) -> 130.9 | BJ104: =N104*BI104 -> 0 | BK104: =AV104*(1.15+AO104+AP104) -> 136.85 | BM104: =N104*BL104 -> 0 | BN104: =AV104*(1.2+AO104+AP104) -> 142.8 | BO104: =(AD104*AW104)+(BC104*BE104)+(BF104*BH104)+(BI104*BK104)+(BL104*BN104) -> 0 | BP104: =AD104+BC104+BF104+BI104+BL104 -> 0 | BQ104: =N104*BP104 -> 0 | BR104: 942
